Workbook
Name ________dai1: #REF!
Name ________dai1: #REF!
Name ________dai1: No26休日_方向別A!________dai1
Name ________dai1: No26休日_方向別B!________dai1
Name ________dai1: No26休日_方向別C!________dai1
Name ________dai1: No26休日_方向別D!________dai1
Name ________dai1: #REF!
Name ________dai1: #REF!
Name ________dai1: #REF!
Name ________dai1: No3休日_方向別A!________dai1
Name ________dai1: No3休日_方向別B!________dai1
Name ________dai1: No3休日_方向別C!________dai1
Name ________dai1: No3休日_方向別D!________dai1
Name ________dai1: #REF!
Name ________dai1: #REF!
Name ________dai1: #REF!
Name ________dai1: No3平日_方向別A!________dai1
Name ________dai1: No3平日_方向別B!________dai1
Name ________dai1: No3平日_方向別C!________dai1
Name ________dai1: No3平日_方向別D!________dai1
Name ________dai1: #REF!
Name ________dai1: #REF!
Name ________dai1: #REF!
Name ________dai1: No8休日_方向別A!________dai1
Name ________dai1: No8休日_方向別B!________dai1
Name ________dai1: No8休日_方向別C!________dai1
Name ________dai1: No8休日_方向別D!________dai1
Name ________dai1: #REF!
Name ________dai1: #REF!
Name ________dai1: #REF!
Name ________dai1: No8平日_方向別A!________dai1
Name ________dai1: No8平日_方向別B!________dai1
Name ________dai1: No8平日_方向別C!________dai1
Name ________dai1: No8平日_方向別D!________dai1
Name ________dai1: #REF!
Name ________dai1: #REF!
Name ________dai2: #REF!
Name ________dai2: #REF!
Name ________dai2: No26休日_方向別A!________dai2
Name ________dai2: No26休日_方向別B!________dai2
Name ________dai2: No26休日_方向別C!________dai2
Name ________dai2: No26休日_方向別D!________dai2
Name ________dai2: #REF!
Name ________dai2: #REF!
Name ________dai2: #REF!
Name ________dai2: No3休日_方向別A!________dai2
Name ________dai2: No3休日_方向別B!________dai2
Name ________dai2: No3休日_方向別C!________dai2
Name ________dai2: No3休日_方向別D!________dai2
Name ________dai2: #REF!
Name ________dai2: #REF!
Name ________dai2: #REF!
Name ________dai2: No3平日_方向別A!________dai2
Name ________dai2: No3平日_方向別B!________dai2
Name ________dai2: No3平日_方向別C!________dai2
Name ________dai2: No3平日_方向別D!________dai2
Name ________dai2: #REF!
Name ________dai2: #REF!
Name ________dai2: #REF!
Name ________dai2: No8休日_方向別A!________dai2

Sheet 提供データについて
A1: 提供データについて
A2: 令和7年度の交通量調査及び平成27年度の交通量調査データを提供する。
A3: なお、日あたり交通量については、提供する12時間あたり交通量に、全国道路・街路情勢調査(道路交通センサス)における近傍地等地点の昼夜率を乗じて用いること。
A5: 令和7年度の調査箇所及び調査日時は以下のとおり。
A6: 地点No3（P6） | B6: 宝塚市役所前
A7: 地点No8（P15） | B7: 小浜
A8: 地点No26（P41） | B8: 市福祉センター前 | D8: ※休日のみ
A9: 平日：令和7年10月21日（火）7時～19時
A10: 休日：令和7年10月19日（日）7時～19時
A12: 平成27年度調査の調査箇所及び調査日時は以下のとおり。
A13: 地点P6 | B13: 宝塚市役所前
A14: 地点P7 | B14: 宝塚中学校前
A15: 地点P15 | B15: 小浜
A16: 地点P25 | B16: 宝塚新大橋南詰
A17: 平日：平成27年7月14日（火）7時～19時
A18: 休日：平成27年7月12日（日）7時～19時

Sheet 令和7年度調査→

Sheet No3計測地点
A2: 地点No | B2: 交差点名 | C2: 住所 | D2: 調査時間 | E2: 調査項目 | G2: 3
A3: 3(P6) | B3: 宝塚市役所前 | C3: 宝塚市１ | D3: 7時～19時 | E3: 交差点交通量 平日・休日
A4: ■設置位置図
A35: ■地点状況写真① | C35: ■地点状況写真② | D35: 関係機関
D36: 道路管理者：
D39: 交通管理者： | E39: 宝塚警察署
D42: その他：

Sheet No3平日_まとめ
A2: 交差点交通量集計表 | H2: 方 向 図
B6: 調査地点： | C6: 宝塚市役所前
B7: 調査月日： | C7: 令和7年10月21日（火）7時～19時
D15: 12時間計（7:00～19:00） | K15: ピーク時間（8:00～9:00）
I16: 大型車混入率（％） | J16: 二輪車 | P16: 大型車混入率（％） | Q16: 二輪車
D17: 小型車 | F17: 大型車 | K17: 小型車 | M17: 大型車
D18: 乗用車 | E18: 小型貨物 | F18: 普通貨物 | G18: バス | H18: 計 | K18: 乗用車 | L18: 小型貨物 | M18: 普通貨物 | N18: バス | O18: 計
A19: 単方向 | B19: 1 | C19: [AからDへ] | D19: 1975 | E19: 437 | F19: 199 | G19: 1 | H19: 2612 | I19: 7.6569678 | J19: 236 | K19: 160 | L19: 47 | M19: 10 | N19: 0 | O19: 217 | P19: 4.6082949 | Q19: 24
B20: 2 | C20: [AからCへ] | D20: 3349 | E20: 704 | F20: 197 | G20: 65 | H20: 4315 | I20: 6.0718424 | J20: 608 | K20: 280 | L20: 82 | M20: 32 | N20: 8 | O20: 402 | P20: 9.9502488 | Q20: 80
B21: 3 | C21: [AからBへ] | D21: 820 | E21: 156 | F21: 29 | G21: 1 | H21: 1006 | I21: 2.9821074 | J21: 125 | K21: 79 | L21: 13 | M21: 2 | N21: 0 | O21: 94 | P21: 2.1276596 | Q21: 11
B22: 4 | C22: [BからAへ] | D22: 1121 | E22: 169 | F22: 43 | G22: 22 | H22: 1355 | I22: 4.797048 | J22: 182 | K22: 99 | L22: 8 | M22: 1 | N22: 2 | O22: 110 | P22: 2.7272727 | Q22: 17
B23: 5 | C23: [BからDへ] | D23: 1405 | E23: 266 | F23: 68 | G23: 16 | H23: 1755 | I23: 4.7863248 | J23: 166 | K23: 152 | L23: 24 | M23: 7 | N23: 2 | O23: 185 | P23: 4.8648649 | Q23: 26
B24: 6 | C24: [BからCへ] | D24: 72 | E24: 18 | F24: 6 | G24: 4 | H24: 100 | I24: 10 | J24: 11 | K24: 8 | L24: 2 | M24: 0 | N24: 2 | O24: 12 | P24: 16.666667 | Q24: 0
B25: 7 | C25: [CからBへ] | D25: 87 | E25: 17 | F25: 5 | G25: 0 | H25: 109 | I25: 4.587156 | J25: 10 | K25: 4 | L25: 1 | M25: 0 | N25: 0 | O25: 5 | P25: - | Q25: 1
B26: 8 | C26: [CからAへ] | D26: 3088 | E26: 599 | F26: 187 | G26: 41 | H26: 3915 | I26: 5.8237548 | J26: 450 | K26: 253 | L26: 44 | M26: 13 | N26: 7 | O26: 317 | P26: 6.3091483 | Q26: 52
B27: 9 | C27: [CからDへ] | D27: 641 | E27: 117 | F27: 55 | G27: 0 | H27: 813 | I27: 6.7650677 | J27: 50 | K27: 35 | L27: 8 | M27: 6 | N27: 0 | O27: 49 | P27: 12.244898 | Q27: 5
B28: 10 | C28: [DからCへ] | D28: 633 | E28: 129 | F28: 74 | G28: 14 | H28: 850 | I28: 10.352941 | J28: 53 | K28: 33 | L28: 12 | M28: 12 | N28: 2 | O28: 59 | P28: 23.728814 | Q28: 5
B29: 11 | C29: [DからBへ] | D29: 1440 | E29: 261 | F29: 84 | G29: 0 | H29: 1785 | I29: 4.7058824 | J29: 155 | K29: 81 | L29: 25 | M29: 14 | N29: 0 | O29: 120 | P29: 11.666667 | Q29: 13
B30: 12 | C30: [DからAへ] | D30: 1311 | E30: 276 | F30: 120 | G30: 2 | H30: 1709 | I30: 7.1386776 | J30: 192 | K30: 96 | L30: 18 | M30: 10 | N30: 0 | O30: 124 | P30: 8.0645161 | Q30: 19
B31: 13 | C31: [からへ] | D31: 0 | E31: 0 | F31: 0 | G31: 0 | H31: 0 | I31: - | J31: 0 | K31: 0 | L31: 0 | M31: 0 | N31: 0 | O31: 0 | P31: - | Q31: 0
B32: 14 | C32: [からへ] | D32: 0 | E32: 0 | F32: 0 | G32: 0 | H32: 0 | I32: - | J32: 0 | K32: 0 | L32: 0 | M32: 0 | N32: 0 | O32: 0 | P32: - | Q32: 0
B33: 15 | C33: [からへ] | D33: 0 | E33: 0 | F33: 0 | G33: 0 | H33: 0 | I33: - | J33: 0 | K33: 0 | L33: 0 | M33: 0 | N33: 0 | O33: 0 | P33: - | Q33: 0
B34: 16 | C34: [からへ] | D34: 0 | E34: 0 | F34: 0 | G34: 0 | H34: 0 | I34: - | J34: 0 | K34: 0 | L34: 0 | M34: 0 | N34: 0 | O34: 0 | P34: - | Q34: 0
B35: 17 | C35: [からへ] | D35: 0 | E35: 0 | F35: 0 | G35: 0 | H35: 0 | I35: - | J35: 0 | K35: 0 | L35: 0 | M35: 0 | N35: 0 | O35: 0 | P35: - | Q35: 0
B36: 18 | C36: [からへ] | D36: 0 | E36: 0 | F36: 0 | G36: 0 | H36: 0 | I36: - | J36: 0 | K36: 0 | L36: 0 | M36: 0 | N36: 0 | O36: 0 | P36: - | Q36: 0
B37: 19 | C37: [からへ] | D37: 0 | E37: 0 | F37: 0 | G37: 0 | H37: 0 | I37: - | J37: 0 | K37: 0 | L37: 0 | M37: 0 | N37: 0 | O37: 0 | P37: - | Q37: 0
B38: 20 | C38: [からへ] | D38: 0 | E38: 0 | F38: 0 | G38: 0 | H38: 0 | I38: - | J38: 0 | K38: 0 | L38: 0 | M38: 0 | N38: 0 | O38: 0 | P38: - | Q38: 0
B39: 21 | C39: [からへ] | D39: 0 | E39: 0 | F39: 0 | G39: 0 | H39: 0 | I39: - | J39: 0 | K39: 0 | L39: 0 | M39: 0 | N39: 0 | O39: 0 | P39: - | Q39: 0
A40: 流入 | B40: A | C40: 流入計 | D40: 6144 | E40: 1297 | F40: 425 | G40: 67 | H40: 7933 | I40: 6.2019413 | J40: 969 | K40: 519 | L40: 142 | M40: 44 | N40: 8 | O40: 713 | P40: 7.2931276 | Q40: 115
B41: B | C41: 流入計 | D41: 2598 | E41: 453 | F41: 117 | G41: 42 | H41: 3210 | I41: 4.953271 | J41: 359 | K41: 259 | L41: 34 | M41: 8 | N41: 6 | O41: 307 | P41: 4.5602606 | Q41: 43
B42: C | C42: 流入計 | D42: 3816 | E42: 733 | F42: 247 | G42: 41 | H42: 4837 | I42: 5.9541038 | J42: 510 | K42: 292 | L42: 53 | M42: 19 | N42: 7 | O42: 371 | P42: 7.0080863 | Q42: 58
B43: D | C43: 流入計 | D43: 3384 | E43: 666 | F43: 278 | G43: 16 | H43: 4344 | I43: 6.7679558 | J43: 400 | K43: 210 | L43: 55 | M43: 36 | N43: 2 | O43: 303 | P43: 12.541254 | Q43: 37
B44: E | C44: 流入計 | D44: 0 | E44: 0 | F44: 0 | G44: 0 | H44: 0 | I44: - | J44: 0 | K44: 0 | L44: 0 | M44: 0 | N44: 0 | O44: 0 | P44: - | Q44: 0
A45: 流出 | B45: A | C45: 流出計 | D45: 5520 | E45: 1044 | F45: 350 | G45: 65 | H45: 6979 | I45: 5.9464107 | J45: 824 | K45: 448 | L45: 70 | M45: 24 | N45: 9 | O45: 551 | P45: 5.9891107 | Q45: 88
B46: B | C46: 流出計 | D46: 2347 | E46: 434 | F46: 118 | G46: 1 | H46: 2900 | I46: 4.1034483 | J46: 290 | K46: 164 | L46: 39 | M46: 16 | N46: 0 | O46: 219 | P46: 7.3059361 | Q46: 25
B47: C | C47: 流出計 | D47: 4054 | E47: 851 | F47: 277 | G47: 83 | H47: 5265 | I47: 6.8376068 | J47: 672 | K47: 321 | L47: 96 | M47: 44 | N47: 12 | O47: 473 | P47: 11.839323 | Q47: 85
B48: D | C48: 流出計 | D48: 4021 | E48: 820 | F48: 322 | G48: 17 | H48: 5180 | I48: 6.5444015 | J48: 452 | K48: 347 | L48: 79 | M48: 23 | N48: 2 | O48: 451 | P48: 5.5432373 | Q48: 55
B49: E | C49: 流出計 | D49: 0 | E49: 0 | F49: 0 | G49: 0 | H49: 0 | I49: - | J49: 0 | K49: 0 | L49: 0 | M49: 0 | N49: 0 | O49: 0 | P49: - | Q49: 0
A50: 断面 | B50: A断面計 | D50: 11664 | E50: 2341 | F50: 775 | G50: 132 | H50: 14912 | I50: 6.0823498 | J50: 1793 | K50: 967 | L50: 212 | M50: 68 | N50: 17 | O50: 1264 | P50: 6.7246835 | Q50: 203
B51: B断面計 | D51: 4945 | E51: 887 | F51: 235 | G51: 43 | H51: 6110 | I51: 4.5499182 | J51: 649 | K51: 423 | L51: 73 | M51: 24 | N51: 6 | O51: 526 | P51: 5.7034221 | Q51: 68
...

Sheet No3平日_交差点計
B1: 交差点交通量集計表（自動車類）
B3: 調査地点： | C3: 宝塚市役所前
B4: 調査日： | C4: 令和7年10月21日（火）7時～19時
B6: 方向 | C6: 交差点計
B7: 種別 | C7: 小型車 | E7: 大型車 | G7: 合計 | H7: 大型車混入率 | I7: 二輪車
C8: 乗用車 | D8: 小型貨物 | E8: 普通貨物 | F8: バス
B9: 時間帯 | C9: (台) | D9: (台) | E9: (台) | F9: (台) | G9: (台) | H9: (％) | I9: (台)
A10: 7 | B10: 7:00-8:00 | C10: 1126 | D10: 259 | E10: 92 | F10: 11 | G10: 1488 | H10: 6.922043 | I10: 218
A11: 8 | B11: 8:00-9:00 | C11: 1280 | D11: 284 | E11: 107 | F11: 23 | G11: 1694 | H11: 7.674144 | I11: 253
A12: 9 | B12: 9:00-10:00 | C12: 1267 | D12: 284 | E12: 147 | F12: 15 | G12: 1713 | H12: 9.4570928 | I12: 159
A13: 10 | B13: 10:00-11:00 | C13: 1407 | D13: 264 | E13: 128 | F13: 12 | G13: 1811 | H13: 7.7305356 | I13: 179
A14: 11 | B14: 11:00-12:00 | C14: 1308 | D14: 290 | E14: 112 | F14: 11 | G14: 1721 | H14: 7.1470076 | I14: 154
A15: 12 | B15: 12:00-13:00 | C15: 1359 | D15: 231 | E15: 88 | F15: 11 | G15: 1689 | H15: 5.8614565 | I15: 180
A16: 13 | B16: 13:00-14:00 | C16: 1289 | D16: 280 | E16: 105 | F16: 9 | G16: 1683 | H16: 6.7736185 | I16: 153
A17: 14 | B17: 14:00-15:00 | C17: 1260 | D17: 276 | E17: 89 | F17: 15 | G17: 1640 | H17: 6.3414634 | I17: 144
A18: 15 | B18: 15:00-16:00 | C18: 1382 | D18: 295 | E18: 68 | F18: 19 | G18: 1764 | H18: 4.9319728 | I18: 160
A19: 16 | B19: 16:00-17:00 | C19: 1420 | D19: 287 | E19: 59 | F19: 18 | G19: 1784 | H19: 4.3161435 | I19: 196
A20: 17 | B20: 17:00-18:00 | C20: 1456 | D20: 228 | E20: 53 | F20: 12 | G20: 1749 | H20: 3.7164094 | I20: 230
A21: 18 | B21: 18:00-19:00 | C21: 1388 | D21: 171 | E21: 19 | F21: 10 | G21: 1588 | H21: 1.8261965 | I21: 212
B22: 全時間合計 | C22: 15942 | D22: 3149 | E22: 1067 | F22: 166 | G22: 20324 | H22: 6.0667191 | I22: 2238

Sheet No3平日_流入計
B1: 交差点交通量集計表（自動車類）
B3: 調査地点： | C3: 宝塚市役所前
B4: 調査日： | C4: 令和7年10月21日（火）7時～19時
B6: 方向 | C6: A
C7: 小型車 | E7: 大型車 | G7: 合計 | H7: 大型車混入率 | I7: 二輪車
B8: 種別 | C8: 乗用車 | D8: 小型貨物 | E8: 普通貨物 | F8: バス
B9: 時間帯 | C9: (台) | D9: (台) | E9: (台) | F9: (台) | G9: (台) | H9: (％) | I9: (台)
A10: 7 | B10: 7:00-8:00 | C10: 447 | D10: 133 | E10: 33 | F10: 3 | G10: 616 | H10: 5.8441558 | I10: 85
A11: 8 | B11: 8:00-9:00 | C11: 519 | D11: 142 | E11: 44 | F11: 8 | G11: 713 | H11: 7.2931276 | I11: 115
A12: 9 | B12: 9:00-10:00 | C12: 476 | D12: 130 | E12: 50 | F12: 7 | G12: 663 | H12: 8.5972851 | I12: 72
A13: 10 | B13: 10:00-11:00 | C13: 543 | D13: 108 | E13: 56 | F13: 5 | G13: 712 | H13: 8.5674157 | I13: 91
A14: 11 | B14: 11:00-12:00 | C14: 475 | D14: 108 | E14: 41 | F14: 4 | G14: 628 | H14: 7.1656051 | I14: 62
A15: 12 | B15: 12:00-13:00 | C15: 478 | D15: 97 | E15: 39 | F15: 4 | G15: 618 | H15: 6.9579288 | I15: 67
A16: 13 | B16: 13:00-14:00 | C16: 498 | D16: 102 | E16: 45 | F16: 4 | G16: 649 | H16: 7.550077 | I16: 73
A17: 14 | B17: 14:00-15:00 | C17: 438 | D17: 114 | E17: 37 | F17: 8 | G17: 597 | H17: 7.5376884 | I17: 60
A18: 15 | B18: 15:00-16:00 | C18: 510 | D18: 92 | E18: 18 | F18: 10 | G18: 630 | H18: 4.4444444 | I18: 65
A19: 16 | B19: 16:00-17:00 | C19: 561 | D19: 101 | E19: 23 | F19: 5 | G19: 690 | H19: 4.057971 | I19: 77
A20: 17 | B20: 17:00-18:00 | C20: 589 | D20: 91 | E20: 28 | F20: 6 | G20: 714 | H20: 4.7619048 | I20: 104
A21: 18 | B21: 18:00-19:00 | C21: 610 | D21: 79 | E21: 11 | F21: 3 | G21: 703 | H21: 1.9914651 | I21: 98
B22: 全時間合計 | C22: 6144 | D22: 1297 | E22: 425 | F22: 67 | G22: 7933 | H22: 6.2019413 | I22: 969
B24: 方向 | C24: B
C25: 小型車 | E25: 大型車 | G25: 合計 | H25: 大型車混入率 | I25: 二輪車
B26: 種別 | C26: 乗用車 | D26: 小型貨物 | E26: 普通貨物 | F26: バス
B27: 時間帯 | C27: (台) | D27: (台) | E27: (台) | F27: (台) | G27: (台) | H27: (％) | I27: (台)
A28: 7 | B28: 7:00-8:00 | C28: 222 | D28: 26 | E28: 5 | F28: 5 | G28: 258 | H28: 3.875969 | I28: 49
A29: 8 | B29: 8:00-9:00 | C29: 259 | D29: 34 | E29: 8 | F29: 6 | G29: 307 | H29: 4.5602606 | I29: 43
A30: 9 | B30: 9:00-10:00 | C30: 246 | D30: 35 | E30: 9 | F30: 3 | G30: 293 | H30: 4.0955631 | I30: 37
A31: 10 | B31: 10:00-11:00 | C31: 264 | D31: 37 | E31: 13 | F31: 3 | G31: 317 | H31: 5.0473186 | I31: 26
A32: 11 | B32: 11:00-12:00 | C32: 223 | D32: 41 | E32: 18 | F32: 3 | G32: 285 | H32: 7.3684211 | I32: 23
A33: 12 | B33: 12:00-13:00 | C33: 220 | D33: 37 | E33: 4 | F33: 3 | G33: 264 | H33: 2.6515152 | I33: 28
A34: 13 | B34: 13:00-14:00 | C34: 206 | D34: 56 | E34: 11 | F34: 3 | G34: 276 | H34: 5.0724638 | I34: 18
A35: 14 | B35: 14:00-15:00 | C35: 195 | D35: 36 | E35: 13 | F35: 3 | G35: 247 | H35: 6.4777328 | I35: 27
A36: 15 | B36: 15:00-16:00 | C36: 199 | D36: 48 | E36: 11 | F36: 5 | G36: 263 | H36: 6.0836502 | I36: 24
A37: 16 | B37: 16:00-17:00 | C37: 182 | D37: 53 | E37: 19 | F37: 3 | G37: 257 | H37: 8.5603113 | I37: 30
A38: 17 | B38: 17:00-18:00 | C38: 213 | D38: 31 | E38: 4 | F38: 3 | G38: 251 | H38: 2.7888446 | I38: 34
A39: 18 | B39: 18:00-19:00 | C39: 169 | D39: 19 | E39: 2 | F39: 2 | G39: 192 | H39: 2.0833333 | I39: 20
B40: 全時間合計 | C40: 2598 | D40: 453 | E40: 117 | F40: 42 | G40: 3210 | H40: 4.953271 | I40: 359
B42: 方向 | C42: C
C43: 小型車 | E43: 大型車 | G43: 合計 | H43: 大型車混入率 | I43: 二輪車
B44: 種別 | C44: 乗用車 | D44: 小型貨物 | E44: 普通貨物 | F44: バス
...

Sheet No3平日_流出計
B1: 交差点交通量集計表（自動車類）
B3: 調査地点： | C3: 宝塚市役所前
B4: 調査日： | C4: 令和7年10月21日（火）7時～19時
B6: 方向 | C6: A
C7: 小型車 | E7: 大型車 | G7: 合 計 | H7: 大型車混入率 | I7: 二輪車
B8: 種別 | C8: 乗用車 | D8: 小型貨物 | E8: 普通貨物 | F8: バス
B9: 時間帯 | C9: (台) | D9: (台) | E9: (台) | F9: (台) | G9: (台) | H9: (％) | I9: (台)
A10: 7 | B10: 7:00- 8:00 | C10: 453 | D10: 90 | E10: 35 | F10: 1 | G10: 579 | H10: 6.2176166 | I10: 94
A11: 8 | B11: 8:00- 9:00 | C11: 448 | D11: 70 | E11: 24 | F11: 9 | G11: 551 | H11: 5.9891107 | I11: 88
A12: 9 | B12: 9:00- 10:00 | C12: 435 | D12: 78 | E12: 55 | F12: 6 | G12: 574 | H12: 10.627178 | I12: 50
A13: 10 | B13: 10:00- 11:00 | C13: 457 | D13: 76 | E13: 44 | F13: 5 | G13: 582 | H13: 8.419244 | I13: 54
A14: 11 | B14: 11:00- 12:00 | C14: 424 | D14: 105 | E14: 43 | F14: 6 | G14: 578 | H14: 8.4775087 | I14: 58
A15: 12 | B15: 12:00- 13:00 | C15: 480 | D15: 71 | E15: 32 | F15: 5 | G15: 588 | H15: 6.292517 | I15: 73
A16: 13 | B16: 13:00- 14:00 | C16: 413 | D16: 96 | E16: 34 | F16: 3 | G16: 546 | H16: 6.7765568 | I16: 50
A17: 14 | B17: 14:00- 15:00 | C17: 463 | D17: 88 | E17: 23 | F17: 6 | G17: 580 | H17: 5 | I17: 58
A18: 15 | B18: 15:00- 16:00 | C18: 475 | D18: 106 | E18: 28 | F18: 5 | G18: 614 | H18: 5.3745928 | I18: 62
A19: 16 | B19: 16:00-17:00 | C19: 509 | D19: 106 | E19: 16 | F19: 11 | G19: 642 | H19: 4.2056075 | I19: 82
A20: 17 | B20: 17:00-18:00 | C20: 489 | D20: 92 | E20: 12 | F20: 4 | G20: 597 | H20: 2.680067 | I20: 79
A21: 18 | B21: 18:00-19:00 | C21: 474 | D21: 66 | E21: 4 | F21: 4 | G21: 548 | H21: 1.459854 | I21: 76
B22: 全時間合計 | C22: 5520 | D22: 1044 | E22: 350 | F22: 65 | G22: 6979 | H22: 5.9464107 | I22: 824
B24: 方向 | C24: B
C25: 小型車 | E25: 大型車 | G25: 合 計 | H25: 大型車混入率 | I25: 二輪車
B26: 種別 | C26: 乗用車 | D26: 小型貨物 | E26: 普通貨物 | F26: バス
B27: 時間帯 | C27: (台) | D27: (台) | E27: (台) | F27: (台) | G27: (台) | H27: (％) | I27: (台)
A28: 7 | B28: 7:00- 8:00 | C28: 105 | D28: 22 | E28: 5 | F28: 0 | G28: 132 | H28: 3.7878788 | I28: 23
A29: 8 | B29: 8:00- 9:00 | C29: 164 | D29: 39 | E29: 16 | F29: 0 | G29: 219 | H29: 7.3059361 | I29: 25
A30: 9 | B30: 9:00- 10:00 | C30: 146 | D30: 55 | E30: 22 | F30: 0 | G30: 223 | H30: 9.8654709 | I30: 21
A31: 10 | B31: 10:00- 11:00 | C31: 185 | D31: 48 | E31: 11 | F31: 0 | G31: 244 | H31: 4.5081967 | I31: 24
A32: 11 | B32: 11:00- 12:00 | C32: 188 | D32: 44 | E32: 9 | F32: 0 | G32: 241 | H32: 3.7344398 | I32: 27
A33: 12 | B33: 12:00- 13:00 | C33: 211 | D33: 27 | E33: 12 | F33: 0 | G33: 250 | H33: 4.8 | I33: 24
A34: 13 | B34: 13:00- 14:00 | C34: 197 | D34: 31 | E34: 16 | F34: 0 | G34: 244 | H34: 6.557377 | I34: 24
A35: 14 | B35: 14:00- 15:00 | C35: 185 | D35: 39 | E35: 12 | F35: 0 | G35: 236 | H35: 5.0847458 | I35: 19
A36: 15 | B36: 15:00- 16:00 | C36: 222 | D36: 48 | E36: 7 | F36: 1 | G36: 278 | H36: 2.8776978 | I36: 23
A37: 16 | B37: 16:00-17:00 | C37: 249 | D37: 31 | E37: 3 | F37: 0 | G37: 283 | H37: 1.0600707 | I37: 26
A38: 17 | B38: 17:00-18:00 | C38: 269 | D38: 31 | E38: 4 | F38: 0 | G38: 304 | H38: 1.3157895 | I38: 23
A39: 18 | B39: 18:00-19:00 | C39: 226 | D39: 19 | E39: 1 | F39: 0 | G39: 246 | H39: 0.40650407 | I39: 31
B40: 全時間合計 | C40: 2347 | D40: 434 | E40: 118 | F40: 1 | G40: 2900 | H40: 4.1034483 | I40: 290
B42: 方向 | C42: C
C43: 小型車 | E43: 大型車 | G43: 合 計 | H43: 大型車混入率 | I43: 二輪車
B44: 種別 | C44: 乗用車 | D44: 小型貨物 | E44: 普通貨物 | F44: バス
...

Sheet No3平日_断面計
B1: 交差点交通量集計表（自動車類）
B3: 調査地点： | C3: 宝塚市役所前
B4: 調査日： | C4: 令和7年10月21日（火）7時～19時
B6: 方向 | C6: A
C7: 小型車 | E7: 大型車 | G7: 合計 | H7: 大型車混入率 | I7: 二輪車
B8: 種別 | C8: 乗用車 | D8: 小型貨物 | E8: 普通貨物 | F8: バス
B9: 時間帯 | C9: (台) | D9: (台) | E9: (台) | F9: (台) | G9: (台) | H9: (％) | I9: (台)
A10: 7 | B10: 7:00-8:00 | C10: 900 | D10: 223 | E10: 68 | F10: 4 | G10: 1195 | H10: 6.0251046 | I10: 179
A11: 8 | B11: 8:00-9:00 | C11: 967 | D11: 212 | E11: 68 | F11: 17 | G11: 1264 | H11: 6.7246835 | I11: 203
A12: 9 | B12: 9:00-10:00 | C12: 911 | D12: 208 | E12: 105 | F12: 13 | G12: 1237 | H12: 9.5392078 | I12: 122
A13: 10 | B13: 10:00-11:00 | C13: 1000 | D13: 184 | E13: 100 | F13: 10 | G13: 1294 | H13: 8.5007728 | I13: 145
A14: 11 | B14: 11:00-12:00 | C14: 899 | D14: 213 | E14: 84 | F14: 10 | G14: 1206 | H14: 7.7943615 | I14: 120
A15: 12 | B15: 12:00-13:00 | C15: 958 | D15: 168 | E15: 71 | F15: 9 | G15: 1206 | H15: 6.6334992 | I15: 140
A16: 13 | B16: 13:00-14:00 | C16: 911 | D16: 198 | E16: 79 | F16: 7 | G16: 1195 | H16: 7.1966527 | I16: 123
A17: 14 | B17: 14:00-15:00 | C17: 901 | D17: 202 | E17: 60 | F17: 14 | G17: 1177 | H17: 6.2871708 | I17: 118
A18: 15 | B18: 15:00-16:00 | C18: 985 | D18: 198 | E18: 46 | F18: 15 | G18: 1244 | H18: 4.903537 | I18: 127
A19: 16 | B19: 16:00-17:00 | C19: 1070 | D19: 207 | E19: 39 | F19: 16 | G19: 1332 | H19: 4.1291291 | I19: 159
A20: 17 | B20: 17:00-18:00 | C20: 1078 | D20: 183 | E20: 40 | F20: 10 | G20: 1311 | H20: 3.8138825 | I20: 183
A21: 18 | B21: 18:00-19:00 | C21: 1084 | D21: 145 | E21: 15 | F21: 7 | G21: 1251 | H21: 1.7585931 | I21: 174
B22: 全時間合計 | C22: 11664 | D22: 2341 | E22: 775 | F22: 132 | G22: 14912 | H22: 6.0823498 | I22: 1793
B24: 方向 | C24: B
C25: 小型車 | E25: 大型車 | G25: 合計 | H25: 大型車混入率 | I25: 二輪車
B26: 種別 | C26: 乗用車 | D26: 小型貨物 | E26: 普通貨物 | F26: バス
B27: 時間帯 | C27: (台) | D27: (台) | E27: (台) | F27: (台) | G27: (台) | H27: (％) | I27: (台)
A28: 7 | B28: 7:00-8:00 | C28: 327 | D28: 48 | E28: 10 | F28: 5 | G28: 390 | H28: 3.8461538 | I28: 72
A29: 8 | B29: 8:00-9:00 | C29: 423 | D29: 73 | E29: 24 | F29: 6 | G29: 526 | H29: 5.7034221 | I29: 68
A30: 9 | B30: 9:00-10:00 | C30: 392 | D30: 90 | E30: 31 | F30: 3 | G30: 516 | H30: 6.5891473 | I30: 58
A31: 10 | B31: 10:00-11:00 | C31: 449 | D31: 85 | E31: 24 | F31: 3 | G31: 561 | H31: 4.8128342 | I31: 50
A32: 11 | B32: 11:00-12:00 | C32: 411 | D32: 85 | E32: 27 | F32: 3 | G32: 526 | H32: 5.7034221 | I32: 50
A33: 12 | B33: 12:00-13:00 | C33: 431 | D33: 64 | E33: 16 | F33: 3 | G33: 514 | H33: 3.6964981 | I33: 52
A34: 13 | B34: 13:00-14:00 | C34: 403 | D34: 87 | E34: 27 | F34: 3 | G34: 520 | H34: 5.7692308 | I34: 42
A35: 14 | B35: 14:00-15:00 | C35: 380 | D35: 75 | E35: 25 | F35: 3 | G35: 483 | H35: 5.7971014 | I35: 46
A36: 15 | B36: 15:00-16:00 | C36: 421 | D36: 96 | E36: 18 | F36: 6 | G36: 541 | H36: 4.4362292 | I36: 47
A37: 16 | B37: 16:00-17:00 | C37: 431 | D37: 84 | E37: 22 | F37: 3 | G37: 540 | H37: 4.6296296 | I37: 56
A38: 17 | B38: 17:00-18:00 | C38: 482 | D38: 62 | E38: 8 | F38: 3 | G38: 555 | H38: 1.981982 | I38: 57
A39: 18 | B39: 18:00-19:00 | C39: 395 | D39: 38 | E39: 3 | F39: 2 | G39: 438 | H39: 1.1415525 | I39: 51
B40: 全時間合計 | C40: 4945 | D40: 887 | E40: 235 | F40: 43 | G40: 6110 | H40: 4.5499182 | I40: 649
B42: 方向 | C42: C
C43: 小型車 | E43: 大型車 | G43: 合計 | H43: 大型車混入率 | I43: 二輪車
B44: 種別 | C44: 乗用車 | D44: 小型貨物 | E44: 普通貨物 | F44: バス
...

Sheet No3平日_方向別A
B1: 交差点交通量集計表（自動車類）
B3: 調査地点： | C3: 宝塚市役所前
B4: 調査日： | C4: 令和7年10月21日（火）7時～19時
B6: 方向 | C6: 1 | J6: 2 | Q6: 3
C7: 小型車 | E7: 大型車 | G7: 合計 | H7: 大型車混入率 | I7: 二輪車 | J7: 小型車 | L7: 大型車 | N7: 合計 | O7: 大型車混入率 | P7: 二輪車 | Q7: 小型車 | S7: 大型車 | U7: 合計 | V7: 大型車混入率 | W7: 二輪車 | X7: 小型車 | Z7: 大型車 | AB7: 合計 | AC7: 大型車混入率 | AD7: 二輪車
B8: 種別 | C8: 乗用車 | D8: 小型貨物 | E8: 普通貨物 | F8: バス | J8: 乗用車 | K8: 小型貨物 | L8: 普通貨物 | M8: バス | Q8: 乗用車 | R8: 小型貨物 | S8: 普通貨物 | T8: バス | X8: 乗用車 | Y8: 小型貨物 | Z8: 普通貨物 | AA8: バス
B9: 時間帯 | C9: (台) | D9: (台) | E9: (台) | F9: (台) | G9: (台) | H9: (％) | I9: (台) | J9: (台) | K9: (台) | L9: (台) | M9: (台) | N9: (台) | O9: (％) | P9: (台) | Q9: (台) | R9: (台) | S9: (台) | T9: (台) | U9: (台) | V9: (％) | W9: (台) | X9: (台) | Y9: (台) | Z9: (台) | AA9: (台) | AB9: (台) | AC9: (％) | AD9: (台)
A10: 7 | B10: 7:00-8:00 | C10: 122 | D10: 23 | E10: 11 | F10: 0 | G10: 156 | H10: 7.0512821 | I10: 29 | J10: 284 | K10: 101 | L10: 20 | M10: 3 | N10: 408 | O10: 5.6372549 | P10: 44 | Q10: 41 | R10: 9 | S10: 2 | T10: 0 | U10: 52 | V10: 3.8 | W10: 12 | AB10: =IF($X$6="","",SUM(X10:AA10)) | AC10: =IF($X$6="","",IF(AA10+Z10=0,"-",ROUND((AA10+Z10)/AB10*100,1)))
A11: 8 | B11: 8:00-9:00 | C11: 160 | D11: 47 | E11: 10 | F11: 0 | G11: 217 | H11: 4.6082949 | I11: 24 | J11: 280 | K11: 82 | L11: 32 | M11: 8 | N11: 402 | O11: 9.9502488 | P11: 80 | Q11: 79 | R11: 13 | S11: 2 | T11: 0 | U11: 94 | V11: 2.1 | W11: 11 | AB11: =IF($X$6="","",SUM(X11:AA11)) | AC11: =IF($X$6="","",IF(AA11+Z11=0,"-",ROUND((AA11+Z11)/AB11*100,1)))
A12: 9 | B12: 9:00-10:00 | C12: 178 | D12: 33 | E12: 23 | F12: 0 | G12: 234 | H12: 9.8290598 | I12: 24 | J12: 241 | K12: 76 | L12: 23 | M12: 7 | N12: 347 | O12: 8.6455331 | P12: 40 | Q12: 57 | R12: 21 | S12: 4 | T12: 0 | U12: 82 | V12: 4.9 | W12: 8 | AB12: =IF($X$6="","",SUM(X12:AA12)) | AC12: =IF($X$6="","",IF(AA12+Z12=0,"-",ROUND((AA12+Z12)/AB12*100,1)))
A13: 10 | B13: 10:00-11:00 | C13: 178 | D13: 34 | E13: 28 | F13: 0 | G13: 240 | H13: 11.666667 | I13: 24 | J13: 299 | K13: 56 | L13: 23 | M13: 5 | N13: 383 | O13: 7.310705 | P13: 56 | Q13: 66 | R13: 18 | S13: 5 | T13: 0 | U13: 89 | V13: 5.6 | W13: 11 | AB13: =IF($X$6="","",SUM(X13:AA13)) | AC13: =IF($X$6="","",IF(AA13+Z13=0,"-",ROUND((AA13+Z13)/AB13*100,1)))
A14: 11 | B14: 11:00-12:00 | C14: 175 | D14: 39 | E14: 26 | F14: 0 | G14: 240 | H14: 10.833333 | I14: 8 | J14: 253 | K14: 49 | L14: 13 | M14: 4 | N14: 319 | O14: 5.3291536 | P14: 40 | Q14: 47 | R14: 20 | S14: 2 | T14: 0 | U14: 69 | V14: 2.9 | W14: 14 | AB14: =IF($X$6="","",SUM(X14:AA14)) | AC14: =IF($X$6="","",IF(AA14+Z14=0,"-",ROUND((AA14+Z14)/AB14*100,1)))
A15: 12 | B15: 12:00-13:00 | C15: 167 | D15: 42 | E15: 17 | F15: 0 | G15: 226 | H15: 7.5221239 | I15: 8 | J15: 244 | K15: 48 | L15: 18 | M15: 4 | N15: 314 | O15: 7.0063694 | P15: 48 | Q15: 67 | R15: 7 | S15: 4 | T15: 0 | U15: 78 | V15: 5.1 | W15: 11 | AB15: =IF($X$6="","",SUM(X15:AA15)) | AC15: =IF($X$6="","",IF(AA15+Z15=0,"-",ROUND((AA15+Z15)/AB15*100,1)))
A16: 13 | B16: 13:00-14:00 | C16: 165 | D16: 35 | E16: 23 | F16: 0 | G16: 223 | H16: 10.313901 | I16: 20 | J16: 268 | K16: 58 | L16: 19 | M16: 4 | N16: 349 | O16: 6.5902579 | P16: 41 | Q16: 65 | R16: 9 | S16: 3 | T16: 0 | U16: 77 | V16: 3.9 | W16: 12 | AB16: =IF($X$6="","",SUM(X16:AA16)) | AC16: =IF($X$6="","",IF(AA16+Z16=0,"-",ROUND((AA16+Z16)/AB16*100,1)))
A17: 14 | B17: 14:00-15:00 | C17: 156 | D17: 50 | E17: 17 | F17: 0 | G17: 223 | H17: 7.6233184 | I17: 16 | J17: 226 | K17: 51 | L17: 18 | M17: 8 | N17: 303 | O17: 8.5808581 | P17: 37 | Q17: 56 | R17: 13 | S17: 2 | T17: 0 | U17: 71 | V17: 2.8 | W17: 7 | AB17: =IF($X$6="","",SUM(X17:AA17)) | AC17: =IF($X$6="","",IF(AA17+Z17=0,"-",ROUND((AA17+Z17)/AB17*100,1)))
A18: 15 | B18: 15:00-16:00 | C18: 177 | D18: 29 | E18: 8 | F18: 1 | G18: 215 | H18: 4.1860465 | I18: 17 | J18: 253 | K18: 48 | L18: 9 | M18: 8 | N18: 318 | O18: 5.3459119 | P18: 39 | Q18: 80 | R18: 15 | S18: 1 | T18: 1 | U18: 97 | V18: 2.1 | W18: 9 | AB18: =IF($X$6="","",SUM(X18:AA18)) | AC18: =IF($X$6="","",IF(AA18+Z18=0,"-",ROUND((AA18+Z18)/AB18*100,1)))
A19: 16 | B19: 16:00-17:00 | C19: 167 | D19: 39 | E19: 17 | F19: 0 | G19: 223 | H19: 7.6233184 | I19: 15 | J19: 311 | K19: 51 | L19: 4 | M19: 5 | N19: 371 | O19: 2.425876 | P19: 50 | Q19: 83 | R19: 11 | S19: 2 | T19: 0 | U19: 96 | V19: 2.1 | W19: 12 | AB19: =IF($X$6="","",SUM(X19:AA19)) | AC19: =IF($X$6="","",IF(AA19+Z19=0,"-",ROUND((AA19+Z19)/AB19*100,1)))
A20: 17 | B20: 17:00-18:00 | C20: 163 | D20: 36 | E20: 15 | F20: 0 | G20: 214 | H20: 7.0093458 | I20: 21 | J20: 332 | K20: 43 | L20: 11 | M20: 6 | N20: 392 | O20: 4.3367347 | P20: 76 | Q20: 94 | R20: 12 | S20: 2 | T20: 0 | U20: 108 | V20: 1.9 | W20: 7 | AB20: =IF($X$6="","",SUM(X20:AA20)) | AC20: =IF($X$6="","",IF(AA20+Z20=0,"-",ROUND((AA20+Z20)/AB20*100,1)))
A21: 18 | B21: 18:00-19:00 | C21: 167 | D21: 30 | E21: 4 | F21: 0 | G21: 201 | H21: 1.9900498 | I21: 30 | J21: 358 | K21: 41 | L21: 7 | M21: 3 | N21: 409 | O21: 2.4449878 | P21: 57 | Q21: 85 | R21: 8 | S21: 0 | T21: 0 | U21: 93 | V21: - | W21: 11 | AB21: =IF($X$6="","",SUM(X21:AA21)) | AC21: =IF($X$6="","",IF(AA21+Z21=0,"-",ROUND((AA21+Z21)/AB21*100,1)))
B22: 全時間合計 | C22: 1975 | D22: 437 | E22: 199 | F22: 1 | G22: 2612 | H22: 7.6569678 | I22: 236 | J22: 3349 | K22: 704 | L22: 197 | M22: 65 | N22: 4315 | O22: 6.0718424 | P22: 608 | Q22: 820 | R22: 156 | S22: 29 | T22: 1 | U22: 1006 | V22: 3 | W22: 125 | X22: =IF($X$6="","",SUM(X10:X21)) | Y22: =IF($X$6="","",SUM(Y10:Y21)) | Z22: =IF($X$6="","",SUM(Z10:Z21)) | AA22: =IF($X$6="","",SUM(AA10:AA21)) | AB22: =IF($X$6="","",SUM(X22:AA22)) | AC22: =IF($X$6="","",IF(AA22+Z22=0,"-",ROUND((AA22+Z22)/AB22*100,1))) | AD22: =IF($X$6="","",SUM(AD10:AD21))

Sheet No3平日_方向別B
B1: 交差点交通量集計表（自動車類）
B3: 調査地点： | C3: 宝塚市役所前
B4: 調査日： | C4: 令和7年10月21日（火）7時～19時
B6: 方向 | C6: 4 | J6: 5 | Q6: 6
C7: 小型車 | E7: 大型車 | G7: 合計 | H7: 大型車混入率 | I7: 二輪車 | J7: 小型車 | L7: 大型車 | N7: 合計 | O7: 大型車混入率 | P7: 二輪車 | Q7: 小型車 | S7: 大型車 | U7: 合計 | V7: 大型車混入率 | W7: 二輪車 | X7: 小型車 | Z7: 大型車 | AB7: 合計 | AC7: 大型車混入率 | AD7: 二輪車
B8: 種別 | C8: 乗用車 | D8: 小型貨物 | E8: 普通貨物 | F8: バス | J8: 乗用車 | K8: 小型貨物 | L8: 普通貨物 | M8: バス | Q8: 乗用車 | R8: 小型貨物 | S8: 普通貨物 | T8: バス | X8: 乗用車 | Y8: 小型貨物 | Z8: 普通貨物 | AA8: バス
B9: 時間帯 | C9: (台) | D9: (台) | E9: (台) | F9: (台) | G9: (台) | H9: (％) | I9: (台) | J9: (台) | K9: (台) | L9: (台) | M9: (台) | N9: (台) | O9: (％) | P9: (台) | Q9: (台) | R9: (台) | S9: (台) | T9: (台) | U9: (台) | V9: (％) | W9: (台) | X9: (台) | Y9: (台) | Z9: (台) | AA9: (台) | AB9: (台) | AC9: (％) | AD9: (台)
A10: 7 | B10: 7:00-8:00 | C10: 97 | D10: 13 | E10: 2 | F10: 1 | G10: 113 | H10: 2.6548673 | I10: 26 | J10: 122 | K10: 13 | L10: 1 | M10: 4 | N10: 140 | O10: 3.5714286 | P10: 23 | Q10: 3 | R10: 0 | S10: 2 | T10: 0 | U10: 5 | V10: 40 | W10: 0 | AB10: =IF($X$6="","",SUM(X10:AA10)) | AC10: =IF($X$6="","",IF(AA10+Z10=0,"-",ROUND((AA10+Z10)/AB10*100,1)))
A11: 8 | B11: 8:00-9:00 | C11: 99 | D11: 8 | E11: 1 | F11: 2 | G11: 110 | H11: 2.7272727 | I11: 17 | J11: 152 | K11: 24 | L11: 7 | M11: 2 | N11: 185 | O11: 4.8648649 | P11: 26 | Q11: 8 | R11: 2 | S11: 0 | T11: 2 | U11: 12 | V11: 16.7 | W11: 0 | AB11: =IF($X$6="","",SUM(X11:AA11)) | AC11: =IF($X$6="","",IF(AA11+Z11=0,"-",ROUND((AA11+Z11)/AB11*100,1)))
A12: 9 | B12: 9:00-10:00 | C12: 90 | D12: 12 | E12: 6 | F12: 2 | G12: 110 | H12: 7.2727273 | I12: 18 | J12: 153 | K12: 22 | L12: 3 | M12: 1 | N12: 179 | O12: 2.2346369 | P12: 17 | Q12: 3 | R12: 1 | S12: 0 | T12: 0 | U12: 4 | V12: - | W12: 2 | AB12: =IF($X$6="","",SUM(X12:AA12)) | AC12: =IF($X$6="","",IF(AA12+Z12=0,"-",ROUND((AA12+Z12)/AB12*100,1)))
A13: 10 | B13: 10:00-11:00 | C13: 104 | D13: 14 | E13: 7 | F13: 2 | G13: 127 | H13: 7.0866142 | I13: 13 | J13: 149 | K13: 22 | L13: 6 | M13: 1 | N13: 178 | O13: 3.9325843 | P13: 11 | Q13: 11 | R13: 1 | S13: 0 | T13: 0 | U13: 12 | V13: - | W13: 2 | AB13: =IF($X$6="","",SUM(X13:AA13)) | AC13: =IF($X$6="","",IF(AA13+Z13=0,"-",ROUND((AA13+Z13)/AB13*100,1)))
A14: 11 | B14: 11:00-12:00 | C14: 91 | D14: 16 | E14: 7 | F14: 2 | G14: 116 | H14: 7.7586207 | I14: 10 | J14: 124 | K14: 21 | L14: 10 | M14: 1 | N14: 156 | O14: 7.0512821 | P14: 12 | Q14: 8 | R14: 4 | S14: 1 | T14: 0 | U14: 13 | V14: 7.7 | W14: 1 | AB14: =IF($X$6="","",SUM(X14:AA14)) | AC14: =IF($X$6="","",IF(AA14+Z14=0,"-",ROUND((AA14+Z14)/AB14*100,1)))
A15: 12 | B15: 12:00-13:00 | C15: 99 | D15: 18 | E15: 3 | F15: 2 | G15: 122 | H15: 4.0983607 | I15: 14 | J15: 115 | K15: 18 | L15: 1 | M15: 1 | N15: 135 | O15: 1.4814815 | P15: 13 | Q15: 6 | R15: 1 | S15: 0 | T15: 0 | U15: 7 | V15: - | W15: 1 | AB15: =IF($X$6="","",SUM(X15:AA15)) | AC15: =IF($X$6="","",IF(AA15+Z15=0,"-",ROUND((AA15+Z15)/AB15*100,1)))
A16: 13 | B16: 13:00-14:00 | C16: 75 | D16: 17 | E16: 4 | F16: 2 | G16: 98 | H16: 6.122449 | I16: 8 | J16: 122 | K16: 34 | L16: 7 | M16: 0 | N16: 163 | O16: 4.2944785 | P16: 8 | Q16: 9 | R16: 5 | S16: 0 | T16: 1 | U16: 15 | V16: 6.7 | W16: 2 | AB16: =IF($X$6="","",SUM(X16:AA16)) | AC16: =IF($X$6="","",IF(AA16+Z16=0,"-",ROUND((AA16+Z16)/AB16*100,1)))
A17: 14 | B17: 14:00-15:00 | C17: 91 | D17: 13 | E17: 5 | F17: 2 | G17: 111 | H17: 6.3063063 | I17: 17 | J17: 100 | K17: 22 | L17: 7 | M17: 1 | N17: 130 | O17: 6.1538462 | P17: 9 | Q17: 4 | R17: 1 | S17: 1 | T17: 0 | U17: 6 | V17: 16.7 | W17: 1 | AB17: =IF($X$6="","",SUM(X17:AA17)) | AC17: =IF($X$6="","",IF(AA17+Z17=0,"-",ROUND((AA17+Z17)/AB17*100,1)))
A18: 15 | B18: 15:00-16:00 | C18: 79 | D18: 13 | E18: 4 | F18: 2 | G18: 98 | H18: 6.122449 | I18: 12 | J18: 117 | K18: 33 | L18: 6 | M18: 2 | N18: 158 | O18: 5.0632911 | P18: 12 | Q18: 3 | R18: 2 | S18: 1 | T18: 1 | U18: 7 | V18: 28.6 | W18: 0 | AB18: =IF($X$6="","",SUM(X18:AA18)) | AC18: =IF($X$6="","",IF(AA18+Z18=0,"-",ROUND((AA18+Z18)/AB18*100,1)))
A19: 16 | B19: 16:00-17:00 | C19: 97 | D19: 19 | E19: 3 | F19: 2 | G19: 121 | H19: 4.1322314 | I19: 21 | J19: 82 | K19: 34 | L19: 16 | M19: 1 | N19: 133 | O19: 12.781955 | P19: 8 | Q19: 3 | R19: 0 | S19: 0 | T19: 0 | U19: 3 | V19: - | W19: 1 | AB19: =IF($X$6="","",SUM(X19:AA19)) | AC19: =IF($X$6="","",IF(AA19+Z19=0,"-",ROUND((AA19+Z19)/AB19*100,1)))
A20: 17 | B20: 17:00-18:00 | C20: 109 | D20: 14 | E20: 1 | F20: 2 | G20: 126 | H20: 2.3809524 | I20: 17 | J20: 96 | K20: 16 | L20: 3 | M20: 1 | N20: 116 | O20: 3.4482759 | P20: 17 | Q20: 8 | R20: 1 | S20: 0 | T20: 0 | U20: 9 | V20: - | W20: 0 | AB20: =IF($X$6="","",SUM(X20:AA20)) | AC20: =IF($X$6="","",IF(AA20+Z20=0,"-",ROUND((AA20+Z20)/AB20*100,1)))
A21: 18 | B21: 18:00-19:00 | C21: 90 | D21: 12 | E21: 0 | F21: 1 | G21: 103 | H21: 0.97087379 | I21: 9 | J21: 73 | K21: 7 | L21: 1 | M21: 1 | N21: 82 | O21: 2.4390244 | P21: 10 | Q21: 6 | R21: 0 | S21: 1 | T21: 0 | U21: 7 | V21: 14.3 | W21: 1 | AB21: =IF($X$6="","",SUM(X21:AA21)) | AC21: =IF($X$6="","",IF(AA21+Z21=0,"-",ROUND((AA21+Z21)/AB21*100,1)))
B22: 全時間合計 | C22: 1121 | D22: 169 | E22: 43 | F22: 22 | G22: 1355 | H22: 4.797048 | I22: 182 | J22: 1405 | K22: 266 | L22: 68 | M22: 16 | N22: 1755 | O22: 4.7863248 | P22: 166 | Q22: 72 | R22: 18 | S22: 6 | T22: 4 | U22: 100 | V22: 10 | W22: 11 | X22: =IF($X$6="","",SUM(X10:X21)) | Y22: =IF($X$6="","",SUM(Y10:Y21)) | Z22: =IF($X$6="","",SUM(Z10:Z21)) | AA22: =IF($X$6="","",SUM(AA10:AA21)) | AB22: =IF($X$6="","",SUM(X22:AA22)) | AC22: =IF($X$6="","",IF(AA22+Z22=0,"-",ROUND((AA22+Z22)/AB22*100,1))) | AD22: =IF($X$6="","",SUM(AD10:AD21))

Sheet No3平日_方向別C
B1: 交差点交通量集計表（自動車類）
B3: 調査地点： | C3: 宝塚市役所前
B4: 調査日： | C4: 令和7年10月21日（火）7時～19時
B6: 方向 | C6: 7 | J6: 8 | Q6: 9
C7: 小型車 | E7: 大型車 | G7: 合計 | H7: 大型車混入率 | I7: 二輪車 | J7: 小型車 | L7: 大型車 | N7: 合計 | O7: 大型車混入率 | P7: 二輪車 | Q7: 小型車 | S7: 大型車 | U7: 合計 | V7: 大型車混入率 | W7: 二輪車 | X7: 小型車 | Z7: 大型車 | AB7: 合計 | AC7: 大型車混入率 | AD7: 二輪車
B8: 種別 | C8: 乗用車 | D8: 小型貨物 | E8: 普通貨物 | F8: バス | J8: 乗用車 | K8: 小型貨物 | L8: 普通貨物 | M8: バス | Q8: 乗用車 | R8: 小型貨物 | S8: 普通貨物 | T8: バス | X8: 乗用車 | Y8: 小型貨物 | Z8: 普通貨物 | AA8: バス
B9: 時間帯 | C9: (台) | D9: (台) | E9: (台) | F9: (台) | G9: (台) | H9: (％) | I9: (台) | J9: (台) | K9: (台) | L9: (台) | M9: (台) | N9: (台) | O9: (％) | P9: (台) | Q9: (台) | R9: (台) | S9: (台) | T9: (台) | U9: (台) | V9: (％) | W9: (台) | X9: (台) | Y9: (台) | Z9: (台) | AA9: (台) | AB9: (台) | AC9: (％) | AD9: (台)
A10: 7 | B10: 7:00-8:00 | C10: 1 | D10: 1 | E10: 1 | F10: 0 | G10: 3 | H10: 33.333333 | I10: 2 | J10: 286 | K10: 42 | L10: 17 | M10: 0 | N10: 345 | O10: 4.9275362 | P10: 45 | Q10: 18 | R10: 2 | S10: 6 | T10: 0 | U10: 26 | V10: 23.1 | W10: 1 | AB10: =IF($X$6="","",SUM(X10:AA10)) | AC10: =IF($X$6="","",IF(AA10+Z10=0,"-",ROUND((AA10+Z10)/AB10*100,1)))
A11: 8 | B11: 8:00-9:00 | C11: 4 | D11: 1 | E11: 0 | F11: 0 | G11: 5 | H11: - | I11: 1 | J11: 253 | K11: 44 | L11: 13 | M11: 7 | N11: 317 | O11: 6.3091483 | P11: 52 | Q11: 35 | R11: 8 | S11: 6 | T11: 0 | U11: 49 | V11: 12.2 | W11: 5 | AB11: =IF($X$6="","",SUM(X11:AA11)) | AC11: =IF($X$6="","",IF(AA11+Z11=0,"-",ROUND((AA11+Z11)/AB11*100,1)))
A12: 9 | B12: 9:00-10:00 | C12: 3 | D12: 0 | E12: 0 | F12: 0 | G12: 3 | H12: - | I12: 1 | J12: 271 | K12: 38 | L12: 26 | M12: 4 | N12: 339 | O12: 8.8495575 | P12: 22 | Q12: 69 | R12: 6 | S12: 8 | T12: 0 | U12: 83 | V12: 9.6 | W12: 2 | AB12: =IF($X$6="","",SUM(X12:AA12)) | AC12: =IF($X$6="","",IF(AA12+Z12=0,"-",ROUND((AA12+Z12)/AB12*100,1)))
A13: 10 | B13: 10:00-11:00 | C13: 8 | D13: 1 | E13: 0 | F13: 0 | G13: 9 | H13: - | I13: 1 | J13: 252 | K13: 44 | L13: 24 | M13: 3 | N13: 323 | O13: 8.3591331 | P13: 32 | Q13: 53 | R13: 10 | S13: 8 | T13: 0 | U13: 71 | V13: 11.3 | W13: 5 | AB13: =IF($X$6="","",SUM(X13:AA13)) | AC13: =IF($X$6="","",IF(AA13+Z13=0,"-",ROUND((AA13+Z13)/AB13*100,1)))
A14: 11 | B14: 11:00-12:00 | C14: 8 | D14: 2 | E14: 1 | F14: 0 | G14: 11 | H14: 9.0909091 | I14: 0 | J14: 214 | K14: 55 | L14: 25 | M14: 4 | N14: 298 | O14: 9.7315436 | P14: 34 | Q14: 68 | R14: 17 | S14: 4 | T14: 0 | U14: 89 | V14: 4.5 | W14: 4 | AB14: =IF($X$6="","",SUM(X14:AA14)) | AC14: =IF($X$6="","",IF(AA14+Z14=0,"-",ROUND((AA14+Z14)/AB14*100,1)))
A15: 12 | B15: 12:00-13:00 | C15: 11 | D15: 1 | E15: 0 | F15: 0 | G15: 12 | H15: - | I15: 1 | J15: 261 | K15: 38 | L15: 18 | M15: 3 | N15: 320 | O15: 6.5625 | P15: 44 | Q15: 69 | R15: 14 | S15: 1 | T15: 0 | U15: 84 | V15: 1.2 | W15: 8 | AB15: =IF($X$6="","",SUM(X15:AA15)) | AC15: =IF($X$6="","",IF(AA15+Z15=0,"-",ROUND((AA15+Z15)/AB15*100,1)))
A16: 13 | B16: 13:00-14:00 | C16: 5 | D16: 2 | E16: 1 | F16: 0 | G16: 8 | H16: 12.5 | I16: 1 | J16: 233 | K16: 55 | L16: 14 | M16: 1 | N16: 303 | O16: 4.950495 | P16: 28 | Q16: 55 | R16: 9 | S16: 4 | T16: 0 | U16: 68 | V16: 5.9 | W16: 4 | AB16: =IF($X$6="","",SUM(X16:AA16)) | AC16: =IF($X$6="","",IF(AA16+Z16=0,"-",ROUND((AA16+Z16)/AB16*100,1)))
A17: 14 | B17: 14:00-15:00 | C17: 8 | D17: 0 | E17: 0 | F17: 0 | G17: 8 | H17: - | I17: 0 | J17: 249 | K17: 54 | L17: 12 | M17: 4 | N17: 319 | O17: 5.015674 | P17: 26 | Q17: 60 | R17: 12 | S17: 5 | T17: 0 | U17: 77 | V17: 6.5 | W17: 3 | AB17: =IF($X$6="","",SUM(X17:AA17)) | AC17: =IF($X$6="","",IF(AA17+Z17=0,"-",ROUND((AA17+Z17)/AB17*100,1)))
A18: 15 | B18: 15:00-16:00 | C18: 12 | D18: 3 | E18: 1 | F18: 0 | G18: 16 | H18: 6.25 | I18: 1 | J18: 270 | K18: 62 | L18: 17 | M18: 1 | N18: 350 | O18: 5.1428571 | P18: 34 | Q18: 72 | R18: 13 | S18: 5 | T18: 0 | U18: 90 | V18: 5.6 | W18: 2 | AB18: =IF($X$6="","",SUM(X18:AA18)) | AC18: =IF($X$6="","",IF(AA18+Z18=0,"-",ROUND((AA18+Z18)/AB18*100,1)))
A19: 16 | B19: 16:00-17:00 | C19: 8 | D19: 2 | E19: 1 | F19: 0 | G19: 11 | H19: 9.0909091 | I19: 1 | J19: 281 | K19: 65 | L19: 10 | M19: 9 | N19: 365 | O19: 5.2054795 | P19: 45 | Q19: 54 | R19: 16 | S19: 2 | T19: 0 | U19: 72 | V19: 2.8 | W19: 7 | AB19: =IF($X$6="","",SUM(X19:AA19)) | AC19: =IF($X$6="","",IF(AA19+Z19=0,"-",ROUND((AA19+Z19)/AB19*100,1)))
A20: 17 | B20: 17:00-18:00 | C20: 15 | D20: 2 | E20: 0 | F20: 0 | G20: 17 | H20: - | I20: 0 | J20: 274 | K20: 68 | L20: 9 | M20: 2 | N20: 353 | O20: 3.1161473 | P20: 42 | Q20: 48 | R20: 6 | S20: 6 | T20: 0 | U20: 60 | V20: 10 | W20: 5 | AB20: =IF($X$6="","",SUM(X20:AA20)) | AC20: =IF($X$6="","",IF(AA20+Z20=0,"-",ROUND((AA20+Z20)/AB20*100,1)))
A21: 18 | B21: 18:00-19:00 | C21: 4 | D21: 2 | E21: 0 | F21: 0 | G21: 6 | H21: - | I21: 1 | J21: 244 | K21: 34 | L21: 2 | M21: 3 | N21: 283 | O21: 1.7667845 | P21: 46 | Q21: 40 | R21: 4 | S21: 0 | T21: 0 | U21: 44 | V21: - | W21: 4 | AB21: =IF($X$6="","",SUM(X21:AA21)) | AC21: =IF($X$6="","",IF(AA21+Z21=0,"-",ROUND((AA21+Z21)/AB21*100,1)))
B22: 全時間合計 | C22: 87 | D22: 17 | E22: 5 | F22: 0 | G22: 109 | H22: 4.587156 | I22: 10 | J22: 3088 | K22: 599 | L22: 187 | M22: 41 | N22: 3915 | O22: 5.8237548 | P22: 450 | Q22: 641 | R22: 117 | S22: 55 | T22: 0 | U22: 813 | V22: 6.8 | W22: 50 | X22: =IF($X$6="","",SUM(X10:X21)) | Y22: =IF($X$6="","",SUM(Y10:Y21)) | Z22: =IF($X$6="","",SUM(Z10:Z21)) | AA22: =IF($X$6="","",SUM(AA10:AA21)) | AB22: =IF($X$6="","",SUM(X22:AA22)) | AC22: =IF($X$6="","",IF(AA22+Z22=0,"-",ROUND((AA22+Z22)/AB22*100,1))) | AD22: =IF($X$6="","",SUM(AD10:AD21))

Sheet No3平日_方向別D
B1: 交差点交通量集計表（自動車類）
B3: 調査地点： | C3: 宝塚市役所前
B4: 調査日： | C4: 令和7年10月21日（火）7時～19時
B6: 方向 | C6: 10 | J6: 11 | Q6: 12
C7: 小型車 | E7: 大型車 | G7: 合計 | H7: 大型車混入率 | I7: 二輪車 | J7: 小型車 | L7: 大型車 | N7: 合計 | O7: 大型車混入率 | P7: 二輪車 | Q7: 小型車 | S7: 大型車 | U7: 合計 | V7: 大型車混入率 | W7: 二輪車 | X7: 小型車 | Z7: 大型車 | AB7: 合計 | AC7: 大型車混入率 | AD7: 二輪車
B8: 種別 | C8: 乗用車 | D8: 小型貨物 | E8: 普通貨物 | F8: バス | J8: 乗用車 | K8: 小型貨物 | L8: 普通貨物 | M8: バス | Q8: 乗用車 | R8: 小型貨物 | S8: 普通貨物 | T8: バス | X8: 乗用車 | Y8: 小型貨物 | Z8: 普通貨物 | AA8: バス
B9: 時間帯 | C9: (台) | D9: (台) | E9: (台) | F9: (台) | G9: (台) | H9: (％) | I9: (台) | J9: (台) | K9: (台) | L9: (台) | M9: (台) | N9: (台) | O9: (％) | P9: (台) | Q9: (台) | R9: (台) | S9: (台) | T9: (台) | U9: (台) | V9: (％) | W9: (台) | X9: (台) | Y9: (台) | Z9: (台) | AA9: (台) | AB9: (台) | AC9: (％) | AD9: (台)
A10: 7 | B10: 7:00-8:00 | C10: 19 | D10: 8 | E10: 12 | F10: 3 | G10: 42 | H10: 35.714286 | I10: 4 | J10: 63 | K10: 12 | L10: 2 | M10: 0 | N10: 77 | O10: 2.5974026 | P10: 9 | Q10: 70 | R10: 35 | S10: 16 | T10: 0 | U10: 121 | V10: 13.2 | W10: 23 | AB10: =IF($X$6="","",SUM(X10:AA10)) | AC10: =IF($X$6="","",IF(AA10+Z10=0,"-",ROUND((AA10+Z10)/AB10*100,1)))
A11: 8 | B11: 8:00-9:00 | C11: 33 | D11: 12 | E11: 12 | F11: 2 | G11: 59 | H11: 23.728814 | I11: 5 | J11: 81 | K11: 25 | L11: 14 | M11: 0 | N11: 120 | O11: 11.666667 | P11: 13 | Q11: 96 | R11: 18 | S11: 10 | T11: 0 | U11: 124 | V11: 8.1 | W11: 19 | AB11: =IF($X$6="","",SUM(X11:AA11)) | AC11: =IF($X$6="","",IF(AA11+Z11=0,"-",ROUND((AA11+Z11)/AB11*100,1)))
A12: 9 | B12: 9:00-10:00 | C12: 42 | D12: 13 | E12: 13 | F12: 1 | G12: 69 | H12: 20.289855 | I12: 3 | J12: 86 | K12: 34 | L12: 18 | M12: 0 | N12: 138 | O12: 13.043478 | P12: 12 | Q12: 74 | R12: 28 | S12: 23 | T12: 0 | U12: 125 | V12: 18.4 | W12: 10 | AB12: =IF($X$6="","",SUM(X12:AA12)) | AC12: =IF($X$6="","",IF(AA12+Z12=0,"-",ROUND((AA12+Z12)/AB12*100,1)))
A13: 10 | B13: 10:00-11:00 | C13: 75 | D13: 17 | E13: 8 | F13: 1 | G13: 101 | H13: 8.9108911 | I13: 3 | J13: 111 | K13: 29 | L13: 6 | M13: 0 | N13: 146 | O13: 4.109589 | P13: 12 | Q13: 101 | R13: 18 | S13: 13 | T13: 0 | U13: 132 | V13: 9.8 | W13: 9 | AB13: =IF($X$6="","",SUM(X13:AA13)) | AC13: =IF($X$6="","",IF(AA13+Z13=0,"-",ROUND((AA13+Z13)/AB13*100,1)))
A14: 11 | B14: 11:00-12:00 | C14: 68 | D14: 11 | E14: 6 | F14: 0 | G14: 85 | H14: 7.0588235 | I14: 4 | J14: 133 | K14: 22 | L14: 6 | M14: 0 | N14: 161 | O14: 3.7267081 | P14: 13 | Q14: 119 | R14: 34 | S14: 11 | T14: 0 | U14: 164 | V14: 6.7 | W14: 14 | AB14: =IF($X$6="","",SUM(X14:AA14)) | AC14: =IF($X$6="","",IF(AA14+Z14=0,"-",ROUND((AA14+Z14)/AB14*100,1)))
A15: 12 | B15: 12:00-13:00 | C15: 67 | D15: 10 | E15: 7 | F15: 1 | G15: 85 | H15: 9.4117647 | I15: 5 | J15: 133 | K15: 19 | L15: 8 | M15: 0 | N15: 160 | O15: 5 | P15: 12 | Q15: 120 | R15: 15 | S15: 11 | T15: 0 | U15: 146 | V15: 7.5 | W15: 15 | AB15: =IF($X$6="","",SUM(X15:AA15)) | AC15: =IF($X$6="","",IF(AA15+Z15=0,"-",ROUND((AA15+Z15)/AB15*100,1)))
A16: 13 | B16: 13:00-14:00 | C16: 60 | D16: 12 | E16: 2 | F16: 1 | G16: 75 | H16: 4 | I16: 4 | J16: 127 | K16: 20 | L16: 12 | M16: 0 | N16: 159 | O16: 7.5471698 | P16: 11 | Q16: 105 | R16: 24 | S16: 16 | T16: 0 | U16: 145 | V16: 11 | W16: 14 | AB16: =IF($X$6="","",SUM(X16:AA16)) | AC16: =IF($X$6="","",IF(AA16+Z16=0,"-",ROUND((AA16+Z16)/AB16*100,1)))
A17: 14 | B17: 14:00-15:00 | C17: 66 | D17: 13 | E17: 6 | F17: 0 | G17: 85 | H17: 7.0588235 | I17: 1 | J17: 121 | K17: 26 | L17: 10 | M17: 0 | N17: 157 | O17: 6.3694268 | P17: 12 | Q17: 123 | R17: 21 | S17: 6 | T17: 0 | U17: 150 | V17: 4 | W17: 15 | AB17: =IF($X$6="","",SUM(X17:AA17)) | AC17: =IF($X$6="","",IF(AA17+Z17=0,"-",ROUND((AA17+Z17)/AB17*100,1)))
A18: 15 | B18: 15:00-16:00 | C18: 63 | D18: 16 | E18: 4 | F18: 1 | G18: 84 | H18: 5.952381 | I18: 5 | J18: 130 | K18: 30 | L18: 5 | M18: 0 | N18: 165 | O18: 3.030303 | P18: 13 | Q18: 126 | R18: 31 | S18: 7 | T18: 2 | U18: 166 | V18: 5.4 | W18: 16 | AB18: =IF($X$6="","",SUM(X18:AA18)) | AC18: =IF($X$6="","",IF(AA18+Z18=0,"-",ROUND((AA18+Z18)/AB18*100,1)))
A19: 16 | B19: 16:00-17:00 | C19: 45 | D19: 10 | E19: 1 | F19: 1 | G19: 57 | H19: 3.5087719 | I19: 7 | J19: 158 | K19: 18 | L19: 0 | M19: 0 | N19: 176 | O19: - | P19: 13 | Q19: 131 | R19: 22 | S19: 3 | T19: 0 | U19: 156 | V19: 1.9 | W19: 16 | AB19: =IF($X$6="","",SUM(X19:AA19)) | AC19: =IF($X$6="","",IF(AA19+Z19=0,"-",ROUND((AA19+Z19)/AB19*100,1)))
A20: 17 | B20: 17:00-18:00 | C20: 51 | D20: 3 | E20: 2 | F20: 1 | G20: 57 | H20: 5.2631579 | I20: 9 | J20: 160 | K20: 17 | L20: 2 | M20: 0 | N20: 179 | O20: 1.1173184 | P20: 16 | Q20: 106 | R20: 10 | S20: 2 | T20: 0 | U20: 118 | V20: 1.7 | W20: 20 | AB20: =IF($X$6="","",SUM(X20:AA20)) | AC20: =IF($X$6="","",IF(AA20+Z20=0,"-",ROUND((AA20+Z20)/AB20*100,1)))
A21: 18 | B21: 18:00-19:00 | C21: 44 | D21: 4 | E21: 1 | F21: 2 | G21: 51 | H21: 5.8823529 | I21: 3 | J21: 137 | K21: 9 | L21: 1 | M21: 0 | N21: 147 | O21: 0.68027211 | P21: 19 | Q21: 140 | R21: 20 | S21: 2 | T21: 0 | U21: 162 | V21: 1.2 | W21: 21 | AB21: =IF($X$6="","",SUM(X21:AA21)) | AC21: =IF($X$6="","",IF(AA21+Z21=0,"-",ROUND((AA21+Z21)/AB21*100,1)))
B22: 全時間合計 | C22: 633 | D22: 129 | E22: 74 | F22: 14 | G22: 850 | H22: 10.352941 | I22: 53 | J22: 1440 | K22: 261 | L22: 84 | M22: 0 | N22: 1785 | O22: 4.7058824 | P22: 155 | Q22: 1311 | R22: 276 | S22: 120 | T22: 2 | U22: 1709 | V22: 7.1 | W22: 192 | X22: =IF($X$6="","",SUM(X10:X21)) | Y22: =IF($X$6="","",SUM(Y10:Y21)) | Z22: =IF($X$6="","",SUM(Z10:Z21)) | AA22: =IF($X$6="","",SUM(AA10:AA21)) | AB22: =IF($X$6="","",SUM(X22:AA22)) | AC22: =IF($X$6="","",IF(AA22+Z22=0,"-",ROUND((AA22+Z22)/AB22*100,1))) | AD22: =IF($X$6="","",SUM(AD10:AD21))

Sheet No3平日_歩行者
B1: 交差点交通量集計表（歩行者類）
B2: 地点番号： | C2: P06
B3: 調査地点： | C3: 宝塚市役所前
B4: 調査日： | C4: 令和7年10月21日（火）7時～19時
B6: 方向 | C6: ア | E6: イ | G6: a断面 | J6: ウ | L6: エ | N6: b断面
B7: 種別 | C7: 歩行者 | D7: 自転車 | E7: 歩行者 | F7: 自転車 | G7: 歩行者 | H7: 自転車 | I7: 計 | J7: 歩行者 | K7: 自転車 | L7: 歩行者 | M7: 自転車 | N7: 歩行者 | O7: 自転車 | P7: 計
B8: 時間帯 | C8: (人) | D8: (台) | E8: (人) | F8: (台) | G8: (人) | H8: (台) | I8: (台) | J8: (人) | K8: (台) | L8: (人) | M8: (台) | N8: (人) | O8: (台) | P8: (台)
A9: 7 | B9: 7:00-8:00 | C9: 38 | D9: 19 | E9: 11 | F9: 32 | G9: 49 | H9: 51 | I9: 100 | J9: 97 | K9: 48 | L9: 23 | M9: 61 | N9: 120 | O9: 109 | P9: 229
A10: 8 | B10: 8:00-9:00 | C10: 186 | D10: 58 | E10: 22 | F10: 35 | G10: 208 | H10: 93 | I10: 301 | J10: 174 | K10: 99 | L10: 18 | M10: 64 | N10: 192 | O10: 163 | P10: 355
A11: 9 | B11: 9:00-10:00 | C11: 56 | D11: 29 | E11: 21 | F11: 24 | G11: 77 | H11: 53 | I11: 130 | J11: 76 | K11: 33 | L11: 31 | M11: 36 | N11: 107 | O11: 69 | P11: 176
A12: 10 | B12: 10:00-11:00 | C12: 29 | D12: 39 | E12: 15 | F12: 26 | G12: 44 | H12: 65 | I12: 109 | J12: 36 | K12: 38 | L12: 31 | M12: 28 | N12: 67 | O12: 66 | P12: 133
A13: 11 | B13: 11:00-12:00 | C13: 28 | D13: 24 | E13: 25 | F13: 21 | G13: 53 | H13: 45 | I13: 98 | J13: 25 | K13: 41 | L13: 29 | M13: 20 | N13: 54 | O13: 61 | P13: 115
A14: 12 | B14: 12:00-13:00 | C14: 50 | D14: 27 | E14: 25 | F14: 28 | G14: 75 | H14: 55 | I14: 130 | J14: 47 | K14: 57 | L14: 64 | M14: 22 | N14: 111 | O14: 79 | P14: 190
A15: 13 | B15: 13:00-14:00 | C15: 41 | D15: 25 | E15: 42 | F15: 36 | G15: 83 | H15: 61 | I15: 144 | J15: 36 | K15: 65 | L15: 37 | M15: 30 | N15: 73 | O15: 95 | P15: 168
A16: 14 | B16: 14:00-15:00 | C16: 21 | D16: 16 | E16: 20 | F16: 17 | G16: 41 | H16: 33 | I16: 74 | J16: 31 | K16: 39 | L16: 26 | M16: 25 | N16: 57 | O16: 64 | P16: 121
A17: 15 | B17: 15:00-16:00 | C17: 19 | D17: 20 | E17: 33 | F17: 22 | G17: 52 | H17: 42 | I17: 94 | J17: 43 | K17: 48 | L17: 27 | M17: 34 | N17: 70 | O17: 82 | P17: 152
A18: 16 | B18: 16:00-17:00 | C18: 20 | D18: 42 | E18: 42 | F18: 40 | G18: 62 | H18: 82 | I18: 144 | J18: 37 | K18: 85 | L18: 64 | M18: 46 | N18: 101 | O18: 131 | P18: 232
A19: 17 | B19: 17:00-18:00 | C19: 22 | D19: 34 | E19: 78 | F19: 54 | G19: 100 | H19: 88 | I19: 188 | J19: 33 | K19: 55 | L19: 101 | M19: 57 | N19: 134 | O19: 112 | P19: 246
A20: 18 | B20: 18:00-19:00 | C20: 10 | D20: 47 | E20: 68 | F20: 40 | G20: 78 | H20: 87 | I20: 165 | J20: 31 | K20: 87 | L20: 82 | M20: 49 | N20: 113 | O20: 136 | P20: 249
B21: 全時間合計 | C21: 520 | D21: 380 | E21: 402 | F21: 375 | G21: 922 | H21: 755 | I21: 1677 | J21: 666 | K21: 695 | L21: 533 | M21: 472 | N21: 1199 | O21: 1167 | P21: 2366
B23: 方向 | C23: オ | E23: カ | G23: c断面 | J23: キ | L23: ク | N23: d断面
B24: 種別 | C24: 歩行者 | D24: 自転車 | E24: 歩行者 | F24: 自転車 | G24: 歩行者 | H24: 自転車 | I24: 計 | J24: 歩行者 | K24: 自転車 | L24: 歩行者 | M24: 自転車 | N24: 歩行者 | O24: 自転車 | P24: 計
B25: 時間帯 | C25: (人) | D25: (台) | E25: (人) | F25: (台) | G25: (人) | H25: (台) | I25: (台) | J25: (人) | K25: (台) | L25: (人) | M25: (台) | N25: (人) | O25: (台) | P25: (台)
A26: 7 | B26: 7:00-8:00 | C26: 60 | D26: 37 | E26: 33 | F26: 14 | G26: 93 | H26: 51 | I26: 144 | J26: 20 | K26: 72 | L26: 38 | M26: 47 | N26: 58 | O26: 119 | P26: 177
A27: 8 | B27: 8:00-9:00 | C27: 19 | D27: 34 | E27: 150 | F27: 33 | G27: 169 | H27: 67 | I27: 236 | J27: 18 | K27: 75 | L27: 256 | M27: 99 | N27: 274 | O27: 174 | P27: 448
A28: 9 | B28: 9:00-10:00 | C28: 28 | D28: 32 | E28: 55 | F28: 13 | G28: 83 | H28: 45 | I28: 128 | J28: 39 | K28: 66 | L28: 64 | M28: 65 | N28: 103 | O28: 131 | P28: 234
A29: 10 | B29: 10:00-11:00 | C29: 20 | D29: 24 | E29: 28 | F29: 19 | G29: 48 | H29: 43 | I29: 91 | J29: 44 | K29: 68 | L29: 33 | M29: 59 | N29: 77 | O29: 127 | P29: 204
A30: 11 | B30: 11:00-12:00 | C30: 33 | D30: 25 | E30: 31 | F30: 12 | G30: 64 | H30: 37 | I30: 101 | J30: 47 | K30: 63 | L30: 44 | M30: 45 | N30: 91 | O30: 108 | P30: 199
A31: 12 | B31: 12:00-13:00 | C31: 34 | D31: 22 | E31: 59 | F31: 20 | G31: 93 | H31: 42 | I31: 135 | J31: 89 | K31: 63 | L31: 67 | M31: 60 | N31: 156 | O31: 123 | P31: 279
A32: 13 | B32: 13:00-14:00 | C32: 23 | D32: 31 | E32: 27 | F32: 23 | G32: 50 | H32: 54 | I32: 104 | J32: 55 | K32: 60 | L32: 43 | M32: 45 | N32: 98 | O32: 105 | P32: 203
A33: 14 | B33: 14:00-15:00 | C33: 33 | D33: 15 | E33: 13 | F33: 13 | G33: 46 | H33: 28 | I33: 74 | J33: 32 | K33: 61 | L33: 20 | M33: 41 | N33: 52 | O33: 102 | P33: 154
A34: 15 | B34: 15:00-16:00 | C34: 50 | D34: 27 | E34: 22 | F34: 17 | G34: 72 | H34: 44 | I34: 116 | J34: 55 | K34: 75 | L34: 31 | M34: 43 | N34: 86 | O34: 118 | P34: 204
A35: 16 | B35: 16:00-17:00 | C35: 66 | D35: 35 | E35: 24 | F35: 28 | G35: 90 | H35: 63 | I35: 153 | J35: 94 | K35: 94 | L35: 37 | M35: 59 | N35: 131 | O35: 153 | P35: 284
A36: 17 | B36: 17:00-18:00 | C36: 97 | D36: 43 | E36: 39 | F36: 39 | G36: 136 | H36: 82 | I36: 218 | J36: 155 | K36: 121 | L36: 26 | M36: 74 | N36: 181 | O36: 195 | P36: 376
A37: 18 | B37: 18:00-19:00 | C37: 40 | D37: 31 | E37: 19 | F37: 28 | G37: 59 | H37: 59 | I37: 118 | J37: 66 | K37: 98 | L37: 15 | M37: 58 | N37: 81 | O37: 156 | P37: 237
B38: 全時間合計 | C38: 503 | D38: 356 | E38: 500 | F38: 259 | G38: 1003 | H38: 615 | I38: 1618 | J38: 714 | K38: 916 | L38: 674 | M38: 695 | N38: 1388 | O38: 1611 | P38: 2999

Sheet No3休日_まとめ
A2: 交差点交通量集計表 | H2: 方 向 図
B6: 調査地点： | C6: 宝塚市役所前
B7: 調査月日： | C7: 令和7年10月19日（日）7時～19時
D15: 12時間計（7:00～19:00） | K15: ピーク時間（16:00～17:00）
I16: 大型車混入率（％） | J16: 二輪車 | P16: 大型車混入率（％） | Q16: 二輪車
D17: 小型車 | F17: 大型車 | K17: 小型車 | M17: 大型車
D18: 乗用車 | E18: 小型貨物 | F18: 普通貨物 | G18: バス | H18: 計 | K18: 乗用車 | L18: 小型貨物 | M18: 普通貨物 | N18: バス | O18: 計
A19: 単方向 | B19: 1 | C19: [AからDへ] | D19: 2330 | E19: 203 | F19: 53 | G19: 0 | H19: 2586 | I19: 2.0494973 | J19: 158 | K19: 229 | L19: 15 | M19: 4 | N19: 0 | O19: 248 | P19: 1.6129032 | Q19: 11 | R19: 16
B20: 2 | C20: [AからCへ] | D20: 3558 | E20: 244 | F20: 59 | G20: 36 | H20: 3897 | I20: 2.4377726 | J20: 335 | K20: 357 | L20: 15 | M20: 4 | N20: 3 | O20: 379 | P20: 1.8469657 | Q20: 21 | R20: =R19 -> 16
B21: 3 | C21: [AからBへ] | D21: 938 | E21: 58 | F21: 11 | G21: 0 | H21: 1007 | I21: 1.0923535 | J21: 80 | K21: 128 | L21: 7 | M21: 1 | N21: 0 | O21: 136 | P21: 0.73529412 | Q21: 7 | R21: =R20 -> 16
B22: 4 | C22: [BからAへ] | D22: 1343 | E22: 84 | F22: 11 | G22: 13 | H22: 1451 | I22: 1.6540317 | J22: 105 | K22: 118 | L22: 2 | M22: 0 | N22: 1 | O22: 121 | P22: 0.82644628 | Q22: 9 | R22: =R21 -> 16
B23: 5 | C23: [BからDへ] | D23: 1430 | E23: 87 | F23: 18 | G23: 10 | H23: 1545 | I23: 1.8122977 | J23: 82 | K23: 136 | L23: 13 | M23: 1 | N23: 0 | O23: 150 | P23: 0.66666667 | Q23: 7 | R23: =R22 -> 16
B24: 6 | C24: [BからCへ] | D24: 102 | E24: 1 | F24: 0 | G24: 0 | H24: 103 | I24: - | J24: 11 | K24: 11 | L24: 0 | M24: 0 | N24: 0 | O24: 11 | P24: - | Q24: 0 | R24: =R23 -> 16
B25: 7 | C25: [CからBへ] | D25: 118 | E25: 8 | F25: 0 | G25: 0 | H25: 126 | I25: - | J25: 7 | K25: 10 | L25: 0 | M25: 0 | N25: 0 | O25: 10 | P25: - | Q25: 1 | R25: =R24 -> 16
B26: 8 | C26: [CからAへ] | D26: 3689 | E26: 219 | F26: 69 | G26: 25 | H26: 4002 | I26: 2.3488256 | J26: 326 | K26: 359 | L26: 28 | M26: 4 | N26: 1 | O26: 392 | P26: 1.2755102 | Q26: 25 | R26: =R25 -> 16
B27: 9 | C27: [CからDへ] | D27: 671 | E27: 39 | F27: 23 | G27: 0 | H27: 733 | I27: 3.1377899 | J27: 34 | K27: 62 | L27: 4 | M27: 3 | N27: 0 | O27: 69 | P27: 4.3478261 | Q27: 2 | R27: =R26 -> 16
B28: 10 | C28: [DからCへ] | D28: 711 | E28: 29 | F28: 20 | G28: 10 | H28: 770 | I28: 3.8961039 | J28: 32 | K28: 69 | L28: 3 | M28: 2 | N28: 1 | O28: 75 | P28: 4 | Q28: 2 | R28: =R27 -> 16
B29: 11 | C29: [DからBへ] | D29: 1507 | E29: 107 | F29: 23 | G29: 0 | H29: 1637 | I29: 1.4050092 | J29: 96 | K29: 133 | L29: 15 | M29: 1 | N29: 0 | O29: 149 | P29: 0.67114094 | Q29: 5 | R29: =R28 -> 16
B30: 12 | C30: [DからAへ] | D30: 1540 | E30: 116 | F30: 42 | G30: 1 | H30: 1699 | I30: 2.5309005 | J30: 113 | K30: 136 | L30: 12 | M30: 0 | N30: 0 | O30: 148 | P30: - | Q30: 9 | R30: =R29 -> 16
B31: 13 | C31: [からへ] | D31: 0 | E31: 0 | F31: 0 | G31: 0 | H31: 0 | I31: - | J31: 0 | K31: 0 | L31: 0 | M31: 0 | N31: 0 | O31: 0 | P31: - | Q31: 0 | R31: =R30 -> 16
B32: 14 | C32: [からへ] | D32: 0 | E32: 0 | F32: 0 | G32: 0 | H32: 0 | I32: - | J32: 0 | K32: 0 | L32: 0 | M32: 0 | N32: 0 | O32: 0 | P32: - | Q32: 0 | R32: =R31 -> 16
B33: 15 | C33: [からへ] | D33: 0 | E33: 0 | F33: 0 | G33: 0 | H33: 0 | I33: - | J33: 0 | K33: 0 | L33: 0 | M33: 0 | N33: 0 | O33: 0 | P33: - | Q33: 0 | R33: =R32 -> 16
B34: 16 | C34: [からへ] | D34: 0 | E34: 0 | F34: 0 | G34: 0 | H34: 0 | I34: - | J34: 0 | K34: 0 | L34: 0 | M34: 0 | N34: 0 | O34: 0 | P34: - | Q34: 0 | R34: =R33 -> 16
B35: 17 | C35: [からへ] | D35: 0 | E35: 0 | F35: 0 | G35: 0 | H35: 0 | I35: - | J35: 0 | K35: 0 | L35: 0 | M35: 0 | N35: 0 | O35: 0 | P35: - | Q35: 0 | R35: =R34 -> 16
B36: 18 | C36: [からへ] | D36: 0 | E36: 0 | F36: 0 | G36: 0 | H36: 0 | I36: - | J36: 0 | K36: 0 | L36: 0 | M36: 0 | N36: 0 | O36: 0 | P36: - | Q36: 0 | R36: =R35 -> 16
B37: 19 | C37: [からへ] | D37: 0 | E37: 0 | F37: 0 | G37: 0 | H37: 0 | I37: - | J37: 0 | K37: 0 | L37: 0 | M37: 0 | N37: 0 | O37: 0 | P37: - | Q37: 0 | R37: =R36 -> 16
B38: 20 | C38: [からへ] | D38: 0 | E38: 0 | F38: 0 | G38: 0 | H38: 0 | I38: - | J38: 0 | K38: 0 | L38: 0 | M38: 0 | N38: 0 | O38: 0 | P38: - | Q38: 0 | R38: =R37 -> 16
B39: 21 | C39: [からへ] | D39: 0 | E39: 0 | F39: 0 | G39: 0 | H39: 0 | I39: - | J39: 0 | K39: 0 | L39: 0 | M39: 0 | N39: 0 | O39: 0 | P39: - | Q39: 0 | R39: =R38 -> 16
A40: 流入 | B40: A | C40: 流入計 | D40: 6826 | E40: 505 | F40: 123 | G40: 36 | H40: 7490 | I40: 2.1228304 | J40: 573 | K40: 714 | L40: 37 | M40: 9 | N40: 3 | O40: 763 | P40: 1.5727392 | Q40: 39 | R40: =R39 -> 16
B41: B | C41: 流入計 | D41: 2875 | E41: 172 | F41: 29 | G41: 23 | H41: 3099 | I41: 1.6779606 | J41: 198 | K41: 265 | L41: 15 | M41: 1 | N41: 1 | O41: 282 | P41: 0.70921986 | Q41: 16 | R41: =R40 -> 16
B42: C | C42: 流入計 | D42: 4478 | E42: 266 | F42: 92 | G42: 25 | H42: 4861 | I42: 2.4069122 | J42: 367 | K42: 431 | L42: 32 | M42: 7 | N42: 1 | O42: 471 | P42: 1.6985138 | Q42: 28 | R42: =R41 -> 16
B43: D | C43: 流入計 | D43: 3758 | E43: 252 | F43: 85 | G43: 11 | H43: 4106 | I43: 2.3380419 | J43: 241 | K43: 338 | L43: 30 | M43: 3 | N43: 1 | O43: 372 | P43: 1.0752688 | Q43: 16 | R43: =R42 -> 16
B44: E | C44: 流入計 | D44: 0 | E44: 0 | F44: 0 | G44: 0 | H44: 0 | I44: - | J44: 0 | K44: 0 | L44: 0 | M44: 0 | N44: 0 | O44: 0 | P44: - | Q44: 0 | R44: =R43 -> 16
A45: 流出 | B45: A | C45: 流出計 | D45: 6572 | E45: 419 | F45: 122 | G45: 39 | H45: 7152 | I45: 2.2511186 | J45: 544 | K45: 613 | L45: 42 | M45: 4 | N45: 2 | O45: 661 | P45: 0.90771558 | Q45: 43 | R45: =R44 -> 16
B46: B | C46: 流出計 | D46: 2563 | E46: 173 | F46: 34 | G46: 0 | H46: 2770 | I46: 1.2274368 | J46: 183 | K46: 271 | L46: 22 | M46: 2 | N46: 0 | O46: 295 | P46: 0.6779661 | Q46: 13 | R46: =R45 -> 16
B47: C | C47: 流出計 | D47: 4371 | E47: 274 | F47: 79 | G47: 46 | H47: 4770 | I47: 2.6205451 | J47: 378 | K47: 437 | L47: 18 | M47: 6 | N47: 4 | O47: 465 | P47: 2.1505376 | Q47: 23 | R47: =R46 -> 16
B48: D | C48: 流出計 | D48: 4431 | E48: 329 | F48: 94 | G48: 10 | H48: 4864 | I48: 2.1381579 | J48: 274 | K48: 427 | L48: 32 | M48: 8 | N48: 0 | O48: 467 | P48: 1.7130621 | Q48: 20 | R48: =R47 -> 16
B49: E | C49: 流出計 | D49: 0 | E49: 0 | F49: 0 | G49: 0 | H49: 0 | I49: - | J49: 0 | K49: 0 | L49: 0 | M49: 0 | N49: 0 | O49: 0 | P49: - | Q49: 0 | R49: =R48 -> 16
A50: 断面 | B50: A断面計 | D50: 13398 | E50: 924 | F50: 245 | G50: 75 | H50: 14642 | I50: 2.1854938 | J50: 1117 | K50: 1327 | L50: 79 | M50: 13 | N50: 5 | O50: 1424 | P50: 1.2640449 | Q50: 82 | R50: =R49 -> 16
B51: B断面計 | D51: 5438 | E51: 345 | F51: 63 | G51: 23 | H51: 5869 | I51: 1.4653263 | J51: 381 | K51: 536 | L51: 37 | M51: 3 | N51: 1 | O51: 577 | P51: 0.6932409 | Q51: 29 | R51: =R50 -> 16
...

Sheet No3休日_交差点計
B1: 交差点交通量集計表（自動車類）
B3: 調査地点： | C3: 宝塚市役所前
B4: 調査日： | C4: 令和7年10月19日（日）7時～19時
B6: 方向 | C6: 交差点計
B7: 種別 | C7: 小型車 | E7: 大型車 | G7: 合計 | H7: 大型車混入率 | I7: 二輪車
C8: 乗用車 | D8: 小型貨物 | E8: 普通貨物 | F8: バス
B9: 時間帯 | C9: (台) | D9: (台) | E9: (台) | F9: (台) | G9: (台) | H9: (％) | I9: (台)
A10: 7 | B10: 7:00-8:00 | C10: 915 | D10: 79 | E10: 24 | F10: 8 | G10: 1026 | H10: 3.1189084 | I10: 83
A11: 8 | B11: 8:00-9:00 | C11: 957 | D11: 104 | E11: 51 | F11: 11 | G11: 1123 | H11: 5.5209261 | I11: 94
A12: 9 | B12: 9:00-10:00 | C12: 1365 | D12: 90 | E12: 38 | F12: 9 | G12: 1502 | H12: 3.1291611 | I12: 143
A13: 10 | B13: 10:00-11:00 | C13: 1647 | D13: 105 | E13: 30 | F13: 8 | G13: 1790 | H13: 2.122905 | I13: 141
A14: 11 | B14: 11:00-12:00 | C14: 1611 | D14: 105 | E14: 29 | F14: 6 | G14: 1751 | H14: 1.9988578 | I14: 116
A15: 12 | B15: 12:00-13:00 | C15: 1566 | D15: 117 | E15: 28 | F15: 10 | G15: 1721 | H15: 2.2080186 | I15: 124
A16: 13 | B16: 13:00-14:00 | C16: 1626 | D16: 98 | E16: 30 | F16: 6 | G16: 1760 | H16: 2.0454545 | I16: 113
A17: 14 | B17: 14:00-15:00 | C17: 1676 | D17: 106 | E17: 28 | F17: 6 | G17: 1816 | H17: 1.8722467 | I17: 101
A18: 15 | B18: 15:00-16:00 | C18: 1745 | D18: 101 | E18: 21 | F18: 10 | G18: 1877 | H18: 1.6515717 | I18: 116
A19: 16 | B19: 16:00-17:00 | C19: 1748 | D19: 114 | E19: 20 | F19: 6 | G19: 1888 | H19: 1.3771186 | I19: 99
A20: 17 | B20: 17:00-18:00 | C20: 1682 | D20: 110 | E20: 19 | F20: 7 | G20: 1818 | H20: 1.430143 | I20: 129
A21: 18 | B21: 18:00-19:00 | C21: 1399 | D21: 66 | E21: 11 | F21: 8 | G21: 1484 | H21: 1.2803235 | I21: 120
B22: 全時間合計 | C22: 17937 | D22: 1195 | E22: 329 | F22: 95 | G22: 19556 | H22: 2.1681325 | I22: 1379

Sheet No3休日_流入計
B1: 交差点交通量集計表（自動車類）
B3: 調査地点： | C3: 宝塚市役所前
B4: 調査日： | C4: 令和7年10月19日（日）7時～19時
B6: 方向 | C6: A
C7: 小型車 | E7: 大型車 | G7: 合計 | H7: 大型車混入率 | I7: 二輪車
B8: 種別 | C8: 乗用車 | D8: 小型貨物 | E8: 普通貨物 | F8: バス
B9: 時間帯 | C9: (台) | D9: (台) | E9: (台) | F9: (台) | G9: (台) | H9: (％) | I9: (台)
A10: 7 | B10: 7:00-8:00 | C10: 199 | D10: 25 | E10: 8 | F10: 1 | G10: 233 | H10: 3.8626609 | I10: 22
A11: 8 | B11: 8:00-9:00 | C11: 362 | D11: 48 | E11: 19 | F11: 5 | G11: 434 | H11: 5.5299539 | I11: 44
A12: 9 | B12: 9:00-10:00 | C12: 488 | D12: 47 | E12: 9 | F12: 2 | G12: 546 | H12: 2.014652 | I12: 63
A13: 10 | B13: 10:00-11:00 | C13: 627 | D13: 46 | E13: 13 | F13: 3 | G13: 689 | H13: 2.3222061 | I13: 60
A14: 11 | B14: 11:00-12:00 | C14: 558 | D14: 41 | E14: 19 | F14: 1 | G14: 619 | H14: 3.2310178 | I14: 44
A15: 12 | B15: 12:00-13:00 | C15: 612 | D15: 44 | E15: 10 | F15: 4 | G15: 670 | H15: 2.0895522 | I15: 55
A16: 13 | B16: 13:00-14:00 | C16: 614 | D16: 37 | E16: 8 | F16: 2 | G16: 661 | H16: 1.5128593 | I16: 58
A17: 14 | B17: 14:00-15:00 | C17: 676 | D17: 46 | E17: 8 | F17: 4 | G17: 734 | H17: 1.6348774 | I17: 46
A18: 15 | B18: 15:00-16:00 | C18: 677 | D18: 42 | E18: 8 | F18: 4 | G18: 731 | H18: 1.6415869 | I18: 43
A19: 16 | B19: 16:00-17:00 | C19: 714 | D19: 37 | E19: 9 | F19: 3 | G19: 763 | H19: 1.5727392 | I19: 39
A20: 17 | B20: 17:00-18:00 | C20: 698 | D20: 65 | E20: 8 | F20: 3 | G20: 774 | H20: 1.4211886 | I20: 53
A21: 18 | B21: 18:00-19:00 | C21: 601 | D21: 27 | E21: 4 | F21: 4 | G21: 636 | H21: 1.2578616 | I21: 46
B22: 全時間合計 | C22: 6826 | D22: 505 | E22: 123 | F22: 36 | G22: 7490 | H22: 2.1228304 | I22: 573
B24: 方向 | C24: B
C25: 小型車 | E25: 大型車 | G25: 合計 | H25: 大型車混入率 | I25: 二輪車
B26: 種別 | C26: 乗用車 | D26: 小型貨物 | E26: 普通貨物 | F26: バス
B27: 時間帯 | C27: (台) | D27: (台) | E27: (台) | F27: (台) | G27: (台) | H27: (％) | I27: (台)
A28: 7 | B28: 7:00-8:00 | C28: 195 | D28: 12 | E28: 1 | F28: 3 | G28: 211 | H28: 1.8957346 | I28: 14
A29: 8 | B29: 8:00-9:00 | C29: 177 | D29: 13 | E29: 4 | F29: 3 | G29: 197 | H29: 3.5532995 | I29: 14
A30: 9 | B30: 9:00-10:00 | C30: 287 | D30: 6 | E30: 2 | F30: 2 | G30: 297 | H30: 1.3468013 | I30: 20
A31: 10 | B31: 10:00-11:00 | C31: 268 | D31: 13 | E31: 1 | F31: 2 | G31: 284 | H31: 1.056338 | I31: 21
A32: 11 | B32: 11:00-12:00 | C32: 294 | D32: 16 | E32: 3 | F32: 2 | G32: 315 | H32: 1.5873016 | I32: 15
A33: 12 | B33: 12:00-13:00 | C33: 234 | D33: 23 | E33: 3 | F33: 2 | G33: 262 | H33: 1.9083969 | I33: 18
A34: 13 | B34: 13:00-14:00 | C34: 235 | D34: 16 | E34: 6 | F34: 1 | G34: 258 | H34: 2.7131783 | I34: 9
A35: 14 | B35: 14:00-15:00 | C35: 273 | D35: 16 | E35: 3 | F35: 1 | G35: 293 | H35: 1.3651877 | I35: 10
A36: 15 | B36: 15:00-16:00 | C36: 260 | D36: 15 | E36: 1 | F36: 2 | G36: 278 | H36: 1.0791367 | I36: 19
A37: 16 | B37: 16:00-17:00 | C37: 265 | D37: 15 | E37: 1 | F37: 1 | G37: 282 | H37: 0.70921986 | I37: 16
A38: 17 | B38: 17:00-18:00 | C38: 218 | D38: 13 | E38: 3 | F38: 2 | G38: 236 | H38: 2.1186441 | I38: 20
A39: 18 | B39: 18:00-19:00 | C39: 169 | D39: 14 | E39: 1 | F39: 2 | G39: 186 | H39: 1.6129032 | I39: 22
B40: 全時間合計 | C40: 2875 | D40: 172 | E40: 29 | F40: 23 | G40: 3099 | H40: 1.6779606 | I40: 198
B42: 方向 | C42: C
C43: 小型車 | E43: 大型車 | G43: 合計 | H43: 大型車混入率 | I43: 二輪車
B44: 種別 | C44: 乗用車 | D44: 小型貨物 | E44: 普通貨物 | F44: バス
...

Sheet No3休日_流出計
B1: 交差点交通量集計表（自動車類）
B3: 調査地点： | C3: 宝塚市役所前
B4: 調査日： | C4: 令和7年10月19日（日）7時～19時
B6: 方向 | C6: A
C7: 小型車 | E7: 大型車 | G7: 合計 | H7: 大型車混入率 | I7: 二輪車
B8: 種別 | C8: 乗用車 | D8: 小型貨物 | E8: 普通貨物 | F8: バス
B9: 時間帯 | C9: (台) | D9: (台) | E9: (台) | F9: (台) | G9: (台) | H9: (％) | I9: (台)
A10: 7 | B10: 7:00-8:00 | C10: 536 | D10: 40 | E10: 11 | F10: 4 | G10: 591 | H10: 2.5380711 | I10: 48
