Workbook
Name ________dai1: #REF!
Name ________dai1: #REF!
Name ________dai1: No26休日_方向別A!________dai1
Name ________dai1: No26休日_方向別B!________dai1
Name ________dai1: No26休日_方向別C!________dai1
Name ________dai1: No26休日_方向別D!________dai1
Name ________dai1: #REF!
Name ________dai1: #REF!
Name ________dai1: #REF!
Name ________dai1: No3休日_方向別A!________dai1
Name ________dai1: No3休日_方向別B!________dai1
Name ________dai1: No3休日_方向別C!________dai1
Name ________dai1: No3休日_方向別D!________dai1
Name ________dai1: #REF!
Name ________dai1: #REF!
Name ________dai1: #REF!
Name ________dai1: No3平日_方向別A!________dai1
Name ________dai1: No3平日_方向別B!________dai1
Name ________dai1: No3平日_方向別C!________dai1
Name ________dai1: No3平日_方向別D!________dai1
Name ________dai1: #REF!
Name ________dai1: #REF!
Name ________dai1: #REF!
Name ________dai1: No8休日_方向別A!________dai1
Name ________dai1: No8休日_方向別B!________dai1
Name ________dai1: No8休日_方向別C!________dai1
Name ________dai1: No8休日_方向別D!________dai1
Name ________dai1: #REF!
Name ________dai1: #REF!
Name ________dai1: #REF!
Name ________dai1: No8平日_方向別A!________dai1
Name ________dai1: No8平日_方向別B!________dai1
Name ________dai1: No8平日_方向別C!________dai1
Name ________dai1: No8平日_方向別D!________dai1
Name ________dai1: #REF!
Name ________dai1: #REF!
Name ________dai2: #REF!
Name ________dai2: #REF!
Name ________dai2: No26休日_方向別A!________dai2
Name ________dai2: No26休日_方向別B!________dai2
Name ________dai2: No26休日_方向別C!________dai2
Name ________dai2: No26休日_方向別D!________dai2
Name ________dai2: #REF!
Name ________dai2: #REF!
Name ________dai2: #REF!
Name ________dai2: No3休日_方向別A!________dai2
Name ________dai2: No3休日_方向別B!________dai2
Name ________dai2: No3休日_方向別C!________dai2
Name ________dai2: No3休日_方向別D!________dai2
Name ________dai2: #REF!
Name ________dai2: #REF!
Name ________dai2: #REF!
Name ________dai2: No3平日_方向別A!________dai2
Name ________dai2: No3平日_方向別B!________dai2
Name ________dai2: No3平日_方向別C!________dai2
Name ________dai2: No3平日_方向別D!________dai2
Name ________dai2: #REF!
Name ________dai2: #REF!
Name ________dai2: #REF!
Name ________dai2: No8休日_方向別A!________dai2

Sheet 提供データについて
A1: 提供データについて
A2: 令和7年度の交通量調査及び平成27年度の交通量調査データを提供する。
A3: なお、日あたり交通量については、提供する12時間あたり交通量に、全国道路・街路情勢調査(道路交通センサス)における近傍地等地点の昼夜率を乗じて用いること。
A5: 令和7年度の調査箇所及び調査日時は以下のとおり。
A6: 地点No3（P6） | B6: 宝塚市役所前
A7: 地点No8（P15） | B7: 小浜
A8: 地点No26（P41） | B8: 市福祉センター前 | D8: ※休日のみ
A9: 平日：令和7年10月21日（火）7時～19時
A10: 休日：令和7年10月19日（日）7時～19時
A12: 平成27年度調査の調査箇所及び調査日時は以下のとおり。
A13: 地点P6 | B13: 宝塚市役所前
A14: 地点P7 | B14: 宝塚中学校前
A15: 地点P15 | B15: 小浜
A16: 地点P25 | B16: 宝塚新大橋南詰
A17: 平日：平成27年7月14日（火）7時～19時
A18: 休日：平成27年7月12日（日）7時～19時

Sheet 令和7年度調査→

Sheet No3計測地点
A2: 地点No | B2: 交差点名 | C2: 住所 | D2: 調査時間 | E2: 調査項目 | G2: 3
A3: 3(P6) | B3: 宝塚市役所前 | C3: 宝塚市１ | D3: 7時～19時 | E3: 交差点交通量 平日・休日
A4: ■設置位置図
A35: ■地点状況写真① | C35: ■地点状況写真② | D35: 関係機関
D36: 道路管理者：
D39: 交通管理者： | E39: 宝塚警察署
D42: その他：

Sheet No3平日_まとめ
A2: 交差点交通量集計表 | H2: 方 向 図
B6: 調査地点： | C6: 宝塚市役所前
B7: 調査月日： | C7: 令和7年10月21日（火）7時～19時
D15: 12時間計（7:00～19:00） | K15: ピーク時間（8:00～9:00）
I16: 大型車混入率（％） | J16: 二輪車 | P16: 大型車混入率（％） | Q16: 二輪車
D17: 小型車 | F17: 大型車 | K17: 小型車 | M17: 大型車
D18: 乗用車 | E18: 小型貨物 | F18: 普通貨物 | G18: バス | H18: 計 | K18: 乗用車 | L18: 小型貨物 | M18: 普通貨物 | N18: バス | O18: 計
A19: 単方向 | B19: 1 | C19: [AからDへ] | D19: 1975 | E19: 437 | F19: 199 | G19: 1 | H19: 2612 | I19: 7.6569678 | J19: 236 | K19: 160 | L19: 47 | M19: 10 | N19: 0 | O19: 217 | P19: 4.6082949 | Q19: 24
B20: 2 | C20: [AからCへ] | D20: 3349 | E20: 704 | F20: 197 | G20: 65 | H20: 4315 | I20: 6.0718424 | J20: 608 | K20: 280 | L20: 82 | M20: 32 | N20: 8 | O20: 402 | P20: 9.9502488 | Q20: 80
B21: 3 | C21: [AからBへ] | D21: 820 | E21: 156 | F21: 29 | G21: 1 | H21: 1006 | I21: 2.9821074 | J21: 125 | K21: 79 | L21: 13 | M21: 2 | N21: 0 | O21: 94 | P21: 2.1276596 | Q21: 11
B22: 4 | C22: [BからAへ] | D22: 1121 | E22: 169 | F22: 43 | G22: 22 | H22: 1355 | I22: 4.797048 | J22: 182 | K22: 99 | L22: 8 | M22: 1 | N22: 2 | O22: 110 | P22: 2.7272727 | Q22: 17
B23: 5 | C23: [BからDへ] | D23: 1405 | E23: 266 | F23: 68 | G23: 16 | H23: 1755 | I23: 4.7863248 | J23: 166 | K23: 152 | L23: 24 | M23: 7 | N23: 2 | O23: 185 | P23: 4.8648649 | Q23: 26
B24: 6 | C24: [BからCへ] | D24: 72 | E24: 18 | F24: 6 | G24: 4 | H24: 100 | I24: 10 | J24: 11 | K24: 8 | L24: 2 | M24: 0 | N24: 2 | O24: 12 | P24: 16.666667 | Q24: 0
B25: 7 | C25: [CからBへ] | D25: 87 | E25: 17 | F25: 5 | G25: 0 | H25: 109 | I25: 4.587156 | J25: 10 | K25: 4 | L25: 1 | M25: 0 | N25: 0 | O25: 5 | P25: - | Q25: 1
B26: 8 | C26: [CからAへ] | D26: 3088 | E26: 599 | F26: 187 | G26: 41 | H26: 3915 | I26: 5.8237548 | J26: 450 | K26: 253 | L26: 44 | M26: 13 | N26: 7 | O26: 317 | P26: 6.3091483 | Q26: 52
B27: 9 | C27: [CからDへ] | D27: 641 | E27: 117 | F27: 55 | G27: 0 | H27: 813 | I27: 6.7650677 | J27: 50 | K27: 35 | L27: 8 | M27: 6 | N27: 0 | O27: 49 | P27: 12.244898 | Q27: 5
B28: 10 | C28: [DからCへ] | D28: 633 | E28: 129 | F28: 74 | G28: 14 | H28: 850 | I28: 10.352941 | J28: 53 | K28: 33 | L28: 12 | M28: 12 | N28: 2 | O28: 59 | P28: 23.728814 | Q28: 5
B29: 11 | C29: [DからBへ] | D29: 1440 | E29: 261 | F29: 84 | G29: 0 | H29: 1785 | I29: 4.7058824 | J29: 155 | K29: 81 | L29: 25 | M29: 14 | N29: 0 | O29: 120 | P29: 11.666667 | Q29: 13
B30: 12 | C30: [DからAへ] | D30: 1311 | E30: 276 | F30: 120 | G30: 2 | H30: 1709 | I30: 7.1386776 | J30: 192 | K30: 96 | L30: 18 | M30: 10 | N30: 0 | O30: 124 | P30: 8.0645161 | Q30: 19
B31: 13 | C31: [からへ] | D31: 0 | E31: 0 | F31: 0 | G31: 0 | H31: 0 | I31: - | J31: 0 | K31: 0 | L31: 0 | M31: 0 | N31: 0 | O31: 0 | P31: - | Q31: 0
B32: 14 | C32: [からへ] | D32: 0 | E32: 0 | F32: 0 | G32: 0 | H32: 0 | I32: - | J32: 0 | K32: 0 | L32: 0 | M32: 0 | N32: 0 | O32: 0 | P32: - | Q32: 0
B33: 15 | C33: [からへ] | D33: 0 | E33: 0 | F33: 0 | G33: 0 | H33: 0 | I33: - | J33: 0 | K33: 0 | L33: 0 | M33: 0 | N33: 0 | O33: 0 | P33: - | Q33: 0
B34: 16 | C34: [からへ] | D34: 0 | E34: 0 | F34: 0 | G34: 0 | H34: 0 | I34: - | J34: 0 | K34: 0 | L34: 0 | M34: 0 | N34: 0 | O34: 0 | P34: - | Q34: 0
B35: 17 | C35: [からへ] | D35: 0 | E35: 0 | F35: 0 | G35: 0 | H35: 0 | I35: - | J35: 0 | K35: 0 | L35: 0 | M35: 0 | N35: 0 | O35: 0 | P35: - | Q35: 0
B36: 18 | C36: [からへ] | D36: 0 | E36: 0 | F36: 0 | G36: 0 | H36: 0 | I36: - | J36: 0 | K36: 0 | L36: 0 | M36: 0 | N36: 0 | O36: 0 | P36: - | Q36: 0
B37: 19 | C37: [からへ] | D37: 0 | E37: 0 | F37: 0 | G37: 0 | H37: 0 | I37: - | J37: 0 | K37: 0 | L37: 0 | M37: 0 | N37: 0 | O37: 0 | P37: - | Q37: 0
B38: 20 | C38: [からへ] | D38: 0 | E38: 0 | F38: 0 | G38: 0 | H38: 0 | I38: - | J38: 0 | K38: 0 | L38: 0 | M38: 0 | N38: 0 | O38: 0 | P38: - | Q38: 0
B39: 21 | C39: [からへ] | D39: 0 | E39: 0 | F39: 0 | G39: 0 | H39: 0 | I39: - | J39: 0 | K39: 0 | L39: 0 | M39: 0 | N39: 0 | O39: 0 | P39: - | Q39: 0
A40: 流入 | B40: A | C40: 流入計 | D40: 6144 | E40: 1297 | F40: 425 | G40: 67 | H40: 7933 | I40: 6.2019413 | J40: 969 | K40: 519 | L40: 142 | M40: 44 | N40: 8 | O40: 713 | P40: 7.2931276 | Q40: 115
B41: B | C41: 流入計 | D41: 2598 | E41: 453 | F41: 117 | G41: 42 | H41: 3210 | I41: 4.953271 | J41: 359 | K41: 259 | L41: 34 | M41: 8 | N41: 6 | O41: 307 | P41: 4.5602606 | Q41: 43
B42: C | C42: 流入計 | D42: 3816 | E42: 733 | F42: 247 | G42: 41 | H42: 4837 | I42: 5.9541038 | J42: 510 | K42: 292 | L42: 53 | M42: 19 | N42: 7 | O42: 371 | P42: 7.0080863 | Q42: 58
B43: D | C43: 流入計 | D43: 3384 | E43: 666 | F43: 278 | G43: 16 | H43: 4344 | I43: 6.7679558 | J43: 400 | K43: 210 | L43: 55 | M43: 36 | N43: 2 | O43: 303 | P43: 12.541254 | Q43: 37
B44: E | C44: 流入計 | D44: 0 | E44: 0 | F44: 0 | G44: 0 | H44: 0 | I44: - | J44: 0 | K44: 0 | L44: 0 | M44: 0 | N44: 0 | O44: 0 | P44: - | Q44: 0
A45: 流出 | B45: A | C45: 流出計 | D45: 5520 | E45: 1044 | F45: 350 | G45: 65 | H45: 6979 | I45: 5.9464107 | J45: 824 | K45: 448 | L45: 70 | M45: 24 | N45: 9 | O45: 551 | P45: 5.9891107 | Q45: 88
B46: B | C46: 流出計 | D46: 2347 | E46: 434 | F46: 118 | G46: 1 | H46: 2900 | I46: 4.1034483 | J46: 290 | K46: 164 | L46: 39 | M46: 16 | N46: 0 | O46: 219 | P46: 7.3059361 | Q46: 25
B47: C | C47: 流出計 | D47: 4054 | E47: 851 | F47: 277 | G47: 83 | H47: 5265 | I47: 6.8376068 | J47: 672 | K47: 321 | L47: 96 | M47: 44 | N47: 12 | O47: 473 | P47: 11.839323 | Q47: 85
B48: D | C48: 流出計 | D48: 4021 | E48: 820 | F48: 322 | G48: 17 | H48: 5180 | I48: 6.5444015 | J48: 452 | K48: 347 | L48: 79 | M48: 23 | N48: 2 | O48: 451 | P48: 5.5432373 | Q48: 55
B49: E | C49: 流出計 | D49: 0 | E49: 0 | F49: 0 | G49: 0 | H49: 0 | I49: - | J49: 0 | K49: 0 | L49: 0 | M49: 0 | N49: 0 | O49: 0 | P49: - | Q49: 0
A50: 断面 | B50: A断面計 | D50: 11664 | E50: 2341 | F50: 775 | G50: 132 | H50: 14912 | I50: 6.0823498 | J50: 1793 | K50: 967 | L50: 212 | M50: 68 | N50: 17 | O50: 1264 | P50: 6.7246835 | Q50: 203
B51: B断面計 | D51: 4945 | E51: 887 | F51: 235 | G51: 43 | H51: 6110 | I51: 4.5499182 | J51: 649 | K51: 423 | L51: 73 | M51: 24 | N51: 6 | O51: 526 | P51: 5.7034221 | Q51: 68
B52: C断面計 | D52: 7870 | E52: 1584 | F52: 524 | G52: 124 | H52: 10102 | I52: 6.4145714 | J52: 1182 | K52: 613 | L52: 149 | M52: 63 | N52: 19 | O52: 844 | P52: 9.7156398 | Q52: 143
B53: D断面計 | D53: 7405 | E53: 1486 | F53: 600 | G53: 33 | H53: 9524 | I53: 6.6463671 | J53: 852 | K53: 557 | L53: 134 | M53: 59 | N53: 4 | O53: 754 | P53: 8.3554377 | Q53: 92
B54: E断面計 | D54: 0 | E54: 0 | F54: 0 | G54: 0 | H54: 0 | I54: - | J54: 0 | K54: 0 | L54: 0 | M54: 0 | N54: 0 | O54: 0 | P54: - | Q54: 0
A55: 交差点合計 | D55: 15942 | E55: 3149 | F55: 1067 | G55: 166 | H55: 20324 | I55: 6.0667191 | J55: 2238 | K55: 1280 | L55: 284 | M55: 107 | N55: 23 | O55: 1694 | P55: 7.674144 | Q55: 253

Sheet No3平日_交差点計
B1: 交差点交通量集計表（自動車類）
B3: 調査地点： | C3: 宝塚市役所前
B4: 調査日： | C4: 令和7年10月21日（火）7時～19時
B6: 方向 | C6: 交差点計
B7: 種別 | C7: 小型車 | E7: 大型車 | G7: 合計 | H7: 大型車混入率 | I7: 二輪車
C8: 乗用車 | D8: 小型貨物 | E8: 普通貨物 | F8: バス
B9: 時間帯 | C9: (台) | D9: (台) | E9: (台) | F9: (台) | G9: (台) | H9: (％) | I9: (台)
A10: 7 | B10: 7:00-8:00 | C10: 1126 | D10: 259 | E10: 92 | F10: 11 | G10: 1488 | H10: 6.922043 | I10: 218
A11: 8 | B11: 8:00-9:00 | C11: 1280 | D11: 284 | E11: 107 | F11: 23 | G11: 1694 | H11: 7.674144 | I11: 253
A12: 9 | B12: 9:00-10:00 | C12: 1267 | D12: 284 | E12: 147 | F12: 15 | G12: 1713 | H12: 9.4570928 | I12: 159
A13: 10 | B13: 10:00-11:00 | C13: 1407 | D13: 264 | E13: 128 | F13: 12 | G13: 1811 | H13: 7.7305356 | I13: 179
A14: 11 | B14: 11:00-12:00 | C14: 1308 | D14: 290 | E14: 112 | F14: 11 | G14: 1721 | H14: 7.1470076 | I14: 154
A15: 12 | B15: 12:00-13:00 | C15: 1359 | D15: 231 | E15: 88 | F15: 11 | G15: 1689 | H15: 5.8614565 | I15: 180
A16: 13 | B16: 13:00-14:00 | C16: 1289 | D16: 280 | E16: 105 | F16: 9 | G16: 1683 | H16: 6.7736185 | I16: 153
A17: 14 | B17: 14:00-15:00 | C17: 1260 | D17: 276 | E17: 89 | F17: 15 | G17: 1640 | H17: 6.3414634 | I17: 144
A18: 15 | B18: 15:00-16:00 | C18: 1382 | D18: 295 | E18: 68 | F18: 19 | G18: 1764 | H18: 4.9319728 | I18: 160
A19: 16 | B19: 16:00-17:00 | C19: 1420 | D19: 287 | E19: 59 | F19: 18 | G19: 1784 | H19: 4.3161435 | I19: 196
A20: 17 | B20: 17:00-18:00 | C20: 1456 | D20: 228 | E20: 53 | F20: 12 | G20: 1749 | H20: 3.7164094 | I20: 230
A21: 18 | B21: 18:00-19:00 | C21: 1388 | D21: 171 | E21: 19 | F21: 10 | G21: 1588 | H21: 1.8261965 | I21: 212
B22: 全時間合計 | C22: 15942 | D22: 3149 | E22: 1067 | F22: 166 | G22: 20324 | H22: 6.0667191 | I22: 2238

Sheet No3平日_流入計
B1: 交差点交通量集計表（自動車類）
B3: 調査地点： | C3: 宝塚市役所前
B4: 調査日： | C4: 令和7年10月21日（火）7時～19時
B6: 方向 | C6: A
C7: 小型車 | E7: 大型車 | G7: 合計 | H7: 大型車混入率 | I7: 二輪車
B8: 種別 | C8: 乗用車 | D8: 小型貨物 | E8: 普通貨物 | F8: バス
B9: 時間帯 | C9: (台) | D9: (台) | E9: (台) | F9: (台) | G9: (台) | H9: (％) | I9: (台)
A10: 7 | B10: 7:00-8:00 | C10: 447 | D10: 133 | E10: 33 | F10: 3 | G10: 616 | H10: 5.8441558 | I10: 85
A11: 8 | B11: 8:00-9:00 | C11: 519 | D11: 142 | E11: 44 | F11: 8 | G11: 713 | H11: 7.2931276 | I11: 115
A12: 9 | B12: 9:00-10:00 | C12: 476 | D12: 130 | E12: 50 | F12: 7 | G12: 663 | H12: 8.5972851 | I12: 72
A13: 10 | B13: 10:00-11:00 | C13: 543 | D13: 108 | E13: 56 | F13: 5 | G13: 712 | H13: 8.5674157 | I13: 91
A14: 11 | B14: 11:00-12:00 | C14: 475 | D14: 108 | E14: 41 | F14: 4 | G14: 628 | H14: 7.1656051 | I14: 62
A15: 12 | B15: 12:00-13:00 | C15: 478 | D15: 97 | E15: 39 | F15: 4 | G15: 618 | H15: 6.9579288 | I15: 67
A16: 13 | B16: 13:00-14:00 | C16: 498 | D16: 102 | E16: 45 | F16: 4 | G16: 649 | H16: 7.550077 | I16: 73
A17: 14 | B17: 14:00-15:00 | C17: 438 | D17: 114 | E17: 37 | F17: 8 | G17: 597 | H17: 7.5376884 | I17: 60
A18: 15 | B18: 15:00-16:00 | C18: 510 | D18: 92 | E18: 18 | F18: 10 | G18: 630 | H18: 4.4444444 | I18: 65
A19: 16 | B19: 16:00-17:00 | C19: 561 | D19: 101 | E19: 23 | F19: 5 | G19: 690 | H19: 4.057971 | I19: 77
A20: 17 | B20: 17:00-18:00 | C20: 589 | D20: 91 | E20: 28 | F20: 6 | G20: 714 | H20: 4.7619048 | I20: 104
A21: 18 | B21: 18:00-19:00 | C21: 610 | D21: 79 | E21: 11 | F21: 3 | G21: 703 | H21: 1.9914651 | I21: 98
B22: 全時間合計 | C22: 6144 | D22: 1297 | E22: 425 | F22: 67 | G22: 7933 | H22: 6.2019413 | I22: 969
B24: 方向 | C24: B
C25: 小型車 | E25: 大型車 | G25: 合計 | H25: 大型車混入率 | I25: 二輪車
B26: 種別 | C26: 乗用車 | D26: 小型貨物 | E26: 普通貨物 | F26: バス
B27: 時間帯 | C27: (台) | D27: (台) | E27: (台) | F27: (台) | G27: (台) | H27: (％) | I27: (台)
A28: 7 | B28: 7:00-8:00 | C28: 222 | D28: 26 | E28: 5 | F28: 5 | G28: 258 | H28: 3.875969 | I28: 49
A29: 8 | B29: 8:00-9:00 | C29: 259 | D29: 34 | E29: 8 | F29: 6 | G29: 307 | H29: 4.5602606 | I29: 43
A30: 9 | B30: 9:00-10:00 | C30: 246 | D30: 35 | E30: 9 | F30: 3 | G30: 293 | H30: 4.0955631 | I30: 37
A31: 10 | B31: 10:00-11:00 | C31: 264 | D31: 37 | E31: 13 | F31: 3 | G31: 317 | H31: 5.0473186 | I31: 26
A32: 11 | B32: 11:00-12:00 | C32: 223 | D32: 41 | E32: 18 | F32: 3 | G32: 285 | H32: 7.3684211 | I32: 23
A33: 12 | B33: 12:00-13:00 | C33: 220 | D33: 37 | E33: 4 | F33: 3 | G33: 264 | H33: 2.6515152 | I33: 28
A34: 13 | B34: 13:00-14:00 | C34: 206 | D34: 56 | E34: 11 | F34: 3 | G34: 276 | H34: 5.0724638 | I34: 18
A35: 14 | B35: 14:00-15:00 | C35: 195 | D35: 36 | E35: 13 | F35: 3 | G35: 247 | H35: 6.4777328 | I35: 27
A36: 15 | B36: 15:00-16:00 | C36: 199 | D36: 48 | E36: 11 | F36: 5 | G36: 263 | H36: 6.0836502 | I36: 24
A37: 16 | B37: 16:00-17:00 | C37: 182 | D37: 53 | E37: 19 | F37: 3 | G37: 257 | H37: 8.5603113 | I37: 30
A38: 17 | B38: 17:00-18:00 | C38: 213 | D38: 31 | E38: 4 | F38: 3 | G38: 251 | H38: 2.7888446 | I38: 34
A39: 18 | B39: 18:00-19:00 | C39: 169 | D39: 19 | E39: 2 | F39: 2 | G39: 192 | H39: 2.0833333 | I39: 20
B40: 全時間合計 | C40: 2598 | D40: 453 | E40: 117 | F40: 42 | G40: 3210 | H40: 4.953271 | I40: 359
B42: 方向 | C42: C
C43: 小型車 | E43: 大型車 | G43: 合計 | H43: 大型車混入率 | I43: 二輪車
B44: 種別 | C44: 乗用車 | D44: 小型貨物 | E44: 普通貨物 | F44: バス
B45: 時間帯 | C45: (台) | D45: (台) | E45: (台) | F45: (台) | G45: (台) | H45: (％) | I45: (台)
A46: 7 | B46: 7:00-8:00 | C46: 305 | D46: 45 | E46: 24 | F46: 0 | G46: 374 | H46: 6.4171123 | I46: 48
A47: 8 | B47: 8:00-9:00 | C47: 292 | D47: 53 | E47: 19 | F47: 7 | G47: 371 | H47: 7.0080863 | I47: 58
A48: 9 | B48: 9:00-10:00 | C48: 343 | D48: 44 | E48: 34 | F48: 4 | G48: 425 | H48: 8.9411765 | I48: 25
A49: 10 | B49: 10:00-11:00 | C49: 313 | D49: 55 | E49: 32 | F49: 3 | G49: 403 | H49: 8.6848635 | I49: 38
A50: 11 | B50: 11:00-12:00 | C50: 290 | D50: 74 | E50: 30 | F50: 4 | G50: 398 | H50: 8.5427136 | I50: 38
A51: 12 | B51: 12:00-13:00 | C51: 341 | D51: 53 | E51: 19 | F51: 3 | G51: 416 | H51: 5.2884615 | I51: 53
A52: 13 | B52: 13:00-14:00 | C52: 293 | D52: 66 | E52: 19 | F52: 1 | G52: 379 | H52: 5.2770449 | I52: 33
A53: 14 | B53: 14:00-15:00 | C53: 317 | D53: 66 | E53: 17 | F53: 4 | G53: 404 | H53: 5.1980198 | I53: 29
A54: 15 | B54: 15:00-16:00 | C54: 354 | D54: 78 | E54: 23 | F54: 1 | G54: 456 | H54: 5.2631579 | I54: 37
A55: 16 | B55: 16:00-17:00 | C55: 343 | D55: 83 | E55: 13 | F55: 9 | G55: 448 | H55: 4.9107143 | I55: 53
A56: 17 | B56: 17:00-18:00 | C56: 337 | D56: 76 | E56: 15 | F56: 2 | G56: 430 | H56: 3.9534884 | I56: 47
A57: 18 | B57: 18:00-19:00 | C57: 288 | D57: 40 | E57: 2 | F57: 3 | G57: 333 | H57: 1.5015015 | I57: 51
B58: 全時間合計 | C58: 3816 | D58: 733 | E58: 247 | F58: 41 | G58: 4837 | H58: 5.9541038 | I58: 510
B60: 方向 | C60: D
C61: 小型車 | E61: 大型車 | G61: 合計 | H61: 大型車混入率 | I61: 二輪車
B62: 種別 | C62: 乗用車 | D62: 小型貨物 | E62: 普通貨物 | F62: バス
B63: 時間帯 | C63: (台) | D63: (台) | E63: (台) | F63: (台) | G63: (台) | H63: (％) | I63: (台)
A64: 7 | B64: 7:00-8:00 | C64: 152 | D64: 55 | E64: 30 | F64: 3 | G64: 240 | H64: 13.75 | I64: 36
A65: 8 | B65: 8:00-9:00 | C65: 210 | D65: 55 | E65: 36 | F65: 2 | G65: 303 | H65: 12.541254 | I65: 37
A66: 9 | B66: 9:00-10:00 | C66: 202 | D66: 75 | E66: 54 | F66: 1 | G66: 332 | H66: 16.566265 | I66: 25
A67: 10 | B67: 10:00-11:00 | C67: 287 | D67: 64 | E67: 27 | F67: 1 | G67: 379 | H67: 7.3878628 | I67: 24
A68: 11 | B68: 11:00-12:00 | C68: 320 | D68: 67 | E68: 23 | F68: 0 | G68: 410 | H68: 5.6097561 | I68: 31
A69: 12 | B69: 12:00-13:00 | C69: 320 | D69: 44 | E69: 26 | F69: 1 | G69: 391 | H69: 6.9053708 | I69: 32
A70: 13 | B70: 13:00-14:00 | C70: 292 | D70: 56 | E70: 30 | F70: 1 | G70: 379 | H70: 8.1794195 | I70: 29
A71: 14 | B71: 14:00-15:00 | C71: 310 | D71: 60 | E71: 22 | F71: 0 | G71: 392 | H71: 5.6122449 | I71: 28
A72: 15 | B72: 15:00-16:00 | C72: 319 | D72: 77 | E72: 16 | F72: 3 | G72: 415 | H72: 4.5783133 | I72: 34
A73: 16 | B73: 16:00-17:00 | C73: 334 | D73: 50 | E73: 4 | F73: 1 | G73: 389 | H73: 1.285347 | I73: 36
A74: 17 | B74: 17:00-18:00 | C74: 317 | D74: 30 | E74: 6 | F74: 1 | G74: 354 | H74: 1.9774011 | I74: 45
A75: 18 | B75: 18:00-19:00 | C75: 321 | D75: 33 | E75: 4 | F75: 2 | G75: 360 | H75: 1.6666667 | I75: 43
B76: 全時間合計 | C76: 3384 | D76: 666 | E76: 278 | F76: 16 | G76: 4344 | H76: 6.7679558 | I76: 400

Sheet No3平日_流出計
B1: 交差点交通量集計表（自動車類）
B3: 調査地点： | C3: 宝塚市役所前
B4: 調査日： | C4: 令和7年10月21日（火）7時～19時
B6: 方向 | C6: A
C7: 小型車 | E7: 大型車 | G7: 合 計 | H7: 大型車混入率 | I7: 二輪車
B8: 種別 | C8: 乗用車 | D8: 小型貨物 | E8: 普通貨物 | F8: バス
B9: 時間帯 | C9: (台) | D9: (台) | E9: (台) | F9: (台) | G9: (台) | H9: (％) | I9: (台)
A10: 7 | B10: 7:00- 8:00 | C10: 453 | D10: 90 | E10: 35 | F10: 1 | G10: 579 | H10: 6.2176166 | I10: 94
A11: 8 | B11: 8:00- 9:00 | C11: 448 | D11: 70 | E11: 24 | F11: 9 | G11: 551 | H11: 5.9891107 | I11: 88
A12: 9 | B12: 9:00- 10:00 | C12: 435 | D12: 78 | E12: 55 | F12: 6 | G12: 574 | H12: 10.627178 | I12: 50
A13: 10 | B13: 10:00- 11:00 | C13: 457 | D13: 76 | E13: 44 | F13: 5 | G13: 582 | H13: 8.419244 | I13: 54
A14: 11 | B14: 11:00- 12:00 | C14: 424 | D14: 105 | E14: 43 | F14: 6 | G14: 578 | H14: 8.4775087 | I14: 58
A15: 12 | B15: 12:00- 13:00 | C15: 480 | D15: 71 | E15: 32 | F15: 5 | G15: 588 | H15: 6.292517 | I15: 73
A16: 13 | B16: 13:00- 14:00 | C16: 413 | D16: 96 | E16: 34 | F16: 3 | G16: 546 | H16: 6.7765568 | I16: 50
A17: 14 | B17: 14:00- 15:00 | C17: 463 | D17: 88 | E17: 23 | F17: 6 | G17: 580 | H17: 5 | I17: 58
A18: 15 | B18: 15:00- 16:00 | C18: 475 | D18: 106 | E18: 28 | F18: 5 | G18: 614 | H18: 5.3745928 | I18: 62
A19: 16 | B19: 16:00-17:00 | C19: 509 | D19: 106 | E19: 16 | F19: 11 | G19: 642 | H19: 4.2056075 | I19: 82
A20: 17 | B20: 17:00-18:00 | C20: 489 | D20: 92 | E20: 12 | F20: 4 | G20: 597 | H20: 2.680067 | I20: 79
A21: 18 | B21: 18:00-19:00 | C21: 474 | D21: 66 | E21: 4 | F21: 4 | G21: 548 | H21: 1.459854 | I21: 76
B22: 全時間合計 | C22: 5520 | D22: 1044 | E22: 350 | F22: 65 | G22: 6979 | H22: 5.9464107 | I22: 824
B24: 方向 | C24: B
C25: 小型車 | E25: 大型車 | G25: 合 計 | H25: 大型車混入率 | I25: 二輪車
B26: 種別 | C26: 乗用車 | D26: 小型貨物 | E26: 普通貨物 | F26: バス
B27: 時間帯 | C27: (台) | D27: (台) | E27: (台) | F27: (台) | G27: (台) | H27: (％) | I27: (台)
A28: 7 | B28: 7:00- 8:00 | C28: 105 | D28: 22 | E28: 5 | F28: 0 | G28: 132 | H28: 3.7878788 | I28: 23
A29: 8 | B29: 8:00- 9:00 | C29: 164 | D29: 39 | E29: 16 | F29: 0 | G29: 219 | H29: 7.3059361 | I29: 25
A30: 9 | B30: 9:00- 10:00 | C30: 146 | D30: 55 | E30: 22 | F30: 0 | G30: 223 | H30: 9.8654709 | I30: 21
A31: 10 | B31: 10:00- 11:00 | C31: 185 | D31: 48 | E31: 11 | F31: 0 | G31: 244 | H31: 4.5081967 | I31: 24
A32: 11 | B32: 11:00- 12:00 | C32: 188 | D32: 44 | E32: 9 | F32: 0 | G32: 241 | H32: 3.7344398 | I32: 27
A33: 12 | B33: 12:00- 13:00 | C33: 211 | D33: 27 | E33: 12 | F33: 0 | G33: 250 | H33: 4.8 | I33: 24
A34: 13 | B34: 13:00- 14:00 | C34: 197 | D34: 31 | E34: 16 | F34: 0 | G34: 244 | H34: 6.557377 | I34: 24
A35: 14 | B35: 14:00- 15:00 | C35: 185 | D35: 39 | E35: 12 | F35: 0 | G35: 236 | H35: 5.0847458 | I35: 19
A36: 15 | B36: 15:00- 16:00 | C36: 222 | D36: 48 | E36: 7 | F36: 1 | G36: 278 | H36: 2.8776978 | I36: 23
A37: 16 | B37: 16:00-17:00 | C37: 249 | D37: 31 | E37: 3 | F37: 0 | G37: 283 | H37: 1.0600707 | I37: 26
A38: 17 | B38: 17:00-18:00 | C38: 269 | D38: 31 | E38: 4 | F38: 0 | G38: 304 | H38: 1.3157895 | I38: 23
A39: 18 | B39: 18:00-19:00 | C39: 226 | D39: 19 | E39: 1 | F39: 0 | G39: 246 | H39: 0.40650407 | I39: 31
B40: 全時間合計 | C40: 2347 | D40: 434 | E40: 118 | F40: 1 | G40: 2900 | H40: 4.1034483 | I40: 290
B42: 方向 | C42: C
C43: 小型車 | E43: 大型車 | G43: 合 計 | H43: 大型車混入率 | I43: 二輪車
B44: 種別 | C44: 乗用車 | D44: 小型貨物 | E44: 普通貨物 | F44: バス
B45: 時間帯 | C45: (台) | D45: (台) | E45: (台) | F45: (台) | G45: (台) | H45: (％) | I45: (台)
A46: 7 | B46: 7:00- 8:00 | C46: 306 | D46: 109 | E46: 34 | F46: 6 | G46: 455 | H46: 8.7912088 | I46: 48
A47: 8 | B47: 8:00- 9:00 | C47: 321 | D47: 96 | E47: 44 | F47: 12 | G47: 473 | H47: 11.839323 | I47: 85
A48: 9 | B48: 9:00- 10:00 | C48: 286 | D48: 90 | E48: 36 | F48: 8 | G48: 420 | H48: 10.47619 | I48: 45
A49: 10 | B49: 10:00- 11:00 | C49: 385 | D49: 74 | E49: 31 | F49: 6 | G49: 496 | H49: 7.4596774 | I49: 61
A50: 11 | B50: 11:00- 12:00 | C50: 329 | D50: 64 | E50: 20 | F50: 4 | G50: 417 | H50: 5.7553957 | I50: 45
A51: 12 | B51: 12:00- 13:00 | C51: 317 | D51: 59 | E51: 25 | F51: 5 | G51: 406 | H51: 7.3891626 | I51: 54
A52: 13 | B52: 13:00- 14:00 | C52: 337 | D52: 75 | E52: 21 | F52: 6 | G52: 439 | H52: 6.1503417 | I52: 47
A53: 14 | B53: 14:00- 15:00 | C53: 296 | D53: 65 | E53: 25 | F53: 8 | G53: 394 | H53: 8.3756345 | I53: 39
A54: 15 | B54: 15:00- 16:00 | C54: 319 | D54: 66 | E54: 14 | F54: 10 | G54: 409 | H54: 5.8679707 | I54: 44
A55: 16 | B55: 16:00-17:00 | C55: 359 | D55: 61 | E55: 5 | F55: 6 | G55: 431 | H55: 2.5522042 | I55: 58
A56: 17 | B56: 17:00-18:00 | C56: 391 | D56: 47 | E56: 13 | F56: 7 | G56: 458 | H56: 4.3668122 | I56: 85
A57: 18 | B57: 18:00-19:00 | C57: 408 | D57: 45 | E57: 9 | F57: 5 | G57: 467 | H57: 2.9978587 | I57: 61
B58: 全時間合計 | C58: 4054 | D58: 851 | E58: 277 | F58: 83 | G58: 5265 | H58: 6.8376068 | I58: 672
B60: 方向 | C60: D
C61: 小型車 | E61: 大型車 | G61: 合 計 | H61: 大型車混入率 | I61: 二輪車
B62: 種別 | C62: 乗用車 | D62: 小型貨物 | E62: 普通貨物 | F62: バス
B63: 時間帯 | C63: (台) | D63: (台) | E63: (台) | F63: (台) | G63: (台) | H63: (％) | I63: (台)
A64: 7 | B64: 7:00- 8:00 | C64: 262 | D64: 38 | E64: 18 | F64: 4 | G64: 322 | H64: 6.8322981 | I64: 53
A65: 8 | B65: 8:00- 9:00 | C65: 347 | D65: 79 | E65: 23 | F65: 2 | G65: 451 | H65: 5.5432373 | I65: 55
A66: 9 | B66: 9:00- 10:00 | C66: 400 | D66: 61 | E66: 34 | F66: 1 | G66: 496 | H66: 7.0564516 | I66: 43
A67: 10 | B67: 10:00- 11:00 | C67: 380 | D67: 66 | E67: 42 | F67: 1 | G67: 489 | H67: 8.793456 | I67: 40
A68: 11 | B68: 11:00- 12:00 | C68: 367 | D68: 77 | E68: 40 | F68: 1 | G68: 485 | H68: 8.4536082 | I68: 24
A69: 12 | B69: 12:00- 13:00 | C69: 351 | D69: 74 | E69: 19 | F69: 1 | G69: 445 | H69: 4.494382 | I69: 29
A70: 13 | B70: 13:00- 14:00 | C70: 342 | D70: 78 | E70: 34 | F70: 0 | G70: 454 | H70: 7.4889868 | I70: 32
A71: 14 | B71: 14:00- 15:00 | C71: 316 | D71: 84 | E71: 29 | F71: 1 | G71: 430 | H71: 6.9767442 | I71: 28
A72: 15 | B72: 15:00- 16:00 | C72: 366 | D72: 75 | E72: 19 | F72: 3 | G72: 463 | H72: 4.7516199 | I72: 31
A73: 16 | B73: 16:00-17:00 | C73: 303 | D73: 89 | E73: 35 | F73: 1 | G73: 428 | H73: 8.411215 | I73: 30
A74: 17 | B74: 17:00-18:00 | C74: 307 | D74: 58 | E74: 24 | F74: 1 | G74: 390 | H74: 6.4102564 | I74: 43
A75: 18 | B75: 18:00-19:00 | C75: 280 | D75: 41 | E75: 5 | F75: 1 | G75: 327 | H75: 1.8348624 | I75: 44
B76: 全時間合計 | C76: 4021 | D76: 820 | E76: 322 | F76: 17 | G76: 5180 | H76: 6.5444015 | I76: 452

Sheet No3平日_断面計
B1: 交差点交通量集計表（自動車類）
B3: 調査地点： | C3: 宝塚市役所前
B4: 調査日： | C4: 令和7年10月21日（火）7時～19時
B6: 方向 | C6: A
C7: 小型車 | E7: 大型車 | G7: 合計 | H7: 大型車混入率 | I7: 二輪車
B8: 種別 | C8: 乗用車 | D8: 小型貨物 | E8: 普通貨物 | F8: バス
B9: 時間帯 | C9: (台) | D9: (台) | E9: (台) | F9: (台) | G9: (台) | H9: (％) | I9: (台)
A10: 7 | B10: 7:00-8:00 | C10: 900 | D10: 223 | E10: 68 | F10: 4 | G10: 1195 | H10: 6.0251046 | I10: 179
A11: 8 | B11: 8:00-9:00 | C11: 967 | D11: 212 | E11: 68 | F11: 17 | G11: 1264 | H11: 6.7246835 | I11: 203
A12: 9 | B12: 9:00-10:00 | C12: 911 | D12: 208 | E12: 105 | F12: 13 | G12: 1237 | H12: 9.5392078 | I12: 122
A13: 10 | B13: 10:00-11:00 | C13: 1000 | D13: 184 | E13: 100 | F13: 10 | G13: 1294 | H13: 8.5007728 | I13: 145
A14: 11 | B14: 11:00-12:00 | C14: 899 | D14: 213 | E14: 84 | F14: 10 | G14: 1206 | H14: 7.7943615 | I14: 120
A15: 12 | B15: 12:00-13:00 | C15: 958 | D15: 168 | E15: 71 | F15: 9 | G15: 1206 | H15: 6.6334992 | I15: 140
A16: 13 | B16: 13:00-14:00 | C16: 911 | D16: 198 | E16: 79 | F16: 7 | G16: 1195 | H16: 7.1966527 | I16: 123
A17: 14 | B17: 14:00-15:00 | C17: 901 | D17: 202 | E17: 60 | F17: 14 | G17: 1177 | H17: 6.2871708 | I17: 118
A18: 15 | B18: 15:00-16:00 | C18: 985 | D18: 198 | E18: 46 | F18: 15 | G18: 1244 | H18: 4.903537 | I18: 127
A19: 16 | B19: 16:00-17:00 | C19: 1070 | D19: 207 | E19: 39 | F19: 16 | G19: 1332 | H19: 4.1291291 | I19: 159
A20: 17 | B20: 17:00-18:00 | C20: 1078 | D20: 183 | E20: 40 | F20: 10 | G20: 1311 | H20: 3.8138825 | I20: 183
A21: 18 | B21: 18:00-19:00 | C21: 1084 | D21: 145 | E21: 15 | F21: 7 | G21: 1251 | H21: 1.7585931 | I21: 174
B22: 全時間合計 | C22: 11664 | D22: 2341 | E22: 775 | F22: 132 | G22: 14912 | H22: 6.0823498 | I22: 1793
B24: 方向 | C24: B
C25: 小型車 | E25: 大型車 | G25: 合計 | H25: 大型車混入率 | I25: 二輪車
B26: 種別 | C26: 乗用車 | D26: 小型貨物 | E26: 普通貨物 | F26: バス
B27: 時間帯 | C27: (台) | D27: (台) | E27: (台) | F27: (台) | G27: (台) | H27: (％) | I27: (台)
A28: 7 | B28: 7:00-8:00 | C28: 327 | D28: 48 | E28: 10 | F28: 5 | G28: 390 | H28: 3.8461538 | I28: 72
A29: 8 | B29: 8:00-9:00 | C29: 423 | D29: 73 | E29: 24 | F29: 6 | G29: 526 | H29: 5.7034221 | I29: 68
A30: 9 | B30: 9:00-10:00 | C30: 392 | D30: 90 | E30: 31 | F30: 3 | G30: 516 | H30: 6.5891473 | I30: 58
A31: 10 | B31: 10:00-11:00 | C31: 449 | D31: 85 | E31: 24 | F31: 3 | G31: 561 | H31: 4.8128342 | I31: 50
A32: 11 | B32: 11:00-12:00 | C32: 411 | D32: 85 | E32: 27 | F32: 3 | G32: 526 | H32: 5.7034221 | I32: 50
A33: 12 | B33: 12:00-13:00 | C33: 431 | D33: 64 | E33: 16 | F33: 3 | G33: 514 | H33: 3.6964981 | I33: 52
A34: 13 | B34: 13:00-14:00 | C34: 403 | D34: 87 | E34: 27 | F34: 3 | G34: 520 | H34: 5.7692308 | I34: 42
A35: 14 | B35: 14:00-15:00 | C35: 380 | D35: 75 | E35: 25 | F35: 3 | G35: 483 | H35: 5.7971014 | I35: 46
A36: 15 | B36: 15:00-16:00 | C36: 421 | D36: 96 | E36: 18 | F36: 6 | G36: 541 | H36: 4.4362292 | I36: 47
A37: 16 | B37: 16:00-17:00 | C37: 431 | D37: 84 | E37: 22 | F37: 3 | G37: 540 | H37: 4.6296296 | I37: 56
A38: 17 | B38: 17:00-18:00 | C38: 482 | D38: 62 | E38: 8 | F38: 3 | G38: 555 | H38: 1.981982 | I38: 57
A39: 18 | B39: 18:00-19:00 | C39: 395 | D39: 38 | E39: 3 | F39: 2 | G39: 438 | H39: 1.1415525 | I39: 51
B40: 全時間合計 | C40: 4945 | D40: 887 | E40: 235 | F40: 43 | G40: 6110 | H40: 4.5499182 | I40: 649
B42: 方向 | C42: C
C43: 小型車 | E43: 大型車 | G43: 合計 | H43: 大型車混入率 | I43: 二輪車
B44: 種別 | C44: 乗用車 | D44: 小型貨物 | E44: 普通貨物 | F44: バス
B45: 時間帯 | C45: (台) | D45: (台) | E45: (台) | F45: (台) | G45: (台) | H45: (％) | I45: (台)
A46: 7 | B46: 7:00-8:00 | C46: 611 | D46: 154 | E46: 58 | F46: 6 | G46: 829 | H46: 7.7201448 | I46: 96
A47: 8 | B47: 8:00-9:00 | C47: 613 | D47: 149 | E47: 63 | F47: 19 | G47: 844 | H47: 9.7156398 | I47: 143
A48: 9 | B48: 9:00-10:00 | C48: 629 | D48: 134 | E48: 70 | F48: 12 | G48: 845 | H48: 9.704142 | I48: 70
A49: 10 | B49: 10:00-11:00 | C49: 698 | D49: 129 | E49: 63 | F49: 9 | G49: 899 | H49: 8.0088988 | I49: 99
A50: 11 | B50: 11:00-12:00 | C50: 619 | D50: 138 | E50: 50 | F50: 8 | G50: 815 | H50: 7.1165644 | I50: 83
A51: 12 | B51: 12:00-13:00 | C51: 658 | D51: 112 | E51: 44 | F51: 8 | G51: 822 | H51: 6.3260341 | I51: 107
A52: 13 | B52: 13:00-14:00 | C52: 630 | D52: 141 | E52: 40 | F52: 7 | G52: 818 | H52: 5.7457213 | I52: 80
A53: 14 | B53: 14:00-15:00 | C53: 613 | D53: 131 | E53: 42 | F53: 12 | G53: 798 | H53: 6.7669173 | I53: 68
A54: 15 | B54: 15:00-16:00 | C54: 673 | D54: 144 | E54: 37 | F54: 11 | G54: 865 | H54: 5.5491329 | I54: 81
A55: 16 | B55: 16:00-17:00 | C55: 702 | D55: 144 | E55: 18 | F55: 15 | G55: 879 | H55: 3.7542662 | I55: 111
A56: 17 | B56: 17:00-18:00 | C56: 728 | D56: 123 | E56: 28 | F56: 9 | G56: 888 | H56: 4.1666667 | I56: 132
A57: 18 | B57: 18:00-19:00 | C57: 696 | D57: 85 | E57: 11 | F57: 8 | G57: 800 | H57: 2.375 | I57: 112
B58: 全時間合計 | C58: 7870 | D58: 1584 | E58: 524 | F58: 124 | G58: 10102 | H58: 6.4145714 | I58: 1182
B60: 方向 | C60: D
C61: 小型車 | E61: 大型車 | G61: 合計 | H61: 大型車混入率 | I61: 二輪車
B62: 種別 | C62: 乗用車 | D62: 小型貨物 | E62: 普通貨物 | F62: バス
B63: 時間帯 | C63: (台) | D63: (台) | E63: (台) | F63: (台) | G63: (台) | H63: (％) | I63: (台)
A64: 7 | B64: 7:00-8:00 | C64: 414 | D64: 93 | E64: 48 | F64: 7 | G64: 562 | H64: 9.7864769 | I64: 89
A65: 8 | B65: 8:00-9:00 | C65: 557 | D65: 134 | E65: 59 | F65: 4 | G65: 754 | H65: 8.3554377 | I65: 92
A66: 9 | B66: 9:00-10:00 | C66: 602 | D66: 136 | E66: 88 | F66: 2 | G66: 828 | H66: 10.869565 | I66: 68
A67: 10 | B67: 10:00-11:00 | C67: 667 | D67: 130 | E67: 69 | F67: 2 | G67: 868 | H67: 8.1797235 | I67: 64
A68: 11 | B68: 11:00-12:00 | C68: 687 | D68: 144 | E68: 63 | F68: 1 | G68: 895 | H68: 7.150838 | I68: 55
A69: 12 | B69: 12:00-13:00 | C69: 671 | D69: 118 | E69: 45 | F69: 2 | G69: 836 | H69: 5.6220096 | I69: 61
A70: 13 | B70: 13:00-14:00 | C70: 634 | D70: 134 | E70: 64 | F70: 1 | G70: 833 | H70: 7.8031212 | I70: 61
A71: 14 | B71: 14:00-15:00 | C71: 626 | D71: 144 | E71: 51 | F71: 1 | G71: 822 | H71: 6.3260341 | I71: 56
A72: 15 | B72: 15:00-16:00 | C72: 685 | D72: 152 | E72: 35 | F72: 6 | G72: 878 | H72: 4.6697039 | I72: 65
A73: 16 | B73: 16:00-17:00 | C73: 637 | D73: 139 | E73: 39 | F73: 2 | G73: 817 | H73: 5.0183599 | I73: 66
A74: 17 | B74: 17:00-18:00 | C74: 624 | D74: 88 | E74: 30 | F74: 2 | G74: 744 | H74: 4.3010753 | I74: 88
A75: 18 | B75: 18:00-19:00 | C75: 601 | D75: 74 | E75: 9 | F75: 3 | G75: 687 | H75: 1.7467249 | I75: 87
B76: 全時間合計 | C76: 7405 | D76: 1486 | E76: 600 | F76: 33 | G76: 9524 | H76: 6.6463671 | I76: 852

Sheet No3平日_方向別A
B1: 交差点交通量集計表（自動車類）
B3: 調査地点： | C3: 宝塚市役所前
B4: 調査日： | C4: 令和7年10月21日（火）7時～19時
B6: 方向 | C6: 1 | J6: 2 | Q6: 3
C7: 小型車 | E7: 大型車 | G7: 合計 | H7: 大型車混入率 | I7: 二輪車 | J7: 小型車 | L7: 大型車 | N7: 合計 | O7: 大型車混入率 | P7: 二輪車 | Q7: 小型車 | S7: 大型車 | U7: 合計 | V7: 大型車混入率 | W7: 二輪車 | X7: 小型車 | Z7: 大型車 | AB7: 合計 | AC7: 大型車混入率 | AD7: 二輪車
B8: 種別 | C8: 乗用車 | D8: 小型貨物 | E8: 普通貨物 | F8: バス | J8: 乗用車 | K8: 小型貨物 | L8: 普通貨物 | M8: バス | Q8: 乗用車 | R8: 小型貨物 | S8: 普通貨物 | T8: バス | X8: 乗用車 | Y8: 小型貨物 | Z8: 普通貨物 | AA8: バス
B9: 時間帯 | C9: (台) | D9: (台) | E9: (台) | F9: (台) | G9: (台) | H9: (％) | I9: (台) | J9: (台) | K9: (台) | L9: (台) | M9: (台) | N9: (台) | O9: (％) | P9: (台) | Q9: (台) | R9: (台) | S9: (台) | T9: (台) | U9: (台) | V9: (％) | W9: (台) | X9: (台) | Y9: (台) | Z9: (台) | AA9: (台) | AB9: (台) | AC9: (％) | AD9: (台)
A10: 7 | B10: 7:00-8:00 | C10: 122 | D10: 23 | E10: 11 | F10: 0 | G10: 156 | H10: 7.0512821 | I10: 29 | J10: 284 | K10: 101 | L10: 20 | M10: 3 | N10: 408 | O10: 5.6372549 | P10: 44 | Q10: 41 | R10: 9 | S10: 2 | T10: 0 | U10: 52 | V10: 3.8 | W10: 12 | AB10: =IF($X$6="","",SUM(X10:AA10)) | AC10: =IF($X$6="","",IF(AA10+Z10=0,"-",ROUND((AA10+Z10)/AB10*100,1)))
A11: 8 | B11: 8:00-9:00 | C11: 160 | D11: 47 | E11: 10 | F11: 0 | G11: 217 | H11: 4.6082949 | I11: 24 | J11: 280 | K11: 82 | L11: 32 | M11: 8 | N11: 402 | O11: 9.9502488 | P11: 80 | Q11: 79 | R11: 13 | S11: 2 | T11: 0 | U11: 94 | V11: 2.1 | W11: 11 | AB11: =IF($X$6="","",SUM(X11:AA11)) | AC11: =IF($X$6="","",IF(AA11+Z11=0,"-",ROUND((AA11+Z11)/AB11*100,1)))
A12: 9 | B12: 9:00-10:00 | C12: 178 | D12: 33 | E12: 23 | F12: 0 | G12: 234 | H12: 9.8290598 | I12: 24 | J12: 241 | K12: 76 | L12: 23 | M12: 7 | N12: 347 | O12: 8.6455331 | P12: 40 | Q12: 57 | R12: 21 | S12: 4 | T12: 0 | U12: 82 | V12: 4.9 | W12: 8 | AB12: =IF($X$6="","",SUM(X12:AA12)) | AC12: =IF($X$6="","",IF(AA12+Z12=0,"-",ROUND((AA12+Z12)/AB12*100,1)))
A13: 10 | B13: 10:00-11:00 | C13: 178 | D13: 34 | E13: 28 | F13: 0 | G13: 240 | H13: 11.666667 | I13: 24 | J13: 299 | K13: 56 | L13: 23 | M13: 5 | N13: 383 | O13: 7.310705 | P13: 56 | Q13: 66 | R13: 18 | S13: 5 | T13: 0 | U13: 89 | V13: 5.6 | W13: 11 | AB13: =IF($X$6="","",SUM(X13:AA13)) | AC13: =IF($X$6="","",IF(AA13+Z13=0,"-",ROUND((AA13+Z13)/AB13*100,1)))
A14: 11 | B14: 11:00-12:00 | C14: 175 | D14: 39 | E14: 26 | F14: 0 | G14: 240 | H14: 10.833333 | I14: 8 | J14: 253 | K14: 49 | L14: 13 | M14: 4 | N14: 319 | O14: 5.3291536 | P14: 40 | Q14: 47 | R14: 20 | S14: 2 | T14: 0 | U14: 69 | V14: 2.9 | W14: 14 | AB14: =IF($X$6="","",SUM(X14:AA14)) | AC14: =IF($X$6="","",IF(AA14+Z14=0,"-",ROUND((AA14+Z14)/AB14*100,1)))
A15: 12 | B15: 12:00-13:00 | C15: 167 | D15: 42 | E15: 17 | F15: 0 | G15: 226 | H15: 7.5221239 | I15: 8 | J15: 244 | K15: 48 | L15: 18 | M15: 4 | N15: 314 | O15: 7.0063694 | P15: 48 | Q15: 67 | R15: 7 | S15: 4 | T15: 0 | U15: 78 | V15: 5.1 | W15: 11 | AB15: =IF($X$6="","",SUM(X15:AA15)) | AC15: =IF($X$6="","",IF(AA15+Z15=0,"-",ROUND((AA15+Z15)/AB15*100,1)))
A16: 13 | B16: 13:00-14:00 | C16: 165 | D16: 35 | E16: 23 | F16: 0 | G16: 223 | H16: 10.313901 | I16: 20 | J16: 268 | K16: 58 | L16: 19 | M16: 4 | N16: 349 | O16: 6.5902579 | P16: 41 | Q16: 65 | R16: 9 | S16: 3 | T16: 0 | U16: 77 | V16: 3.9 | W16: 12 | AB16: =IF($X$6="","",SUM(X16:AA16)) | AC16: =IF($X$6="","",IF(AA16+Z16=0,"-",ROUND((AA16+Z16)/AB16*100,1)))
A17: 14 | B17: 14:00-15:00 | C17: 156 | D17: 50 | E17: 17 | F17: 0 | G17: 223 | H17: 7.6233184 | I17: 16 | J17: 226 | K17: 51 | L17: 18 | M17: 8 | N17: 303 | O17: 8.5808581 | P17: 37 | Q17: 56 | R17: 13 | S17: 2 | T17: 0 | U17: 71 | V17: 2.8 | W17: 7 | AB17: =IF($X$6="","",SUM(X17:AA17)) | AC17: =IF($X$6="","",IF(AA17+Z17=0,"-",ROUND((AA17+Z17)/AB17*100,1)))
A18: 15 | B18: 15:00-16:00 | C18: 177 | D18: 29 | E18: 8 | F18: 1 | G18: 215 | H18: 4.1860465 | I18: 17 | J18: 253 | K18: 48 | L18: 9 | M18: 8 | N18: 318 | O18: 5.3459119 | P18: 39 | Q18: 80 | R18: 15 | S18: 1 | T18: 1 | U18: 97 | V18: 2.1 | W18: 9 | AB18: =IF($X$6="","",SUM(X18:AA18)) | AC18: =IF($X$6="","",IF(AA18+Z18=0,"-",ROUND((AA18+Z18)/AB18*100,1)))
A19: 16 | B19: 16:00-17:00 | C19: 167 | D19: 39 | E19: 17 | F19: 0 | G19: 223 | H19: 7.6233184 | I19: 15 | J19: 311 | K19: 51 | L19: 4 | M19: 5 | N19: 371 | O19: 2.425876 | P19: 50 | Q19: 83 | R19: 11 | S19: 2 | T19: 0 | U19: 96 | V19: 2.1 | W19: 12 | AB19: =IF($X$6="","",SUM(X19:AA19)) | AC19: =IF($X$6="","",IF(AA19+Z19=0,"-",ROUND((AA19+Z19)/AB19*100,1)))
A20: 17 | B20: 17:00-18:00 | C20: 163 | D20: 36 | E20: 15 | F20: 0 | G20: 214 | H20: 7.0093458 | I20: 21 | J20: 332 | K20: 43 | L20: 11 | M20: 6 | N20: 392 | O20: 4.3367347 | P20: 76 | Q20: 94 | R20: 12 | S20: 2 | T20: 0 | U20: 108 | V20: 1.9 | W20: 7 | AB20: =IF($X$6="","",SUM(X20:AA20)) | AC20: =IF($X$6="","",IF(AA20+Z20=0,"-",ROUND((AA20+Z20)/AB20*100,1)))
A21: 18 | B21: 18:00-19:00 | C21: 167 | D21: 30 | E21: 4 | F21: 0 | G21: 201 | H21: 1.9900498 | I21: 30 | J21: 358 | K21: 41 | L21: 7 | M21: 3 | N21: 409 | O21: 2.4449878 | P21: 57 | Q21: 85 | R21: 8 | S21: 0 | T21: 0 | U21: 93 | V21: - | W21: 11 | AB21: =IF($X$6="","",SUM(X21:AA21)) | AC21: =IF($X$6="","",IF(AA21+Z21=0,"-",ROUND((AA21+Z21)/AB21*100,1)))
B22: 全時間合計 | C22: 1975 | D22: 437 | E22: 199 | F22: 1 | G22: 2612 | H22: 7.6569678 | I22: 236 | J22: 3349 | K22: 704 | L22: 197 | M22: 65 | N22: 4315 | O22: 6.0718424 | P22: 608 | Q22: 820 | R22: 156 | S22: 29 | T22: 1 | U22: 1006 | V22: 3 | W22: 125 | X22: =IF($X$6="","",SUM(X10:X21)) | Y22: =IF($X$6="","",SUM(Y10:Y21)) | Z22: =IF($X$6="","",SUM(Z10:Z21)) | AA22: =IF($X$6="","",SUM(AA10:AA21)) | AB22: =IF($X$6="","",SUM(X22:AA22)) | AC22: =IF($X$6="","",IF(AA22+Z22=0,"-",ROUND((AA22+Z22)/AB22*100,1))) | AD22: =IF($X$6="","",SUM(AD10:AD21))

Sheet No3平日_方向別B
B1: 交差点交通量集計表（自動車類）
B3: 調査地点： | C3: 宝塚市役所前
B4: 調査日： | C4: 令和7年10月21日（火）7時～19時
B6: 方向 | C6: 4 | J6: 5 | Q6: 6
C7: 小型車 | E7: 大型車 | G7: 合計 | H7: 大型車混入率 | I7: 二輪車 | J7: 小型車 | L7: 大型車 | N7: 合計 | O7: 大型車混入率 | P7: 二輪車 | Q7: 小型車 | S7: 大型車 | U7: 合計 | V7: 大型車混入率 | W7: 二輪車 | X7: 小型車 | Z7: 大型車 | AB7: 合計 | AC7: 大型車混入率 | AD7: 二輪車
B8: 種別 | C8: 乗用車 | D8: 小型貨物 | E8: 普通貨物 | F8: バス | J8: 乗用車 | K8: 小型貨物 | L8: 普通貨物 | M8: バス | Q8: 乗用車 | R8: 小型貨物 | S8: 普通貨物 | T8: バス | X8: 乗用車 | Y8: 小型貨物 | Z8: 普通貨物 | AA8: バス
B9: 時間帯 | C9: (台) | D9: (台) | E9: (台) | F9: (台) | G9: (台) | H9: (％) | I9: (台) | J9: (台) | K9: (台) | L9: (台) | M9: (台) | N9: (台) | O9: (％) | P9: (台) | Q9: (台) | R9: (台) | S9: (台) | T9: (台) | U9: (台) | V9: (％) | W9: (台) | X9: (台) | Y9: (台) | Z9: (台) | AA9: (台) | AB9: (台) | AC9: (％) | AD9: (台)
A10: 7 | B10: 7:00-8:00 | C10: 97 | D10: 13 | E10: 2 | F10: 1 | G10: 113 | H10: 2.6548673 | I10: 26 | J10: 122 | K10: 13 | L10: 1 | M10: 4 | N10: 140 | O10: 3.5714286 | P10: 23 | Q10: 3 | R10: 0 | S10: 2 | T10: 0 | U10: 5 | V10: 40 | W10: 0 | AB10: =IF($X$6="","",SUM(X10:AA10)) | AC10: =IF($X$6="","",IF(AA10+Z10=0,"-",ROUND((AA10+Z10)/AB10*100,1)))
A11: 8 | B11: 8:00-9:00 | C11: 99 | D11: 8 | E11: 1 | F11: 2 | G11: 110 | H11: 2.7272727 | I11: 17 | J11: 152 | K11: 24 | L11: 7 | M11: 2 | N11: 185 | O11: 4.8648649 | P11: 26 | Q11: 8 | R11: 2 | S11: 0 | T11: 2 | U11: 12 | V11: 16.7 | W11: 0 | AB11: =IF($X$6="","",SUM(X11:AA11)) | AC11: =IF($X$6="","",IF(AA11+Z11=0,"-",ROUND((AA11+Z11)/AB11*100,1)))
A12: 9 | B12: 9:00-10:00 | C12: 90 | D12: 12 | E12: 6 | F12: 2 | G12: 110 | H12: 7.2727273 | I12: 18 | J12: 153 | K12: 22 | L12: 3 | M12: 1 | N12: 179 | O12: 2.2346369 | P12: 17 | Q12: 3 | R12: 1 | S12: 0 | T12: 0 | U12: 4 | V12: - | W12: 2 | AB12: =IF($X$6="","",SUM(X12:AA12)) | AC12: =IF($X$6="","",IF(AA12+Z12=0,"-",ROUND((AA12+Z12)/AB12*100,1)))
A13: 10 | B13: 10:00-11:00 | C13: 104 | D13: 14 | E13: 7 | F13: 2 | G13: 127 | H13: 7.0866142 | I13: 13 | J13: 149 | K13: 22 | L13: 6 | M13: 1 | N13: 178 | O13: 3.9325843 | P13: 11 | Q13: 11 | R13: 1 | S13: 0 | T13: 0 | U13: 12 | V13: - | W13: 2 | AB13: =IF($X$6="","",SUM(X13:AA13)) | AC13: =IF($X$6="","",IF(AA13+Z13=0,"-",ROUND((AA13+Z13)/AB13*100,1)))
A14: 11 | B14: 11:00-12:00 | C14: 91 | D14: 16 | E14: 7 | F14: 2 | G14: 116 | H14: 7.7586207 | I14: 10 | J14: 124 | K14: 21 | L14: 10 | M14: 1 | N14: 156 | O14: 7.0512821 | P14: 12 | Q14: 8 | R14: 4 | S14: 1 | T14: 0 | U14: 13 | V14: 7.7 | W14: 1 | AB14: =IF($X$6="","",SUM(X14:AA14)) | AC14: =IF($X$6="","",IF(AA14+Z14=0,"-",ROUND((AA14+Z14)/AB14*100,1)))
A15: 12 | B15: 12:00-13:00 | C15: 99 | D15: 18 | E15: 3 | F15: 2 | G15: 122 | H15: 4.0983607 | I15: 14 | J15: 115 | K15: 18 | L15: 1 | M15: 1 | N15: 135 | O15: 1.4814815 | P15: 13 | Q15: 6 | R15: 1 | S15: 0 | T15: 0 | U15: 7 | V15: - | W15: 1 | AB15: =IF($X$6="","",SUM(X15:AA15)) | AC15: =IF($X$6="","",IF(AA15+Z15=0,"-",ROUND((AA15+Z15)/AB15*100,1)))
A16: 13 | B16: 13:00-14:00 | C16: 75 | D16: 17 | E16: 4 | F16: 2 | G16: 98 | H16: 6.122449 | I16: 8 | J16: 122 | K16: 34 | L16: 7 | M16: 0 | N16: 163 | O16: 4.2944785 | P16: 8 | Q16: 9 | R16: 5 | S16: 0 | T16: 1 | U16: 15 | V16: 6.7 | W16: 2 | AB16: =IF($X$6="","",SUM(X16:AA16)) | AC16: =IF($X$6="","",IF(AA16+Z16=0,"-",ROUND((AA16+Z16)/AB16*100,1)))
A17: 14 | B17: 14:00-15:00 | C17: 91 | D17: 13 | E17: 5 | F17: 2 | G17: 111 | H17: 6.3063063 | I17: 17 | J17: 100 | K17: 22 | L17: 7 | M17: 1 | N17: 130 | O17: 6.1538462 | P17: 9 | Q17: 4 | R17: 1 | S17: 1 | T17: 0 | U17: 6 | V17: 16.7 | W17: 1 | AB17: =IF($X$6="","",SUM(X17:AA17)) | AC17: =IF($X$6="","",IF(AA17+Z17=0,"-",ROUND((AA17+Z17)/AB17*100,1)))
A18: 15 | B18: 15:00-16:00 | C18: 79 | D18: 13 | E18: 4 | F18: 2 | G18: 98 | H18: 6.122449 | I18: 12 | J18: 117 | K18: 33 | L18: 6 | M18: 2 | N18: 158 | O18: 5.0632911 | P18: 12 | Q18: 3 | R18: 2 | S18: 1 | T18: 1 | U18: 7 | V18: 28.6 | W18: 0 | AB18: =IF($X$6="","",SUM(X18:AA18)) | AC18: =IF($X$6="","",IF(AA18+Z18=0,"-",ROUND((AA18+Z18)/AB18*100,1)))
A19: 16 | B19: 16:00-17:00 | C19: 97 | D19: 19 | E19: 3 | F19: 2 | G19: 121 | H19: 4.1322314 | I19: 21 | J19: 82 | K19: 34 | L19: 16 | M19: 1 | N19: 133 | O19: 12.781955 | P19: 8 | Q19: 3 | R19: 0 | S19: 0 | T19: 0 | U19: 3 | V19: - | W19: 1 | AB19: =IF($X$6="","",SUM(X19:AA19)) | AC19: =IF($X$6="","",IF(AA19+Z19=0,"-",ROUND((AA19+Z19)/AB19*100,1)))
A20: 17 | B20: 17:00-18:00 | C20: 109 | D20: 14 | E20: 1 | F20: 2 | G20: 126 | H20: 2.3809524 | I20: 17 | J20: 96 | K20: 16 | L20: 3 | M20: 1 | N20: 116 | O20: 3.4482759 | P20: 17 | Q20: 8 | R20: 1 | S20: 0 | T20: 0 | U20: 9 | V20: - | W20: 0 | AB20: =IF($X$6="","",SUM(X20:AA20)) | AC20: =IF($X$6="","",IF(AA20+Z20=0,"-",ROUND((AA20+Z20)/AB20*100,1)))
A21: 18 | B21: 18:00-19:00 | C21: 90 | D21: 12 | E21: 0 | F21: 1 | G21: 103 | H21: 0.97087379 | I21: 9 | J21: 73 | K21: 7 | L21: 1 | M21: 1 | N21: 82 | O21: 2.4390244 | P21: 10 | Q21: 6 | R21: 0 | S21: 1 | T21: 0 | U21: 7 | V21: 14.3 | W21: 1 | AB21: =IF($X$6="","",SUM(X21:AA21)) | AC21: =IF($X$6="","",IF(AA21+Z21=0,"-",ROUND((AA21+Z21)/AB21*100,1)))
B22: 全時間合計 | C22: 1121 | D22: 169 | E22: 43 | F22: 22 | G22: 1355 | H22: 4.797048 | I22: 182 | J22: 1405 | K22: 266 | L22: 68 | M22: 16 | N22: 1755 | O22: 4.7863248 | P22: 166 | Q22: 72 | R22: 18 | S22: 6 | T22: 4 | U22: 100 | V22: 10 | W22: 11 | X22: =IF($X$6="","",SUM(X10:X21)) | Y22: =IF($X$6="","",SUM(Y10:Y21)) | Z22: =IF($X$6="","",SUM(Z10:Z21)) | AA22: =IF($X$6="","",SUM(AA10:AA21)) | AB22: =IF($X$6="","",SUM(X22:AA22)) | AC22: =IF($X$6="","",IF(AA22+Z22=0,"-",ROUND((AA22+Z22)/AB22*100,1))) | AD22: =IF($X$6="","",SUM(AD10:AD21))

Sheet No3平日_方向別C
B1: 交差点交通量集計表（自動車類）
B3: 調査地点： | C3: 宝塚市役所前
B4: 調査日： | C4: 令和7年10月21日（火）7時～19時
B6: 方向 | C6: 7 | J6: 8 | Q6: 9
C7: 小型車 | E7: 大型車 | G7: 合計 | H7: 大型車混入率 | I7: 二輪車 | J7: 小型車 | L7: 大型車 | N7: 合計 | O7: 大型車混入率 | P7: 二輪車 | Q7: 小型車 | S7: 大型車 | U7: 合計 | V7: 大型車混入率 | W7: 二輪車 | X7: 小型車 | Z7: 大型車 | AB7: 合計 | AC7: 大型車混入率 | AD7: 二輪車
B8: 種別 | C8: 乗用車 | D8: 小型貨物 | E8: 普通貨物 | F8: バス | J8: 乗用車 | K8: 小型貨物 | L8: 普通貨物 | M8: バス | Q8: 乗用車 | R8: 小型貨物 | S8: 普通貨物 | T8: バス | X8: 乗用車 | Y8: 小型貨物 | Z8: 普通貨物 | AA8: バス
B9: 時間帯 | C9: (台) | D9: (台) | E9: (台) | F9: (台) | G9: (台) | H9: (％) | I9: (台) | J9: (台) | K9: (台) | L9: (台) | M9: (台) | N9: (台) | O9: (％) | P9: (台) | Q9: (台) | R9: (台) | S9: (台) | T9: (台) | U9: (台) | V9: (％) | W9: (台) | X9: (台) | Y9: (台) | Z9: (台) | AA9: (台) | AB9: (台) | AC9: (％) | AD9: (台)
A10: 7 | B10: 7:00-8:00 | C10: 1 | D10: 1 | E10: 1 | F10: 0 | G10: 3 | H10: 33.333333 | I10: 2 | J10: 286 | K10: 42 | L10: 17 | M10: 0 | N10: 345 | O10: 4.9275362 | P10: 45 | Q10: 18 | R10: 2 | S10: 6 | T10: 0 | U10: 26 | V10: 23.1 | W10: 1 | AB10: =IF($X$6="","",SUM(X10:AA10)) | AC10: =IF($X$6="","",IF(AA10+Z10=0,"-",ROUND((AA10+Z10)/AB10*100,1)))
A11: 8 | B11: 8:00-9:00 | C11: 4 | D11: 1 | E11: 0 | F11: 0 | G11: 5 | H11: - | I11: 1 | J11: 253 | K11: 44 | L11: 13 | M11: 7 | N11: 317 | O11: 6.3091483 | P11: 52 | Q11: 35 | R11: 8 | S11: 6 | T11: 0 | U11: 49 | V11: 12.2 | W11: 5 | AB11: =IF($X$6="","",SUM(X11:AA11)) | AC11: =IF($X$6="","",IF(AA11+Z11=0,"-",ROUND((AA11+Z11)/AB11*100,1)))
A12: 9 | B12: 9:00-10:00 | C12: 3 | D12: 0 | E12: 0 | F12: 0 | G12: 3 | H12: - | I12: 1 | J12: 271 | K12: 38 | L12: 26 | M12: 4 | N12: 339 | O12: 8.8495575 | P12: 22 | Q12: 69 | R12: 6 | S12: 8 | T12: 0 | U12: 83 | V12: 9.6 | W12: 2 | AB12: =IF($X$6="","",SUM(X12:AA12)) | AC12: =IF($X$6="","",IF(AA12+Z12=0,"-",ROUND((AA12+Z12)/AB12*100,1)))
A13: 10 | B13: 10:00-11:00 | C13: 8 | D13: 1 | E13: 0 | F13: 0 | G13: 9 | H13: - | I13: 1 | J13: 252 | K13: 44 | L13: 24 | M13: 3 | N13: 323 | O13: 8.3591331 | P13: 32 | Q13: 53 | R13: 10 | S13: 8 | T13: 0 | U13: 71 | V13: 11.3 | W13: 5 | AB13: =IF($X$6="","",SUM(X13:AA13)) | AC13: =IF($X$6="","",IF(AA13+Z13=0,"-",ROUND((AA13+Z13)/AB13*100,1)))
A14: 11 | B14: 11:00-12:00 | C14: 8 | D14: 2 | E14: 1 | F14: 0 | G14: 11 | H14: 9.0909091 | I14: 0 | J14: 214 | K14: 55 | L14: 25 | M14: 4 | N14: 298 | O14: 9.7315436 | P14: 34 | Q14: 68 | R14: 17 | S14: 4 | T14: 0 | U14: 89 | V14: 4.5 | W14: 4 | AB14: =IF($X$6="","",SUM(X14:AA14)) | AC14: =IF($X$6="","",IF(AA14+Z14=0,"-",ROUND((AA14+Z14)/AB14*100,1)))
A15: 12 | B15: 12:00-13:00 | C15: 11 | D15: 1 | E15: 0 | F15: 0 | G15: 12 | H15: - | I15: 1 | J15: 261 | K15: 38 | L15: 18 | M15: 3 | N15: 320 | O15: 6.5625 | P15: 44 | Q15: 69 | R15: 14 | S15: 1 | T15: 0 | U15: 84 | V15: 1.2 | W15: 8 | AB15: =IF($X$6="","",SUM(X15:AA15)) | AC15: =IF($X$6="","",IF(AA15+Z15=0,"-",ROUND((AA15+Z15)/AB15*100,1)))
A16: 13 | B16: 13:00-14:00 | C16: 5 | D16: 2 | E16: 1 | F16: 0 | G16: 8 | H16: 12.5 | I16: 1 | J16: 233 | K16: 55 | L16: 14 | M16: 1 | N16: 303 | O16: 4.950495 | P16: 28 | Q16: 55 | R16: 9 | S16: 4 | T16: 0 | U16: 68 | V16: 5.9 | W16: 4 | AB16: =IF($X$6="","",SUM(X16:AA16)) | AC16: =IF($X$6="","",IF(AA16+Z16=0,"-",ROUND((AA16+Z16)/AB16*100,1)))
A17: 14 | B17: 14:00-15:00 | C17: 8 | D17: 0 | E17: 0 | F17: 0 | G17: 8 | H17: - | I17: 0 | J17: 249 | K17: 54 | L17: 12 | M17: 4 | N17: 319 | O17: 5.015674 | P17: 26 | Q17: 60 | R17: 12 | S17: 5 | T17: 0 | U17: 77 | V17: 6.5 | W17: 3 | AB17: =IF($X$6="","",SUM(X17:AA17)) | AC17: =IF($X$6="","",IF(AA17+Z17=0,"-",ROUND((AA17+Z17)/AB17*100,1)))
A18: 15 | B18: 15:00-16:00 | C18: 12 | D18: 3 | E18: 1 | F18: 0 | G18: 16 | H18: 6.25 | I18: 1 | J18: 270 | K18: 62 | L18: 17 | M18: 1 | N18: 350 | O18: 5.1428571 | P18: 34 | Q18: 72 | R18: 13 | S18: 5 | T18: 0 | U18: 90 | V18: 5.6 | W18: 2 | AB18: =IF($X$6="","",SUM(X18:AA18)) | AC18: =IF($X$6="","",IF(AA18+Z18=0,"-",ROUND((AA18+Z18)/AB18*100,1)))
A19: 16 | B19: 16:00-17:00 | C19: 8 | D19: 2 | E19: 1 | F19: 0 | G19: 11 | H19: 9.0909091 | I19: 1 | J19: 281 | K19: 65 | L19: 10 | M19: 9 | N19: 365 | O19: 5.2054795 | P19: 45 | Q19: 54 | R19: 16 | S19: 2 | T19: 0 | U19: 72 | V19: 2.8 | W19: 7 | AB19: =IF($X$6="","",SUM(X19:AA19)) | AC19: =IF($X$6="","",IF(AA19+Z19=0,"-",ROUND((AA19+Z19)/AB19*100,1)))
A20: 17 | B20: 17:00-18:00 | C20: 15 | D20: 2 | E20: 0 | F20: 0 | G20: 17 | H20: - | I20: 0 | J20: 274 | K20: 68 | L20: 9 | M20: 2 | N20: 353 | O20: 3.1161473 | P20: 42 | Q20: 48 | R20: 6 | S20: 6 | T20: 0 | U20: 60 | V20: 10 | W20: 5 | AB20: =IF($X$6="","",SUM(X20:AA20)) | AC20: =IF($X$6="","",IF(AA20+Z20=0,"-",ROUND((AA20+Z20)/AB20*100,1)))
A21: 18 | B21: 18:00-19:00 | C21: 4 | D21: 2 | E21: 0 | F21: 0 | G21: 6 | H21: - | I21: 1 | J21: 244 | K21: 34 | L21: 2 | M21: 3 | N21: 283 | O21: 1.7667845 | P21: 46 | Q21: 40 | R21: 4 | S21: 0 | T21: 0 | U21: 44 | V21: - | W21: 4 | AB21: =IF($X$6="","",SUM(X21:AA21)) | AC21: =IF($X$6="","",IF(AA21+Z21=0,"-",ROUND((AA21+Z21)/AB21*100,1)))
B22: 全時間合計 | C22: 87 | D22: 17 | E22: 5 | F22: 0 | G22: 109 | H22: 4.587156 | I22: 10 | J22: 3088 | K22: 599 | L22: 187 | M22: 41 | N22: 3915 | O22: 5.8237548 | P22: 450 | Q22: 641 | R22: 117 | S22: 55 | T22: 0 | U22: 813 | V22: 6.8 | W22: 50 | X22: =IF($X$6="","",SUM(X10:X21)) | Y22: =IF($X$6="","",SUM(Y10:Y21)) | Z22: =IF($X$6="","",SUM(Z10:Z21)) | AA22: =IF($X$6="","",SUM(AA10:AA21)) | AB22: =IF($X$6="","",SUM(X22:AA22)) | AC22: =IF($X$6="","",IF(AA22+Z22=0,"-",ROUND((AA22+Z22)/AB22*100,1))) | AD22: =IF($X$6="","",SUM(AD10:AD21))

Sheet No3平日_方向別D
B1: 交差点交通量集計表（自動車類）
B3: 調査地点： | C3: 宝塚市役所前
B4: 調査日： | C4: 令和7年10月21日（火）7時～19時
B6: 方向 | C6: 10 | J6: 11 | Q6: 12
C7: 小型車 | E7: 大型車 | G7: 合計 | H7: 大型車混入率 | I7: 二輪車 | J7: 小型車 | L7: 大型車 | N7: 合計 | O7: 大型車混入率 | P7: 二輪車 | Q7: 小型車 | S7: 大型車 | U7: 合計 | V7: 大型車混入率 | W7: 二輪車 | X7: 小型車 | Z7: 大型車 | AB7: 合計 | AC7: 大型車混入率 | AD7: 二輪車
B8: 種別 | C8: 乗用車 | D8: 小型貨物 | E8: 普通貨物 | F8: バス | J8: 乗用車 | K8: 小型貨物 | L8: 普通貨物 | M8: バス | Q8: 乗用車 | R8: 小型貨物 | S8: 普通貨物 | T8: バス | X8: 乗用車 | Y8: 小型貨物 | Z8: 普通貨物 | AA8: バス
B9: 時間帯 | C9: (台) | D9: (台) | E9: (台) | F9: (台) | G9: (台) | H9: (％) | I9: (台) | J9: (台) | K9: (台) | L9: (台) | M9: (台) | N9: (台) | O9: (％) | P9: (台) | Q9: (台) | R9: (台) | S9: (台) | T9: (台) | U9: (台) | V9: (％) | W9: (台) | X9: (台) | Y9: (台) | Z9: (台) | AA9: (台) | AB9: (台) | AC9: (％) | AD9: (台)
A10: 7 | B10: 7:00-8:00 | C10: 19 | D10: 8 | E10: 12 | F10: 3 | G10: 42 | H10: 35.714286 | I10: 4 | J10: 63 | K10: 12 | L10: 2 | M10: 0 | N10: 77 | O10: 2.5974026 | P10: 9 | Q10: 70 | R10: 35 | S10: 16 | T10: 0 | U10: 121 | V10: 13.2 | W10: 23 | AB10: =IF($X$6="","",SUM(X10:AA10)) | AC10: =IF($X$6="","",IF(AA10+Z10=0,"-",ROUND((AA10+Z10)/AB10*100,1)))
A11: 8 | B11: 8:00-9:00 | C11: 33 | D11: 12 | E11: 12 | F11: 2 | G11: 59 | H11: 23.728814 | I11: 5 | J11: 81 | K11: 25 | L11: 14 | M11: 0 | N11: 120 | O11: 11.666667 | P11: 13 | Q11: 96 | R11: 18 | S11: 10 | T11: 0 | U11: 124 | V11: 8.1 | W11: 19 | AB11: =IF($X$6="","",SUM(X11:AA11)) | AC11: =IF($X$6="","",IF(AA11+Z11=0,"-",ROUND((AA11+Z11)/AB11*100,1)))
A12: 9 | B12: 9:00-10:00 | C12: 42 | D12: 13 | E12: 13 | F12: 1 | G12: 69 | H12: 20.289855 | I12: 3 | J12: 86 | K12: 34 | L12: 18 | M12: 0 | N12: 138 | O12: 13.043478 | P12: 12 | Q12: 74 | R12: 28 | S12: 23 | T12: 0 | U12: 125 | V12: 18.4 | W12: 10 | AB12: =IF($X$6="","",SUM(X12:AA12)) | AC12: =IF($X$6="","",IF(AA12+Z12=0,"-",ROUND((AA12+Z12)/AB12*100,1)))
A13: 10 | B13: 10:00-11:00 | C13: 75 | D13: 17 | E13: 8 | F13: 1 | G13: 101 | H13: 8.9108911 | I13: 3 | J13: 111 | K13: 29 | L13: 6 | M13: 0 | N13: 146 | O13: 4.109589 | P13: 12 | Q13: 101 | R13: 18 | S13: 13 | T13: 0 | U13: 132 | V13: 9.8 | W13: 9 | AB13: =IF($X$6="","",SUM(X13:AA13)) | AC13: =IF($X$6="","",IF(AA13+Z13=0,"-",ROUND((AA13+Z13)/AB13*100,1)))
A14: 11 | B14: 11:00-12:00 | C14: 68 | D14: 11 | E14: 6 | F14: 0 | G14: 85 | H14: 7.0588235 | I14: 4 | J14: 133 | K14: 22 | L14: 6 | M14: 0 | N14: 161 | O14: 3.7267081 | P14: 13 | Q14: 119 | R14: 34 | S14: 11 | T14: 0 | U14: 164 | V14: 6.7 | W14: 14 | AB14: =IF($X$6="","",SUM(X14:AA14)) | AC14: =IF($X$6="","",IF(AA14+Z14=0,"-",ROUND((AA14+Z14)/AB14*100,1)))
A15: 12 | B15: 12:00-13:00 | C15: 67 | D15: 10 | E15: 7 | F15: 1 | G15: 85 | H15: 9.4117647 | I15: 5 | J15: 133 | K15: 19 | L15: 8 | M15: 0 | N15: 160 | O15: 5 | P15: 12 | Q15: 120 | R15: 15 | S15: 11 | T15: 0 | U15: 146 | V15: 7.5 | W15: 15 | AB15: =IF($X$6="","",SUM(X15:AA15)) | AC15: =IF($X$6="","",IF(AA15+Z15=0,"-",ROUND((AA15+Z15)/AB15*100,1)))
A16: 13 | B16: 13:00-14:00 | C16: 60 | D16: 12 | E16: 2 | F16: 1 | G16: 75 | H16: 4 | I16: 4 | J16: 127 | K16: 20 | L16: 12 | M16: 0 | N16: 159 | O16: 7.5471698 | P16: 11 | Q16: 105 | R16: 24 | S16: 16 | T16: 0 | U16: 145 | V16: 11 | W16: 14 | AB16: =IF($X$6="","",SUM(X16:AA16)) | AC16: =IF($X$6="","",IF(AA16+Z16=0,"-",ROUND((AA16+Z16)/AB16*100,1)))
A17: 14 | B17: 14:00-15:00 | C17: 66 | D17: 13 | E17: 6 | F17: 0 | G17: 85 | H17: 7.0588235 | I17: 1 | J17: 121 | K17: 26 | L17: 10 | M17: 0 | N17: 157 | O17: 6.3694268 | P17: 12 | Q17: 123 | R17: 21 | S17: 6 | T17: 0 | U17: 150 | V17: 4 | W17: 15 | AB17: =IF($X$6="","",SUM(X17:AA17)) | AC17: =IF($X$6="","",IF(AA17+Z17=0,"-",ROUND((AA17+Z17)/AB17*100,1)))
A18: 15 | B18: 15:00-16:00 | C18: 63 | D18: 16 | E18: 4 | F18: 1 | G18: 84 | H18: 5.952381 | I18: 5 | J18: 130 | K18: 30 | L18: 5 | M18: 0 | N18: 165 | O18: 3.030303 | P18: 13 | Q18: 126 | R18: 31 | S18: 7 | T18: 2 | U18: 166 | V18: 5.4 | W18: 16 | AB18: =IF($X$6="","",SUM(X18:AA18)) | AC18: =IF($X$6="","",IF(AA18+Z18=0,"-",ROUND((AA18+Z18)/AB18*100,1)))
A19: 16 | B19: 16:00-17:00 | C19: 45 | D19: 10 | E19: 1 | F19: 1 | G19: 57 | H19: 3.5087719 | I19: 7 | J19: 158 | K19: 18 | L19: 0 | M19: 0 | N19: 176 | O19: - | P19: 13 | Q19: 131 | R19: 22 | S19: 3 | T19: 0 | U19: 156 | V19: 1.9 | W19: 16 | AB19: =IF($X$6="","",SUM(X19:AA19)) | AC19: =IF($X$6="","",IF(AA19+Z19=0,"-",ROUND((AA19+Z19)/AB19*100,1)))
A20: 17 | B20: 17:00-18:00 | C20: 51 | D20: 3 | E20: 2 | F20: 1 | G20: 57 | H20: 5.2631579 | I20: 9 | J20: 160 | K20: 17 | L20: 2 | M20: 0 | N20: 179 | O20: 1.1173184 | P20: 16 | Q20: 106 | R20: 10 | S20: 2 | T20: 0 | U20: 118 | V20: 1.7 | W20: 20 | AB20: =IF($X$6="","",SUM(X20:AA20)) | AC20: =IF($X$6="","",IF(AA20+Z20=0,"-",ROUND((AA20+Z20)/AB20*100,1)))
A21: 18 | B21: 18:00-19:00 | C21: 44 | D21: 4 | E21: 1 | F21: 2 | G21: 51 | H21: 5.8823529 | I21: 3 | J21: 137 | K21: 9 | L21: 1 | M21: 0 | N21: 147 | O21: 0.68027211 | P21: 19 | Q21: 140 | R21: 20 | S21: 2 | T21: 0 | U21: 162 | V21: 1.2 | W21: 21 | AB21: =IF($X$6="","",SUM(X21:AA21)) | AC21: =IF($X$6="","",IF(AA21+Z21=0,"-",ROUND((AA21+Z21)/AB21*100,1)))
B22: 全時間合計 | C22: 633 | D22: 129 | E22: 74 | F22: 14 | G22: 850 | H22: 10.352941 | I22: 53 | J22: 1440 | K22: 261 | L22: 84 | M22: 0 | N22: 1785 | O22: 4.7058824 | P22: 155 | Q22: 1311 | R22: 276 | S22: 120 | T22: 2 | U22: 1709 | V22: 7.1 | W22: 192 | X22: =IF($X$6="","",SUM(X10:X21)) | Y22: =IF($X$6="","",SUM(Y10:Y21)) | Z22: =IF($X$6="","",SUM(Z10:Z21)) | AA22: =IF($X$6="","",SUM(AA10:AA21)) | AB22: =IF($X$6="","",SUM(X22:AA22)) | AC22: =IF($X$6="","",IF(AA22+Z22=0,"-",ROUND((AA22+Z22)/AB22*100,1))) | AD22: =IF($X$6="","",SUM(AD10:AD21))

Sheet No3平日_歩行者
B1: 交差点交通量集計表（歩行者類）
B2: 地点番号： | C2: P06
B3: 調査地点： | C3: 宝塚市役所前
B4: 調査日： | C4: 令和7年10月21日（火）7時～19時
B6: 方向 | C6: ア | E6: イ | G6: a断面 | J6: ウ | L6: エ | N6: b断面
B7: 種別 | C7: 歩行者 | D7: 自転車 | E7: 歩行者 | F7: 自転車 | G7: 歩行者 | H7: 自転車 | I7: 計 | J7: 歩行者 | K7: 自転車 | L7: 歩行者 | M7: 自転車 | N7: 歩行者 | O7: 自転車 | P7: 計
B8: 時間帯 | C8: (人) | D8: (台) | E8: (人) | F8: (台) | G8: (人) | H8: (台) | I8: (台) | J8: (人) | K8: (台) | L8: (人) | M8: (台) | N8: (人) | O8: (台) | P8: (台)
A9: 7 | B9: 7:00-8:00 | C9: 38 | D9: 19 | E9: 11 | F9: 32 | G9: 49 | H9: 51 | I9: 100 | J9: 97 | K9: 48 | L9: 23 | M9: 61 | N9: 120 | O9: 109 | P9: 229
A10: 8 | B10: 8:00-9:00 | C10: 186 | D10: 58 | E10: 22 | F10: 35 | G10: 208 | H10: 93 | I10: 301 | J10: 174 | K10: 99 | L10: 18 | M10: 64 | N10: 192 | O10: 163 | P10: 355
A11: 9 | B11: 9:00-10:00 | C11: 56 | D11: 29 | E11: 21 | F11: 24 | G11: 77 | H11: 53 | I11: 130 | J11: 76 | K11: 33 | L11: 31 | M11: 36 | N11: 107 | O11: 69 | P11: 176
A12: 10 | B12: 10:00-11:00 | C12: 29 | D12: 39 | E12: 15 | F12: 26 | G12: 44 | H12: 65 | I12: 109 | J12: 36 | K12: 38 | L12: 31 | M12: 28 | N12: 67 | O12: 66 | P12: 133
A13: 11 | B13: 11:00-12:00 | C13: 28 | D13: 24 | E13: 25 | F13: 21 | G13: 53 | H13: 45 | I13: 98 | J13: 25 | K13: 41 | L13: 29 | M13: 20 | N13: 54 | O13: 61 | P13: 115
A14: 12 | B14: 12:00-13:00 | C14: 50 | D14: 27 | E14: 25 | F14: 28 | G14: 75 | H14: 55 | I14: 130 | J14: 47 | K14: 57 | L14: 64 | M14: 22 | N14: 111 | O14: 79 | P14: 190
A15: 13 | B15: 13:00-14:00 | C15: 41 | D15: 25 | E15: 42 | F15: 36 | G15: 83 | H15: 61 | I15: 144 | J15: 36 | K15: 65 | L15: 37 | M15: 30 | N15: 73 | O15: 95 | P15: 168
A16: 14 | B16: 14:00-15:00 | C16: 21 | D16: 16 | E16: 20 | F16: 17 | G16: 41 | H16: 33 | I16: 74 | J16: 31 | K16: 39 | L16: 26 | M16: 25 | N16: 57 | O16: 64 | P16: 121
A17: 15 | B17: 15:00-16:00 | C17: 19 | D17: 20 | E17: 33 | F17: 22 | G17: 52 | H17: 42 | I17: 94 | J17: 43 | K17: 48 | L17: 27 | M17: 34 | N17: 70 | O17: 82 | P17: 152
A18: 16 | B18: 16:00-17:00 | C18: 20 | D18: 42 | E18: 42 | F18: 40 | G18: 62 | H18: 82 | I18: 144 | J18: 37 | K18: 85 | L18: 64 | M18: 46 | N18: 101 | O18: 131 | P18: 232
A19: 17 | B19: 17:00-18:00 | C19: 22 | D19: 34 | E19: 78 | F19: 54 | G19: 100 | H19: 88 | I19: 188 | J19: 33 | K19: 55 | L19: 101 | M19: 57 | N19: 134 | O19: 112 | P19: 246
A20: 18 | B20: 18:00-19:00 | C20: 10 | D20: 47 | E20: 68 | F20: 40 | G20: 78 | H20: 87 | I20: 165 | J20: 31 | K20: 87 | L20: 82 | M20: 49 | N20: 113 | O20: 136 | P20: 249
B21: 全時間合計 | C21: 520 | D21: 380 | E21: 402 | F21: 375 | G21: 922 | H21: 755 | I21: 1677 | J21: 666 | K21: 695 | L21: 533 | M21: 472 | N21: 1199 | O21: 1167 | P21: 2366
B23: 方向 | C23: オ | E23: カ | G23: c断面 | J23: キ | L23: ク | N23: d断面
B24: 種別 | C24: 歩行者 | D24: 自転車 | E24: 歩行者 | F24: 自転車 | G24: 歩行者 | H24: 自転車 | I24: 計 | J24: 歩行者 | K24: 自転車 | L24: 歩行者 | M24: 自転車 | N24: 歩行者 | O24: 自転車 | P24: 計
B25: 時間帯 | C25: (人) | D25: (台) | E25: (人) | F25: (台) | G25: (人) | H25: (台) | I25: (台) | J25: (人) | K25: (台) | L25: (人) | M25: (台) | N25: (人) | O25: (台) | P25: (台)
A26: 7 | B26: 7:00-8:00 | C26: 60 | D26: 37 | E26: 33 | F26: 14 | G26: 93 | H26: 51 | I26: 144 | J26: 20 | K26: 72 | L26: 38 | M26: 47 | N26: 58 | O26: 119 | P26: 177
A27: 8 | B27: 8:00-9:00 | C27: 19 | D27: 34 | E27: 150 | F27: 33 | G27: 169 | H27: 67 | I27: 236 | J27: 18 | K27: 75 | L27: 256 | M27: 99 | N27: 274 | O27: 174 | P27: 448
A28: 9 | B28: 9:00-10:00 | C28: 28 | D28: 32 | E28: 55 | F28: 13 | G28: 83 | H28: 45 | I28: 128 | J28: 39 | K28: 66 | L28: 64 | M28: 65 | N28: 103 | O28: 131 | P28: 234
A29: 10 | B29: 10:00-11:00 | C29: 20 | D29: 24 | E29: 28 | F29: 19 | G29: 48 | H29: 43 | I29: 91 | J29: 44 | K29: 68 | L29: 33 | M29: 59 | N29: 77 | O29: 127 | P29: 204
A30: 11 | B30: 11:00-12:00 | C30: 33 | D30: 25 | E30: 31 | F30: 12 | G30: 64 | H30: 37 | I30: 101 | J30: 47 | K30: 63 | L30: 44 | M30: 45 | N30: 91 | O30: 108 | P30: 199
A31: 12 | B31: 12:00-13:00 | C31: 34 | D31: 22 | E31: 59 | F31: 20 | G31: 93 | H31: 42 | I31: 135 | J31: 89 | K31: 63 | L31: 67 | M31: 60 | N31: 156 | O31: 123 | P31: 279
A32: 13 | B32: 13:00-14:00 | C32: 23 | D32: 31 | E32: 27 | F32: 23 | G32: 50 | H32: 54 | I32: 104 | J32: 55 | K32: 60 | L32: 43 | M32: 45 | N32: 98 | O32: 105 | P32: 203
A33: 14 | B33: 14:00-15:00 | C33: 33 | D33: 15 | E33: 13 | F33: 13 | G33: 46 | H33: 28 | I33: 74 | J33: 32 | K33: 61 | L33: 20 | M33: 41 | N33: 52 | O33: 102 | P33: 154
A34: 15 | B34: 15:00-16:00 | C34: 50 | D34: 27 | E34: 22 | F34: 17 | G34: 72 | H34: 44 | I34: 116 | J34: 55 | K34: 75 | L34: 31 | M34: 43 | N34: 86 | O34: 118 | P34: 204
A35: 16 | B35: 16:00-17:00 | C35: 66 | D35: 35 | E35: 24 | F35: 28 | G35: 90 | H35: 63 | I35: 153 | J35: 94 | K35: 94 | L35: 37 | M35: 59 | N35: 131 | O35: 153 | P35: 284
A36: 17 | B36: 17:00-18:00 | C36: 97 | D36: 43 | E36: 39 | F36: 39 | G36: 136 | H36: 82 | I36: 218 | J36: 155 | K36: 121 | L36: 26 | M36: 74 | N36: 181 | O36: 195 | P36: 376
A37: 18 | B37: 18:00-19:00 | C37: 40 | D37: 31 | E37: 19 | F37: 28 | G37: 59 | H37: 59 | I37: 118 | J37: 66 | K37: 98 | L37: 15 | M37: 58 | N37: 81 | O37: 156 | P37: 237
B38: 全時間合計 | C38: 503 | D38: 356 | E38: 500 | F38: 259 | G38: 1003 | H38: 615 | I38: 1618 | J38: 714 | K38: 916 | L38: 674 | M38: 695 | N38: 1388 | O38: 1611 | P38: 2999

Sheet No3休日_まとめ
A2: 交差点交通量集計表 | H2: 方 向 図
B6: 調査地点： | C6: 宝塚市役所前
B7: 調査月日： | C7: 令和7年10月19日（日）7時～19時
D15: 12時間計（7:00～19:00） | K15: ピーク時間（16:00～17:00）
I16: 大型車混入率（％） | J16: 二輪車 | P16: 大型車混入率（％） | Q16: 二輪車
D17: 小型車 | F17: 大型車 | K17: 小型車 | M17: 大型車
D18: 乗用車 | E18: 小型貨物 | F18: 普通貨物 | G18: バス | H18: 計 | K18: 乗用車 | L18: 小型貨物 | M18: 普通貨物 | N18: バス | O18: 計
A19: 単方向 | B19: 1 | C19: [AからDへ] | D19: 2330 | E19: 203 | F19: 53 | G19: 0 | H19: 2586 | I19: 2.0494973 | J19: 158 | K19: 229 | L19: 15 | M19: 4 | N19: 0 | O19: 248 | P19: 1.6129032 | Q19: 11 | R19: 16
B20: 2 | C20: [AからCへ] | D20: 3558 | E20: 244 | F20: 59 | G20: 36 | H20: 3897 | I20: 2.4377726 | J20: 335 | K20: 357 | L20: 15 | M20: 4 | N20: 3 | O20: 379 | P20: 1.8469657 | Q20: 21 | R20: =R19 -> 16
B21: 3 | C21: [AからBへ] | D21: 938 | E21: 58 | F21: 11 | G21: 0 | H21: 1007 | I21: 1.0923535 | J21: 80 | K21: 128 | L21: 7 | M21: 1 | N21: 0 | O21: 136 | P21: 0.73529412 | Q21: 7 | R21: =R20 -> 16
B22: 4 | C22: [BからAへ] | D22: 1343 | E22: 84 | F22: 11 | G22: 13 | H22: 1451 | I22: 1.6540317 | J22: 105 | K22: 118 | L22: 2 | M22: 0 | N22: 1 | O22: 121 | P22: 0.82644628 | Q22: 9 | R22: =R21 -> 16
B23: 5 | C23: [BからDへ] | D23: 1430 | E23: 87 | F23: 18 | G23: 10 | H23: 1545 | I23: 1.8122977 | J23: 82 | K23: 136 | L23: 13 | M23: 1 | N23: 0 | O23: 150 | P23: 0.66666667 | Q23: 7 | R23: =R22 -> 16
B24: 6 | C24: [BからCへ] | D24: 102 | E24: 1 | F24: 0 | G24: 0 | H24: 103 | I24: - | J24: 11 | K24: 11 | L24: 0 | M24: 0 | N24: 0 | O24: 11 | P24: - | Q24: 0 | R24: =R23 -> 16
B25: 7 | C25: [CからBへ] | D25: 118 | E25: 8 | F25: 0 | G25: 0 | H25: 126 | I25: - | J25: 7 | K25: 10 | L25: 0 | M25: 0 | N25: 0 | O25: 10 | P25: - | Q25: 1 | R25: =R24 -> 16
B26: 8 | C26: [CからAへ] | D26: 3689 | E26: 219 | F26: 69 | G26: 25 | H26: 4002 | I26: 2.3488256 | J26: 326 | K26: 359 | L26: 28 | M26: 4 | N26: 1 | O26: 392 | P26: 1.2755102 | Q26: 25 | R26: =R25 -> 16
B27: 9 | C27: [CからDへ] | D27: 671 | E27: 39 | F27: 23 | G27: 0 | H27: 733 | I27: 3.1377899 | J27: 34 | K27: 62 | L27: 4 | M27: 3 | N27: 0 | O27: 69 | P27: 4.3478261 | Q27: 2 | R27: =R26 -> 16
B28: 10 | C28: [DからCへ] | D28: 711 | E28: 29 | F28: 20 | G28: 10 | H28: 770 | I28: 3.8961039 | J28: 32 | K28: 69 | L28: 3 | M28: 2 | N28: 1 | O28: 75 | P28: 4 | Q28: 2 | R28: =R27 -> 16
B29: 11 | C29: [DからBへ] | D29: 1507 | E29: 107 | F29: 23 | G29: 0 | H29: 1637 | I29: 1.4050092 | J29: 96 | K29: 133 | L29: 15 | M29: 1 | N29: 0 | O29: 149 | P29: 0.67114094 | Q29: 5 | R29: =R28 -> 16
B30: 12 | C30: [DからAへ] | D30: 1540 | E30: 116 | F30: 42 | G30: 1 | H30: 1699 | I30: 2.5309005 | J30: 113 | K30: 136 | L30: 12 | M30: 0 | N30: 0 | O30: 148 | P30: - | Q30: 9 | R30: =R29 -> 16
B31: 13 | C31: [からへ] | D31: 0 | E31: 0 | F31: 0 | G31: 0 | H31: 0 | I31: - | J31: 0 | K31: 0 | L31: 0 | M31: 0 | N31: 0 | O31: 0 | P31: - | Q31: 0 | R31: =R30 -> 16
B32: 14 | C32: [からへ] | D32: 0 | E32: 0 | F32: 0 | G32: 0 | H32: 0 | I32: - | J32: 0 | K32: 0 | L32: 0 | M32: 0 | N32: 0 | O32: 0 | P32: - | Q32: 0 | R32: =R31 -> 16
B33: 15 | C33: [からへ] | D33: 0 | E33: 0 | F33: 0 | G33: 0 | H33: 0 | I33: - | J33: 0 | K33: 0 | L33: 0 | M33: 0 | N33: 0 | O33: 0 | P33: - | Q33: 0 | R33: =R32 -> 16
B34: 16 | C34: [からへ] | D34: 0 | E34: 0 | F34: 0 | G34: 0 | H34: 0 | I34: - | J34: 0 | K34: 0 | L34: 0 | M34: 0 | N34: 0 | O34: 0 | P34: - | Q34: 0 | R34: =R33 -> 16
B35: 17 | C35: [からへ] | D35: 0 | E35: 0 | F35: 0 | G35: 0 | H35: 0 | I35: - | J35: 0 | K35: 0 | L35: 0 | M35: 0 | N35: 0 | O35: 0 | P35: - | Q35: 0 | R35: =R34 -> 16
B36: 18 | C36: [からへ] | D36: 0 | E36: 0 | F36: 0 | G36: 0 | H36: 0 | I36: - | J36: 0 | K36: 0 | L36: 0 | M36: 0 | N36: 0 | O36: 0 | P36: - | Q36: 0 | R36: =R35 -> 16
B37: 19 | C37: [からへ] | D37: 0 | E37: 0 | F37: 0 | G37: 0 | H37: 0 | I37: - | J37: 0 | K37: 0 | L37: 0 | M37: 0 | N37: 0 | O37: 0 | P37: - | Q37: 0 | R37: =R36 -> 16
B38: 20 | C38: [からへ] | D38: 0 | E38: 0 | F38: 0 | G38: 0 | H38: 0 | I38: - | J38: 0 | K38: 0 | L38: 0 | M38: 0 | N38: 0 | O38: 0 | P38: - | Q38: 0 | R38: =R37 -> 16
B39: 21 | C39: [からへ] | D39: 0 | E39: 0 | F39: 0 | G39: 0 | H39: 0 | I39: - | J39: 0 | K39: 0 | L39: 0 | M39: 0 | N39: 0 | O39: 0 | P39: - | Q39: 0 | R39: =R38 -> 16
A40: 流入 | B40: A | C40: 流入計 | D40: 6826 | E40: 505 | F40: 123 | G40: 36 | H40: 7490 | I40: 2.1228304 | J40: 573 | K40: 714 | L40: 37 | M40: 9 | N40: 3 | O40: 763 | P40: 1.5727392 | Q40: 39 | R40: =R39 -> 16
B41: B | C41: 流入計 | D41: 2875 | E41: 172 | F41: 29 | G41: 23 | H41: 3099 | I41: 1.6779606 | J41: 198 | K41: 265 | L41: 15 | M41: 1 | N41: 1 | O41: 282 | P41: 0.70921986 | Q41: 16 | R41: =R40 -> 16
B42: C | C42: 流入計 | D42: 4478 | E42: 266 | F42: 92 | G42: 25 | H42: 4861 | I42: 2.4069122 | J42: 367 | K42: 431 | L42: 32 | M42: 7 | N42: 1 | O42: 471 | P42: 1.6985138 | Q42: 28 | R42: =R41 -> 16
B43: D | C43: 流入計 | D43: 3758 | E43: 252 | F43: 85 | G43: 11 | H43: 4106 | I43: 2.3380419 | J43: 241 | K43: 338 | L43: 30 | M43: 3 | N43: 1 | O43: 372 | P43: 1.0752688 | Q43: 16 | R43: =R42 -> 16
B44: E | C44: 流入計 | D44: 0 | E44: 0 | F44: 0 | G44: 0 | H44: 0 | I44: - | J44: 0 | K44: 0 | L44: 0 | M44: 0 | N44: 0 | O44: 0 | P44: - | Q44: 0 | R44: =R43 -> 16
A45: 流出 | B45: A | C45: 流出計 | D45: 6572 | E45: 419 | F45: 122 | G45: 39 | H45: 7152 | I45: 2.2511186 | J45: 544 | K45: 613 | L45: 42 | M45: 4 | N45: 2 | O45: 661 | P45: 0.90771558 | Q45: 43 | R45: =R44 -> 16
B46: B | C46: 流出計 | D46: 2563 | E46: 173 | F46: 34 | G46: 0 | H46: 2770 | I46: 1.2274368 | J46: 183 | K46: 271 | L46: 22 | M46: 2 | N46: 0 | O46: 295 | P46: 0.6779661 | Q46: 13 | R46: =R45 -> 16
B47: C | C47: 流出計 | D47: 4371 | E47: 274 | F47: 79 | G47: 46 | H47: 4770 | I47: 2.6205451 | J47: 378 | K47: 437 | L47: 18 | M47: 6 | N47: 4 | O47: 465 | P47: 2.1505376 | Q47: 23 | R47: =R46 -> 16
B48: D | C48: 流出計 | D48: 4431 | E48: 329 | F48: 94 | G48: 10 | H48: 4864 | I48: 2.1381579 | J48: 274 | K48: 427 | L48: 32 | M48: 8 | N48: 0 | O48: 467 | P48: 1.7130621 | Q48: 20 | R48: =R47 -> 16
B49: E | C49: 流出計 | D49: 0 | E49: 0 | F49: 0 | G49: 0 | H49: 0 | I49: - | J49: 0 | K49: 0 | L49: 0 | M49: 0 | N49: 0 | O49: 0 | P49: - | Q49: 0 | R49: =R48 -> 16
A50: 断面 | B50: A断面計 | D50: 13398 | E50: 924 | F50: 245 | G50: 75 | H50: 14642 | I50: 2.1854938 | J50: 1117 | K50: 1327 | L50: 79 | M50: 13 | N50: 5 | O50: 1424 | P50: 1.2640449 | Q50: 82 | R50: =R49 -> 16
B51: B断面計 | D51: 5438 | E51: 345 | F51: 63 | G51: 23 | H51: 5869 | I51: 1.4653263 | J51: 381 | K51: 536 | L51: 37 | M51: 3 | N51: 1 | O51: 577 | P51: 0.6932409 | Q51: 29 | R51: =R50 -> 16
B52: C断面計 | D52: 8849 | E52: 540 | F52: 171 | G52: 71 | H52: 9631 | I52: 2.5127193 | J52: 745 | K52: 868 | L52: 50 | M52: 13 | N52: 5 | O52: 936 | P52: 1.9230769 | Q52: 51 | R52: =R51 -> 16
B53: D断面計 | D53: 8189 | E53: 581 | F53: 179 | G53: 21 | H53: 8970 | I53: 2.2296544 | J53: 515 | K53: 765 | L53: 62 | M53: 11 | N53: 1 | O53: 839 | P53: 1.4302741 | Q53: 36 | R53: =R52 -> 16
B54: E断面計 | D54: 0 | E54: 0 | F54: 0 | G54: 0 | H54: 0 | I54: - | J54: 0 | K54: 0 | L54: 0 | M54: 0 | N54: 0 | O54: 0 | P54: - | Q54: 0 | R54: =R53 -> 16
A55: 交差点合計 | D55: 17937 | E55: 1195 | F55: 329 | G55: 95 | H55: 19556 | I55: 2.1681325 | J55: 1379 | K55: 1748 | L55: 114 | M55: 20 | N55: 6 | O55: 1888 | P55: 1.3771186 | Q55: 99 | R55: =R54 -> 16

Sheet No3休日_交差点計
B1: 交差点交通量集計表（自動車類）
B3: 調査地点： | C3: 宝塚市役所前
B4: 調査日： | C4: 令和7年10月19日（日）7時～19時
B6: 方向 | C6: 交差点計
B7: 種別 | C7: 小型車 | E7: 大型車 | G7: 合計 | H7: 大型車混入率 | I7: 二輪車
C8: 乗用車 | D8: 小型貨物 | E8: 普通貨物 | F8: バス
B9: 時間帯 | C9: (台) | D9: (台) | E9: (台) | F9: (台) | G9: (台) | H9: (％) | I9: (台)
A10: 7 | B10: 7:00-8:00 | C10: 915 | D10: 79 | E10: 24 | F10: 8 | G10: 1026 | H10: 3.1189084 | I10: 83
A11: 8 | B11: 8:00-9:00 | C11: 957 | D11: 104 | E11: 51 | F11: 11 | G11: 1123 | H11: 5.5209261 | I11: 94
A12: 9 | B12: 9:00-10:00 | C12: 1365 | D12: 90 | E12: 38 | F12: 9 | G12: 1502 | H12: 3.1291611 | I12: 143
A13: 10 | B13: 10:00-11:00 | C13: 1647 | D13: 105 | E13: 30 | F13: 8 | G13: 1790 | H13: 2.122905 | I13: 141
A14: 11 | B14: 11:00-12:00 | C14: 1611 | D14: 105 | E14: 29 | F14: 6 | G14: 1751 | H14: 1.9988578 | I14: 116
A15: 12 | B15: 12:00-13:00 | C15: 1566 | D15: 117 | E15: 28 | F15: 10 | G15: 1721 | H15: 2.2080186 | I15: 124
A16: 13 | B16: 13:00-14:00 | C16: 1626 | D16: 98 | E16: 30 | F16: 6 | G16: 1760 | H16: 2.0454545 | I16: 113
A17: 14 | B17: 14:00-15:00 | C17: 1676 | D17: 106 | E17: 28 | F17: 6 | G17: 1816 | H17: 1.8722467 | I17: 101
A18: 15 | B18: 15:00-16:00 | C18: 1745 | D18: 101 | E18: 21 | F18: 10 | G18: 1877 | H18: 1.6515717 | I18: 116
A19: 16 | B19: 16:00-17:00 | C19: 1748 | D19: 114 | E19: 20 | F19: 6 | G19: 1888 | H19: 1.3771186 | I19: 99
A20: 17 | B20: 17:00-18:00 | C20: 1682 | D20: 110 | E20: 19 | F20: 7 | G20: 1818 | H20: 1.430143 | I20: 129
A21: 18 | B21: 18:00-19:00 | C21: 1399 | D21: 66 | E21: 11 | F21: 8 | G21: 1484 | H21: 1.2803235 | I21: 120
B22: 全時間合計 | C22: 17937 | D22: 1195 | E22: 329 | F22: 95 | G22: 19556 | H22: 2.1681325 | I22: 1379

Sheet No3休日_流入計
B1: 交差点交通量集計表（自動車類）
B3: 調査地点： | C3: 宝塚市役所前
B4: 調査日： | C4: 令和7年10月19日（日）7時～19時
B6: 方向 | C6: A
C7: 小型車 | E7: 大型車 | G7: 合計 | H7: 大型車混入率 | I7: 二輪車
B8: 種別 | C8: 乗用車 | D8: 小型貨物 | E8: 普通貨物 | F8: バス
B9: 時間帯 | C9: (台) | D9: (台) | E9: (台) | F9: (台) | G9: (台) | H9: (％) | I9: (台)
A10: 7 | B10: 7:00-8:00 | C10: 199 | D10: 25 | E10: 8 | F10: 1 | G10: 233 | H10: 3.8626609 | I10: 22
A11: 8 | B11: 8:00-9:00 | C11: 362 | D11: 48 | E11: 19 | F11: 5 | G11: 434 | H11: 5.5299539 | I11: 44
A12: 9 | B12: 9:00-10:00 | C12: 488 | D12: 47 | E12: 9 | F12: 2 | G12: 546 | H12: 2.014652 | I12: 63
A13: 10 | B13: 10:00-11:00 | C13: 627 | D13: 46 | E13: 13 | F13: 3 | G13: 689 | H13: 2.3222061 | I13: 60
A14: 11 | B14: 11:00-12:00 | C14: 558 | D14: 41 | E14: 19 | F14: 1 | G14: 619 | H14: 3.2310178 | I14: 44
A15: 12 | B15: 12:00-13:00 | C15: 612 | D15: 44 | E15: 10 | F15: 4 | G15: 670 | H15: 2.0895522 | I15: 55
A16: 13 | B16: 13:00-14:00 | C16: 614 | D16: 37 | E16: 8 | F16: 2 | G16: 661 | H16: 1.5128593 | I16: 58
A17: 14 | B17: 14:00-15:00 | C17: 676 | D17: 46 | E17: 8 | F17: 4 | G17: 734 | H17: 1.6348774 | I17: 46
A18: 15 | B18: 15:00-16:00 | C18: 677 | D18: 42 | E18: 8 | F18: 4 | G18: 731 | H18: 1.6415869 | I18: 43
A19: 16 | B19: 16:00-17:00 | C19: 714 | D19: 37 | E19: 9 | F19: 3 | G19: 763 | H19: 1.5727392 | I19: 39
A20: 17 | B20: 17:00-18:00 | C20: 698 | D20: 65 | E20: 8 | F20: 3 | G20: 774 | H20: 1.4211886 | I20: 53
A21: 18 | B21: 18:00-19:00 | C21: 601 | D21: 27 | E21: 4 | F21: 4 | G21: 636 | H21: 1.2578616 | I21: 46
B22: 全時間合計 | C22: 6826 | D22: 505 | E22: 123 | F22: 36 | G22: 7490 | H22: 2.1228304 | I22: 573
B24: 方向 | C24: B
C25: 小型車 | E25: 大型車 | G25: 合計 | H25: 大型車混入率 | I25: 二輪車
B26: 種別 | C26: 乗用車 | D26: 小型貨物 | E26: 普通貨物 | F26: バス
B27: 時間帯 | C27: (台) | D27: (台) | E27: (台) | F27: (台) | G27: (台) | H27: (％) | I27: (台)
A28: 7 | B28: 7:00-8:00 | C28: 195 | D28: 12 | E28: 1 | F28: 3 | G28: 211 | H28: 1.8957346 | I28: 14
A29: 8 | B29: 8:00-9:00 | C29: 177 | D29: 13 | E29: 4 | F29: 3 | G29: 197 | H29: 3.5532995 | I29: 14
A30: 9 | B30: 9:00-10:00 | C30: 287 | D30: 6 | E30: 2 | F30: 2 | G30: 297 | H30: 1.3468013 | I30: 20
A31: 10 | B31: 10:00-11:00 | C31: 268 | D31: 13 | E31: 1 | F31: 2 | G31: 284 | H31: 1.056338 | I31: 21
A32: 11 | B32: 11:00-12:00 | C32: 294 | D32: 16 | E32: 3 | F32: 2 | G32: 315 | H32: 1.5873016 | I32: 15
A33: 12 | B33: 12:00-13:00 | C33: 234 | D33: 23 | E33: 3 | F33: 2 | G33: 262 | H33: 1.9083969 | I33: 18
A34: 13 | B34: 13:00-14:00 | C34: 235 | D34: 16 | E34: 6 | F34: 1 | G34: 258 | H34: 2.7131783 | I34: 9
A35: 14 | B35: 14:00-15:00 | C35: 273 | D35: 16 | E35: 3 | F35: 1 | G35: 293 | H35: 1.3651877 | I35: 10
A36: 15 | B36: 15:00-16:00 | C36: 260 | D36: 15 | E36: 1 | F36: 2 | G36: 278 | H36: 1.0791367 | I36: 19
A37: 16 | B37: 16:00-17:00 | C37: 265 | D37: 15 | E37: 1 | F37: 1 | G37: 282 | H37: 0.70921986 | I37: 16
A38: 17 | B38: 17:00-18:00 | C38: 218 | D38: 13 | E38: 3 | F38: 2 | G38: 236 | H38: 2.1186441 | I38: 20
A39: 18 | B39: 18:00-19:00 | C39: 169 | D39: 14 | E39: 1 | F39: 2 | G39: 186 | H39: 1.6129032 | I39: 22
B40: 全時間合計 | C40: 2875 | D40: 172 | E40: 29 | F40: 23 | G40: 3099 | H40: 1.6779606 | I40: 198
B42: 方向 | C42: C
C43: 小型車 | E43: 大型車 | G43: 合計 | H43: 大型車混入率 | I43: 二輪車
B44: 種別 | C44: 乗用車 | D44: 小型貨物 | E44: 普通貨物 | F44: バス
B45: 時間帯 | C45: (台) | D45: (台) | E45: (台) | F45: (台) | G45: (台) | H45: (％) | I45: (台)
A46: 7 | B46: 7:00-8:00 | C46: 369 | D46: 24 | E46: 8 | F46: 3 | G46: 404 | H46: 2.7227723 | I46: 36
A47: 8 | B47: 8:00-9:00 | C47: 257 | D47: 19 | E47: 14 | F47: 1 | G47: 291 | H47: 5.1546392 | I47: 20
A48: 9 | B48: 9:00-10:00 | C48: 340 | D48: 15 | E48: 12 | F48: 4 | G48: 371 | H48: 4.3126685 | I48: 36
A49: 10 | B49: 10:00-11:00 | C49: 445 | D49: 24 | E49: 8 | F49: 2 | G49: 479 | H49: 2.0876827 | I49: 33
A50: 11 | B50: 11:00-12:00 | C50: 403 | D50: 30 | E50: 4 | F50: 3 | G50: 440 | H50: 1.5909091 | I50: 36
A51: 12 | B51: 12:00-13:00 | C51: 374 | D51: 26 | E51: 9 | F51: 2 | G51: 411 | H51: 2.676399 | I51: 30
A52: 13 | B52: 13:00-14:00 | C52: 399 | D52: 21 | E52: 8 | F52: 2 | G52: 430 | H52: 2.3255814 | I52: 28
A53: 14 | B53: 14:00-15:00 | C53: 393 | D53: 22 | E53: 6 | F53: 1 | G53: 422 | H53: 1.6587678 | I53: 27
A54: 15 | B54: 15:00-16:00 | C54: 430 | D54: 25 | E54: 8 | F54: 3 | G54: 466 | H54: 2.360515 | I54: 36
A55: 16 | B55: 16:00-17:00 | C55: 431 | D55: 32 | E55: 7 | F55: 1 | G55: 471 | H55: 1.6985138 | I55: 28
A56: 17 | B56: 17:00-18:00 | C56: 363 | D56: 15 | E56: 5 | F56: 2 | G56: 385 | H56: 1.8181818 | I56: 29
A57: 18 | B57: 18:00-19:00 | C57: 274 | D57: 13 | E57: 3 | F57: 1 | G57: 291 | H57: 1.3745704 | I57: 28
B58: 全時間合計 | C58: 4478 | D58: 266 | E58: 92 | F58: 25 | G58: 4861 | H58: 2.4069122 | I58: 367
B60: 方向 | C60: D
C61: 小型車 | E61: 大型車 | G61: 合計 | H61: 大型車混入率 | I61: 二輪車
B62: 種別 | C62: 乗用車 | D62: 小型貨物 | E62: 普通貨物 | F62: バス
B63: 時間帯 | C63: (台) | D63: (台) | E63: (台) | F63: (台) | G63: (台) | H63: (％) | I63: (台)
A64: 7 | B64: 7:00-8:00 | C64: 152 | D64: 18 | E64: 7 | F64: 1 | G64: 178 | H64: 4.494382 | I64: 11
A65: 8 | B65: 8:00-9:00 | C65: 161 | D65: 24 | E65: 14 | F65: 2 | G65: 201 | H65: 7.960199 | I65: 16
A66: 9 | B66: 9:00-10:00 | C66: 250 | D66: 22 | E66: 15 | F66: 1 | G66: 288 | H66: 5.5555556 | I66: 24
A67: 10 | B67: 10:00-11:00 | C67: 307 | D67: 22 | E67: 8 | F67: 1 | G67: 338 | H67: 2.6627219 | I67: 27
A68: 11 | B68: 11:00-12:00 | C68: 356 | D68: 18 | E68: 3 | F68: 0 | G68: 377 | H68: 0.79575597 | I68: 21
A69: 12 | B69: 12:00-13:00 | C69: 346 | D69: 24 | E69: 6 | F69: 2 | G69: 378 | H69: 2.1164021 | I69: 21
A70: 13 | B70: 13:00-14:00 | C70: 378 | D70: 24 | E70: 8 | F70: 1 | G70: 411 | H70: 2.189781 | I70: 18
A71: 14 | B71: 14:00-15:00 | C71: 334 | D71: 22 | E71: 11 | F71: 0 | G71: 367 | H71: 2.9972752 | I71: 18
A72: 15 | B72: 15:00-16:00 | C72: 378 | D72: 19 | E72: 4 | F72: 1 | G72: 402 | H72: 1.2437811 | I72: 18
A73: 16 | B73: 16:00-17:00 | C73: 338 | D73: 30 | E73: 3 | F73: 1 | G73: 372 | H73: 1.0752688 | I73: 16
A74: 17 | B74: 17:00-18:00 | C74: 403 | D74: 17 | E74: 3 | F74: 0 | G74: 423 | H74: 0.70921986 | I74: 27
A75: 18 | B75: 18:00-19:00 | C75: 355 | D75: 12 | E75: 3 | F75: 1 | G75: 371 | H75: 1.0781671 | I75: 24
B76: 全時間合計 | C76: 3758 | D76: 252 | E76: 85 | F76: 11 | G76: 4106 | H76: 2.3380419 | I76: 241

Sheet No3休日_流出計
B1: 交差点交通量集計表（自動車類）
B3: 調査地点： | C3: 宝塚市役所前
B4: 調査日： | C4: 令和7年10月19日（日）7時～19時
B6: 方向 | C6: A
C7: 小型車 | E7: 大型車 | G7: 合計 | H7: 大型車混入率 | I7: 二輪車
B8: 種別 | C8: 乗用車 | D8: 小型貨物 | E8: 普通貨物 | F8: バス
B9: 時間帯 | C9: (台) | D9: (台) | E9: (台) | F9: (台) | G9: (台) | H9: (％) | I9: (台)
A10: 7 | B10: 7:00-8:00 | C10: 536 | D10: 40 | E10: 11 | F10: 4 | G10: 591 | H10: 2.5380711 | I10: 48
A11: 8 | B11: 8:00-9:00 | C11: 399 | D11: 32 | E11: 17 | F11: 3 | G11: 451 | H11: 4.4345898 | I11: 40
A12: 9 | B12: 9:00-10:00 | C12: 529 | D12: 30 | E12: 19 | F12: 5 | G12: 583 | H12: 4.1166381 | I12: 53
A13: 10 | B13: 10:00-11:00 | C13: 586 | D13: 36 | E13: 8 | F13: 3 | G13: 633 | H13: 1.7377567 | I13: 57
A14: 11 | B14: 11:00-12:00 | C14: 586 | D14: 43 | E14: 7 | F14: 4 | G14: 640 | H14: 1.71875 | I14: 52
A15: 12 | B15: 12:00-13:00 | C15: 531 | D15: 39 | E15: 14 | F15: 4 | G15: 588 | H15: 3.0612245 | I15: 41
A16: 13 | B16: 13:00-14:00 | C16: 586 | D16: 28 | E16: 17 | F16: 3 | G16: 634 | H16: 3.1545741 | I16: 39
A17: 14 | B17: 14:00-15:00 | C17: 583 | D17: 33 | E17: 7 | F17: 2 | G17: 625 | H17: 1.44 | I17: 33
A18: 15 | B18: 15:00-16:00 | C18: 611 | D18: 41 | E18: 7 | F18: 4 | G18: 663 | H18: 1.6591252 | I18: 52
A19: 16 | B19: 16:00-17:00 | C19: 613 | D19: 42 | E19: 4 | F19: 2 | G19: 661 | H19: 0.90771558 | I19: 43
A20: 17 | B20: 17:00-18:00 | C20: 545 | D20: 30 | E20: 6 | F20: 3 | G20: 584 | H20: 1.5410959 | I20: 40
A21: 18 | B21: 18:00-19:00 | C21: 467 | D21: 25 | E21: 5 | F21: 2 | G21: 499 | H21: 1.4028056 | I21: 46
B22: 全時間合計 | C22: 6572 | D22: 419 | E22: 122 | F22: 39 | G22: 7152 | H22: 2.2511186 | I22: 544
B24: 方向 | C24: B
C25: 小型車 | E25: 大型車 | G25: 合計 | H25: 大型車混入率 | I25: 二輪車
B26: 種別 | C26: 乗用車 | D26: 小型貨物 | E26: 普通貨物 | F26: バス
B27: 時間帯 | C27: (台) | D27: (台) | E27: (台) | F27: (台) | G27: (台) | H27: (％) | I27: (台)
A28: 7 | B28: 7:00-8:00 | C28: 62 | D28: 6 | E28: 0 | F28: 0 | G28: 68 | H28: - | I28: 5
A29: 8 | B29: 8:00-9:00 | C29: 79 | D29: 15 | E29: 4 | F29: 0 | G29: 98 | H29: 4.0816327 | I29: 11
A30: 9 | B30: 9:00-10:00 | C30: 147 | D30: 14 | E30: 2 | F30: 0 | G30: 163 | H30: 1.2269939 | I30: 18
A31: 10 | B31: 10:00-11:00 | C31: 202 | D31: 21 | E31: 4 | F31: 0 | G31: 227 | H31: 1.7621145 | I31: 17
A32: 11 | B32: 11:00-12:00 | C32: 238 | D32: 12 | E32: 4 | F32: 0 | G32: 254 | H32: 1.5748031 | I32: 13
A33: 12 | B33: 12:00-13:00 | C33: 242 | D33: 20 | E33: 2 | F33: 0 | G33: 264 | H33: 0.75757576 | I33: 19
A34: 13 | B34: 13:00-14:00 | C34: 250 | D34: 20 | E34: 3 | F34: 0 | G34: 273 | H34: 1.0989011 | I34: 23
A35: 14 | B35: 14:00-15:00 | C35: 249 | D35: 11 | E35: 4 | F35: 0 | G35: 264 | H35: 1.5151515 | I35: 14
A36: 15 | B36: 15:00-16:00 | C36: 297 | D36: 8 | E36: 3 | F36: 0 | G36: 308 | H36: 0.97402597 | I36: 13
A37: 16 | B37: 16:00-17:00 | C37: 271 | D37: 22 | E37: 2 | F37: 0 | G37: 295 | H37: 0.6779661 | I37: 13
A38: 17 | B38: 17:00-18:00 | C38: 306 | D38: 14 | E38: 4 | F38: 0 | G38: 324 | H38: 1.2345679 | I38: 24
A39: 18 | B39: 18:00-19:00 | C39: 220 | D39: 10 | E39: 2 | F39: 0 | G39: 232 | H39: 0.86206897 | I39: 13
B40: 全時間合計 | C40: 2563 | D40: 173 | E40: 34 | F40: 0 | G40: 2770 | H40: 1.2274368 | I40: 183
B42: 方向 | C42: C
C43: 小型車 | E43: 大型車 | G43: 合計 | H43: 大型車混入率 | I43: 二輪車
B44: 種別 | C44: 乗用車 | D44: 小型貨物 | E44: 普通貨物 | F44: バス
B45: 時間帯 | C45: (台) | D45: (台) | E45: (台) | F45: (台) | G45: (台) | H45: (％) | I45: (台)
A46: 7 | B46: 7:00-8:00 | C46: 193 | D46: 20 | E46: 5 | F46: 2 | G46: 220 | H46: 3.1818182 | I46: 19
A47: 8 | B47: 8:00-9:00 | C47: 227 | D47: 26 | E47: 16 | F47: 7 | G47: 276 | H47: 8.3333333 | I47: 27
A48: 9 | B48: 9:00-10:00 | C48: 303 | D48: 26 | E48: 10 | F48: 3 | G48: 342 | H48: 3.8011696 | I48: 44
A49: 10 | B49: 10:00-11:00 | C49: 411 | D49: 23 | E49: 11 | F49: 4 | G49: 449 | H49: 3.3407572 | I49: 38
A50: 11 | B50: 11:00-12:00 | C50: 374 | D50: 19 | E50: 7 | F50: 1 | G50: 401 | H50: 1.9950125 | I50: 32
A51: 12 | B51: 12:00-13:00 | C51: 417 | D51: 22 | E51: 6 | F51: 5 | G51: 450 | H51: 2.4444444 | I51: 39
A52: 13 | B52: 13:00-14:00 | C52: 393 | D52: 16 | E52: 5 | F52: 3 | G52: 417 | H52: 1.9184652 | I52: 31
A53: 14 | B53: 14:00-15:00 | C53: 381 | D53: 24 | E53: 5 | F53: 4 | G53: 414 | H53: 2.173913 | I53: 29
A54: 15 | B54: 15:00-16:00 | C54: 406 | D54: 26 | E54: 5 | F54: 5 | G54: 442 | H54: 2.2624434 | I54: 28
A55: 16 | B55: 16:00-17:00 | C55: 437 | D55: 18 | E55: 6 | F55: 4 | G55: 465 | H55: 2.1505376 | I55: 23
A56: 17 | B56: 17:00-18:00 | C56: 429 | D56: 39 | E56: 1 | F56: 3 | G56: 472 | H56: 0.84745763 | I56: 38
A57: 18 | B57: 18:00-19:00 | C57: 400 | D57: 15 | E57: 2 | F57: 5 | G57: 422 | H57: 1.6587678 | I57: 30
B58: 全時間合計 | C58: 4371 | D58: 274 | E58: 79 | F58: 46 | G58: 4770 | H58: 2.6205451 | I58: 378
B60: 方向 | C60: D
C61: 小型車 | E61: 大型車 | G61: 合計 | H61: 大型車混入率 | I61: 二輪車
B62: 種別 | C62: 乗用車 | D62: 小型貨物 | E62: 普通貨物 | F62: バス
B63: 時間帯 | C63: (台) | D63: (台) | E63: (台) | F63: (台) | G63: (台) | H63: (％) | I63: (台)
A64: 7 | B64: 7:00-8:00 | C64: 124 | D64: 13 | E64: 8 | F64: 2 | G64: 147 | H64: 6.8027211 | I64: 11
A65: 8 | B65: 8:00-9:00 | C65: 252 | D65: 31 | E65: 14 | F65: 1 | G65: 298 | H65: 5.033557 | I65: 16
A66: 9 | B66: 9:00-10:00 | C66: 386 | D66: 20 | E66: 7 | F66: 1 | G66: 414 | H66: 1.9323671 | I66: 28
A67: 10 | B67: 10:00-11:00 | C67: 448 | D67: 25 | E67: 7 | F67: 1 | G67: 481 | H67: 1.6632017 | I67: 29
A68: 11 | B68: 11:00-12:00 | C68: 413 | D68: 31 | E68: 11 | F68: 1 | G68: 456 | H68: 2.6315789 | I68: 19
A69: 12 | B69: 12:00-13:00 | C69: 376 | D69: 36 | E69: 6 | F69: 1 | G69: 419 | H69: 1.6706444 | I69: 25
A70: 13 | B70: 13:00-14:00 | C70: 397 | D70: 34 | E70: 5 | F70: 0 | G70: 436 | H70: 1.146789 | I70: 20
A71: 14 | B71: 14:00-15:00 | C71: 463 | D71: 38 | E71: 12 | F71: 0 | G71: 513 | H71: 2.3391813 | I71: 25
A72: 15 | B72: 15:00-16:00 | C72: 431 | D72: 26 | E72: 6 | F72: 1 | G72: 464 | H72: 1.5086207 | I72: 23
A73: 16 | B73: 16:00-17:00 | C73: 427 | D73: 32 | E73: 8 | F73: 0 | G73: 467 | H73: 1.7130621 | I73: 20
A74: 17 | B74: 17:00-18:00 | C74: 402 | D74: 27 | E74: 8 | F74: 1 | G74: 438 | H74: 2.0547945 | I74: 27
A75: 18 | B75: 18:00-19:00 | C75: 312 | D75: 16 | E75: 2 | F75: 1 | G75: 331 | H75: 0.90634441 | I75: 31
B76: 全時間合計 | C76: 4431 | D76: 329 | E76: 94 | F76: 10 | G76: 4864 | H76: 2.1381579 | I76: 274

Sheet No3休日_断面計
B1: 交差点交通量集計表（自動車類）
B3: 調査地点： | C3: 宝塚市役所前
B4: 調査日： | C4: 令和7年10月19日（日）7時～19時
B6: 方向 | C6: A
C7: 小型車 | E7: 大型車 | G7: 合計 | H7: 大型車混入率 | I7: 二輪車
B8: 種別 | C8: 乗用車 | D8: 小型貨物 | E8: 普通貨物 | F8: バス
B9: 時間帯 | C9: (台) | D9: (台) | E9: (台) | F9: (台) | G9: (台) | H9: (％) | I9: (台)
A10: 7 | B10: 7:00-8:00 | C10: 735 | D10: 65 | E10: 19 | F10: 5 | G10: 824 | H10: 2.9126214 | I10: 70
A11: 8 | B11: 8:00-9:00 | C11: 761 | D11: 80 | E11: 36 | F11: 8 | G11: 885 | H11: 4.9717514 | I11: 84
A12: 9 | B12: 9:00-10:00 | C12: 1017 | D12: 77 | E12: 28 | F12: 7 | G12: 1129 | H12: 3.1000886 | I12: 116
A13: 10 | B13: 10:00-11:00 | C13: 1213 | D13: 82 | E13: 21 | F13: 6 | G13: 1322 | H13: 2.0423601 | I13: 117
A14: 11 | B14: 11:00-12:00 | C14: 1144 | D14: 84 | E14: 26 | F14: 5 | G14: 1259 | H14: 2.4622716 | I14: 96
A15: 12 | B15: 12:00-13:00 | C15: 1143 | D15: 83 | E15: 24 | F15: 8 | G15: 1258 | H15: 2.5437202 | I15: 96
A16: 13 | B16: 13:00-14:00 | C16: 1200 | D16: 65 | E16: 25 | F16: 5 | G16: 1295 | H16: 2.3166023 | I16: 97
A17: 14 | B17: 14:00-15:00 | C17: 1259 | D17: 79 | E17: 15 | F17: 6 | G17: 1359 | H17: 1.5452539 | I17: 79
A18: 15 | B18: 15:00-16:00 | C18: 1288 | D18: 83 | E18: 15 | F18: 8 | G18: 1394 | H18: 1.6499283 | I18: 95
A19: 16 | B19: 16:00-17:00 | C19: 1327 | D19: 79 | E19: 13 | F19: 5 | G19: 1424 | H19: 1.2640449 | I19: 82
A20: 17 | B20: 17:00-18:00 | C20: 1243 | D20: 95 | E20: 14 | F20: 6 | G20: 1358 | H20: 1.4727541 | I20: 93
A21: 18 | B21: 18:00-19:00 | C21: 1068 | D21: 52 | E21: 9 | F21: 6 | G21: 1135 | H21: 1.3215859 | I21: 92
B22: 全時間合計 | C22: 13398 | D22: 924 | E22: 245 | F22: 75 | G22: 14642 | H22: 2.1854938 | I22: 1117
B24: 方向 | C24: B
C25: 小型車 | E25: 大型車 | G25: 合計 | H25: 大型車混入率 | I25: 二輪車
B26: 種別 | C26: 乗用車 | D26: 小型貨物 | E26: 普通貨物 | F26: バス
B27: 時間帯 | C27: (台) | D27: (台) | E27: (台) | F27: (台) | G27: (台) | H27: (％) | I27: (台)
A28: 7 | B28: 7:00-8:00 | C28: 257 | D28: 18 | E28: 1 | F28: 3 | G28: 279 | H28: 1.4336918 | I28: 19
A29: 8 | B29: 8:00-9:00 | C29: 256 | D29: 28 | E29: 8 | F29: 3 | G29: 295 | H29: 3.7288136 | I29: 25
A30: 9 | B30: 9:00-10:00 | C30: 434 | D30: 20 | E30: 4 | F30: 2 | G30: 460 | H30: 1.3043478 | I30: 38
A31: 10 | B31: 10:00-11:00 | C31: 470 | D31: 34 | E31: 5 | F31: 2 | G31: 511 | H31: 1.369863 | I31: 38
A32: 11 | B32: 11:00-12:00 | C32: 532 | D32: 28 | E32: 7 | F32: 2 | G32: 569 | H32: 1.5817223 | I32: 28
A33: 12 | B33: 12:00-13:00 | C33: 476 | D33: 43 | E33: 5 | F33: 2 | G33: 526 | H33: 1.3307985 | I33: 37
A34: 13 | B34: 13:00-14:00 | C34: 485 | D34: 36 | E34: 9 | F34: 1 | G34: 531 | H34: 1.8832392 | I34: 32
A35: 14 | B35: 14:00-15:00 | C35: 522 | D35: 27 | E35: 7 | F35: 1 | G35: 557 | H35: 1.4362657 | I35: 24
A36: 15 | B36: 15:00-16:00 | C36: 557 | D36: 23 | E36: 4 | F36: 2 | G36: 586 | H36: 1.0238908 | I36: 32
A37: 16 | B37: 16:00-17:00 | C37: 536 | D37: 37 | E37: 3 | F37: 1 | G37: 577 | H37: 0.6932409 | I37: 29
A38: 17 | B38: 17:00-18:00 | C38: 524 | D38: 27 | E38: 7 | F38: 2 | G38: 560 | H38: 1.6071429 | I38: 44
A39: 18 | B39: 18:00-19:00 | C39: 389 | D39: 24 | E39: 3 | F39: 2 | G39: 418 | H39: 1.1961722 | I39: 35
B40: 全時間合計 | C40: 5438 | D40: 345 | E40: 63 | F40: 23 | G40: 5869 | H40: 1.4653263 | I40: 381
B42: 方向 | C42: C
C43: 小型車 | E43: 大型車 | G43: 合計 | H43: 大型車混入率 | I43: 二輪車
B44: 種別 | C44: 乗用車 | D44: 小型貨物 | E44: 普通貨物 | F44: バス
B45: 時間帯 | C45: (台) | D45: (台) | E45: (台) | F45: (台) | G45: (台) | H45: (％) | I45: (台)
A46: 7 | B46: 7:00-8:00 | C46: 562 | D46: 44 | E46: 13 | F46: 5 | G46: 624 | H46: 2.8846154 | I46: 55
A47: 8 | B47: 8:00-9:00 | C47: 484 | D47: 45 | E47: 30 | F47: 8 | G47: 567 | H47: 6.70194 | I47: 47
A48: 9 | B48: 9:00-10:00 | C48: 643 | D48: 41 | E48: 22 | F48: 7 | G48: 713 | H48: 4.0673212 | I48: 80
A49: 10 | B49: 10:00-11:00 | C49: 856 | D49: 47 | E49: 19 | F49: 6 | G49: 928 | H49: 2.6939655 | I49: 71
A50: 11 | B50: 11:00-12:00 | C50: 777 | D50: 49 | E50: 11 | F50: 4 | G50: 841 | H50: 1.783591 | I50: 68
A51: 12 | B51: 12:00-13:00 | C51: 791 | D51: 48 | E51: 15 | F51: 7 | G51: 861 | H51: 2.5551684 | I51: 69
A52: 13 | B52: 13:00-14:00 | C52: 792 | D52: 37 | E52: 13 | F52: 5 | G52: 847 | H52: 2.1251476 | I52: 59
A53: 14 | B53: 14:00-15:00 | C53: 774 | D53: 46 | E53: 11 | F53: 5 | G53: 836 | H53: 1.9138756 | I53: 56
A54: 15 | B54: 15:00-16:00 | C54: 836 | D54: 51 | E54: 13 | F54: 8 | G54: 908 | H54: 2.3127753 | I54: 64
A55: 16 | B55: 16:00-17:00 | C55: 868 | D55: 50 | E55: 13 | F55: 5 | G55: 936 | H55: 1.9230769 | I55: 51
A56: 17 | B56: 17:00-18:00 | C56: 792 | D56: 54 | E56: 6 | F56: 5 | G56: 857 | H56: 1.2835473 | I56: 67
A57: 18 | B57: 18:00-19:00 | C57: 674 | D57: 28 | E57: 5 | F57: 6 | G57: 713 | H57: 1.542777 | I57: 58
B58: 全時間合計 | C58: 8849 | D58: 540 | E58: 171 | F58: 71 | G58: 9631 | H58: 2.5127193 | I58: 745
B60: 方向 | C60: D
C61: 小型車 | E61: 大型車 | G61: 合計 | H61: 大型車混入率 | I61: 二輪車
B62: 種別 | C62: 乗用車 | D62: 小型貨物 | E62: 普通貨物 | F62: バス
B63: 時間帯 | C63: (台) | D63: (台) | E63: (台) | F63: (台) | G63: (台) | H63: (％) | I63: (台)
A64: 7 | B64: 7:00-8:00 | C64: 276 | D64: 31 | E64: 15 | F64: 3 | G64: 325 | H64: 5.5384615 | I64: 22
A65: 8 | B65: 8:00-9:00 | C65: 413 | D65: 55 | E65: 28 | F65: 3 | G65: 499 | H65: 6.2124248 | I65: 32
A66: 9 | B66: 9:00-10:00 | C66: 636 | D66: 42 | E66: 22 | F66: 2 | G66: 702 | H66: 3.4188034 | I66: 52
A67: 10 | B67: 10:00-11:00 | C67: 755 | D67: 47 | E67: 15 | F67: 2 | G67: 819 | H67: 2.0757021 | I67: 56
A68: 11 | B68: 11:00-12:00 | C68: 769 | D68: 49 | E68: 14 | F68: 1 | G68: 833 | H68: 1.8007203 | I68: 40
A69: 12 | B69: 12:00-13:00 | C69: 722 | D69: 60 | E69: 12 | F69: 3 | G69: 797 | H69: 1.8820577 | I69: 46
A70: 13 | B70: 13:00-14:00 | C70: 775 | D70: 58 | E70: 13 | F70: 1 | G70: 847 | H70: 1.6528926 | I70: 38
A71: 14 | B71: 14:00-15:00 | C71: 797 | D71: 60 | E71: 23 | F71: 0 | G71: 880 | H71: 2.6136364 | I71: 43
A72: 15 | B72: 15:00-16:00 | C72: 809 | D72: 45 | E72: 10 | F72: 2 | G72: 866 | H72: 1.3856813 | I72: 41
A73: 16 | B73: 16:00-17:00 | C73: 765 | D73: 62 | E73: 11 | F73: 1 | G73: 839 | H73: 1.4302741 | I73: 36
A74: 17 | B74: 17:00-18:00 | C74: 805 | D74: 44 | E74: 11 | F74: 1 | G74: 861 | H74: 1.3937282 | I74: 54
A75: 18 | B75: 18:00-19:00 | C75: 667 | D75: 28 | E75: 5 | F75: 2 | G75: 702 | H75: 0.997151 | I75: 55
B76: 全時間合計 | C76: 8189 | D76: 581 | E76: 179 | F76: 21 | G76: 8970 | H76: 2.2296544 | I76: 515

Sheet No3休日_方向別A
B1: 交差点交通量集計表（自動車類）
B3: 調査地点： | C3: 宝塚市役所前
B4: 調査日： | C4: 令和7年10月19日（日）7時～19時
B6: 方向 | C6: 1 | J6: 2 | Q6: 3
C7: 小型車 | E7: 大型車 | G7: 合計 | H7: 大型車混入率 | I7: 二輪車 | J7: 小型車 | L7: 大型車 | N7: 合計 | O7: 大型車混入率 | P7: 二輪車 | Q7: 小型車 | S7: 大型車 | U7: 合計 | V7: 大型車混入率 | W7: 二輪車 | X7: 小型車 | Z7: 大型車 | AB7: 合計 | AC7: 大型車混入率 | AD7: 二輪車
B8: 種別 | C8: 乗用車 | D8: 小型貨物 | E8: 普通貨物 | F8: バス | J8: 乗用車 | K8: 小型貨物 | L8: 普通貨物 | M8: バス | Q8: 乗用車 | R8: 小型貨物 | S8: 普通貨物 | T8: バス | X8: 乗用車 | Y8: 小型貨物 | Z8: 普通貨物 | AA8: バス
B9: 時間帯 | C9: (台) | D9: (台) | E9: (台) | F9: (台) | G9: (台) | H9: (％) | I9: (台) | J9: (台) | K9: (台) | L9: (台) | M9: (台) | N9: (台) | O9: (％) | P9: (台) | Q9: (台) | R9: (台) | S9: (台) | T9: (台) | U9: (台) | V9: (％) | W9: (台) | X9: (台) | Y9: (台) | Z9: (台) | AA9: (台) | AB9: (台) | AC9: (％) | AD9: (台)
A10: 7 | B10: 7:00-8:00 | C10: 47 | D10: 7 | E10: 4 | F10: 0 | G10: 58 | H10: 6.8965517 | I10: 5 | J10: 127 | K10: 16 | L10: 4 | M10: 1 | N10: 148 | O10: 3.3783784 | P10: 15 | Q10: 25 | R10: 2 | S10: 0 | T10: 0 | U10: 27 | V10: - | W10: 2
A11: 8 | B11: 8:00-9:00 | C11: 126 | D11: 21 | E11: 7 | F11: 0 | G11: 154 | H11: 4.5454545 | I11: 10 | J11: 202 | K11: 24 | L11: 12 | M11: 5 | N11: 243 | O11: 6.9958848 | P11: 26 | Q11: 34 | R11: 3 | S11: 0 | T11: 0 | U11: 37 | V11: - | W11: 8
A12: 9 | B12: 9:00-10:00 | C12: 178 | D12: 17 | E12: 4 | F12: 0 | G12: 199 | H12: 2.0100503 | I12: 15 | J12: 255 | K12: 24 | L12: 5 | M12: 2 | N12: 286 | O12: 2.4475524 | P12: 40 | Q12: 55 | R12: 6 | S12: 0 | T12: 0 | U12: 61 | V12: - | W12: 8
A13: 10 | B13: 10:00-11:00 | C13: 215 | D13: 14 | E13: 3 | F13: 0 | G13: 232 | H13: 1.2931034 | I13: 18 | J13: 344 | K13: 19 | L13: 10 | M13: 3 | N13: 376 | O13: 3.4574468 | P13: 36 | Q13: 68 | R13: 13 | S13: 0 | T13: 0 | U13: 81 | V13: - | W13: 6
A14: 11 | B14: 11:00-12:00 | C14: 188 | D14: 20 | E14: 10 | F14: 0 | G14: 218 | H14: 4.587156 | I14: 11 | J14: 287 | K14: 18 | L14: 7 | M14: 1 | N14: 313 | O14: 2.5559105 | P14: 29 | Q14: 83 | R14: 3 | S14: 2 | T14: 0 | U14: 88 | V14: 2.3 | W14: 4
A15: 12 | B15: 12:00-13:00 | C15: 194 | D15: 20 | E15: 4 | F15: 0 | G15: 218 | H15: 1.8348624 | I15: 13 | J15: 336 | K15: 20 | L15: 4 | M15: 4 | N15: 364 | O15: 2.1978022 | P15: 35 | Q15: 82 | R15: 4 | S15: 2 | T15: 0 | U15: 88 | V15: 2.3 | W15: 7
A16: 13 | B16: 13:00-14:00 | C16: 218 | D16: 20 | E16: 2 | F16: 0 | G16: 240 | H16: 0.83333333 | I16: 18 | J16: 315 | K16: 14 | L16: 5 | M16: 2 | N16: 336 | O16: 2.0833333 | P16: 30 | Q16: 81 | R16: 3 | S16: 1 | T16: 0 | U16: 85 | V16: 1.2 | W16: 10
A17: 14 | B17: 14:00-15:00 | C17: 270 | D17: 23 | E17: 7 | F17: 0 | G17: 300 | H17: 2.3333333 | I17: 13 | J17: 315 | K17: 20 | L17: 1 | M17: 4 | N17: 340 | O17: 1.4705882 | P17: 25 | Q17: 91 | R17: 3 | S17: 0 | T17: 0 | U17: 94 | V17: - | W17: 8
A18: 15 | B18: 15:00-16:00 | C18: 244 | D18: 16 | E18: 2 | F18: 0 | G18: 262 | H18: 0.76335878 | I18: 12 | J18: 340 | K18: 22 | L18: 4 | M18: 4 | N18: 370 | O18: 2.1621622 | P18: 24 | Q18: 93 | R18: 4 | S18: 2 | T18: 0 | U18: 99 | V18: 2 | W18: 7
A19: 16 | B19: 16:00-17:00 | C19: 229 | D19: 15 | E19: 4 | F19: 0 | G19: 248 | H19: 1.6129032 | I19: 11 | J19: 357 | K19: 15 | L19: 4 | M19: 3 | N19: 379 | O19: 1.8469657 | P19: 21 | Q19: 128 | R19: 7 | S19: 1 | T19: 0 | U19: 136 | V19: 0.7 | W19: 7
A20: 17 | B20: 17:00-18:00 | C20: 236 | D20: 20 | E20: 4 | F20: 0 | G20: 260 | H20: 1.5384615 | I20: 16 | J20: 352 | K20: 37 | L20: 1 | M20: 3 | N20: 393 | O20: 1.0178117 | P20: 29 | Q20: 110 | R20: 8 | S20: 3 | T20: 0 | U20: 121 | V20: 2.5 | W20: 8
A21: 18 | B21: 18:00-19:00 | C21: 185 | D21: 10 | E21: 2 | F21: 0 | G21: 197 | H21: 1.0152284 | I21: 16 | J21: 328 | K21: 15 | L21: 2 | M21: 4 | N21: 349 | O21: 1.7191977 | P21: 25 | Q21: 88 | R21: 2 | S21: 0 | T21: 0 | U21: 90 | V21: - | W21: 5
B22: 全時間合計 | C22: 2330 | D22: 203 | E22: 53 | F22: 0 | G22: 2586 | H22: 2.0494973 | I22: 158 | J22: 3558 | K22: 244 | L22: 59 | M22: 36 | N22: 3897 | O22: 2.4377726 | P22: 335 | Q22: 938 | R22: 58 | S22: 11 | T22: 0 | U22: 1007 | V22: 1.1 | W22: 80

Sheet No3休日_方向別B
B1: 交差点交通量集計表（自動車類）
B3: 調査地点： | C3: 宝塚市役所前
B4: 調査日： | C4: 令和7年10月19日（日）7時～19時
B6: 方向 | C6: 4 | J6: 5 | Q6: 6
C7: 小型車 | E7: 大型車 | G7: 合計 | H7: 大型車混入率 | I7: 二輪車 | J7: 小型車 | L7: 大型車 | N7: 合計 | O7: 大型車混入率 | P7: 二輪車 | Q7: 小型車 | S7: 大型車 | U7: 合計 | V7: 大型車混入率 | W7: 二輪車 | X7: 小型車 | Z7: 大型車 | AB7: 合計 | AC7: 大型車混入率 | AD7: 二輪車
B8: 種別 | C8: 乗用車 | D8: 小型貨物 | E8: 普通貨物 | F8: バス | J8: 乗用車 | K8: 小型貨物 | L8: 普通貨物 | M8: バス | Q8: 乗用車 | R8: 小型貨物 | S8: 普通貨物 | T8: バス | X8: 乗用車 | Y8: 小型貨物 | Z8: 普通貨物 | AA8: バス
B9: 時間帯 | C9: (台) | D9: (台) | E9: (台) | F9: (台) | G9: (台) | H9: (％) | I9: (台) | J9: (台) | K9: (台) | L9: (台) | M9: (台) | N9: (台) | O9: (％) | P9: (台) | Q9: (台) | R9: (台) | S9: (台) | T9: (台) | U9: (台) | V9: (％) | W9: (台) | X9: (台) | Y9: (台) | Z9: (台) | AA9: (台) | AB9: (台) | AC9: (％) | AD9: (台)
A10: 7 | B10: 7:00-8:00 | C10: 126 | D10: 7 | E10: 0 | F10: 1 | G10: 134 | H10: 0.74626866 | I10: 6 | J10: 56 | K10: 5 | L10: 1 | M10: 2 | N10: 64 | O10: 4.6875 | P10: 5 | Q10: 13 | R10: 0 | S10: 0 | T10: 0 | U10: 13 | V10: - | W10: 3
A11: 8 | B11: 8:00-9:00 | C11: 76 | D11: 7 | E11: 0 | F11: 2 | G11: 85 | H11: 2.3529412 | I11: 10 | J11: 99 | K11: 6 | L11: 4 | M11: 1 | N11: 110 | O11: 4.5454545 | P11: 4 | Q11: 2 | R11: 0 | S11: 0 | T11: 0 | U11: 2 | V11: - | W11: 0
A12: 9 | B12: 9:00-10:00 | C12: 130 | D12: 4 | E12: 1 | F12: 1 | G12: 136 | H12: 1.4705882 | I12: 7 | J12: 152 | K12: 2 | L12: 1 | M12: 1 | N12: 156 | O12: 1.2820513 | P12: 12 | Q12: 5 | R12: 0 | S12: 0 | T12: 0 | U12: 5 | V12: - | W12: 1
A13: 10 | B13: 10:00-11:00 | C13: 103 | D13: 6 | E13: 0 | F13: 1 | G13: 110 | H13: 0.90909091 | I13: 12 | J13: 156 | K13: 7 | L13: 1 | M13: 1 | N13: 165 | O13: 1.2121212 | P13: 9 | Q13: 9 | R13: 0 | S13: 0 | T13: 0 | U13: 9 | V13: - | W13: 0
A14: 11 | B14: 11:00-12:00 | C14: 122 | D14: 10 | E14: 3 | F14: 1 | G14: 136 | H14: 2.9411765 | I14: 13 | J14: 160 | K14: 5 | L14: 0 | M14: 1 | N14: 166 | O14: 0.60240964 | P14: 2 | Q14: 12 | R14: 1 | S14: 0 | T14: 0 | U14: 13 | V14: - | W14: 0
A15: 12 | B15: 12:00-13:00 | C15: 120 | D15: 10 | E15: 2 | F15: 1 | G15: 133 | H15: 2.2556391 | I15: 10 | J15: 108 | K15: 13 | L15: 1 | M15: 1 | N15: 123 | O15: 1.6260163 | P15: 7 | Q15: 6 | R15: 0 | S15: 0 | T15: 0 | U15: 6 | V15: - | W15: 1
A16: 13 | B16: 13:00-14:00 | C16: 110 | D16: 7 | E16: 3 | F16: 1 | G16: 121 | H16: 3.3057851 | I16: 8 | J16: 115 | K16: 9 | L16: 3 | M16: 0 | N16: 127 | O16: 2.3622047 | P16: 1 | Q16: 10 | R16: 0 | S16: 0 | T16: 0 | U16: 10 | V16: - | W16: 0
A17: 14 | B17: 14:00-15:00 | C17: 135 | D17: 6 | E17: 0 | F17: 1 | G17: 142 | H17: 0.70422535 | I17: 5 | J17: 130 | K17: 10 | L17: 3 | M17: 0 | N17: 143 | O17: 2.0979021 | P17: 5 | Q17: 8 | R17: 0 | S17: 0 | T17: 0 | U17: 8 | V17: - | W17: 0
A18: 15 | B18: 15:00-16:00 | C18: 126 | D18: 7 | E18: 0 | F18: 1 | G18: 134 | H18: 0.74626866 | I18: 6 | J18: 121 | K18: 8 | L18: 1 | M18: 1 | N18: 131 | O18: 1.5267176 | P18: 10 | Q18: 13 | R18: 0 | S18: 0 | T18: 0 | U18: 13 | V18: - | W18: 3
A19: 16 | B19: 16:00-17:00 | C19: 118 | D19: 2 | E19: 0 | F19: 1 | G19: 121 | H19: 0.82644628 | I19: 9 | J19: 136 | K19: 13 | L19: 1 | M19: 0 | N19: 150 | O19: 0.66666667 | P19: 7 | Q19: 11 | R19: 0 | S19: 0 | T19: 0 | U19: 11 | V19: - | W19: 0
A20: 17 | B20: 17:00-18:00 | C20: 99 | D20: 7 | E20: 1 | F20: 1 | G20: 108 | H20: 1.8518519 | I20: 11 | J20: 111 | K20: 6 | L20: 2 | M20: 1 | N20: 120 | O20: 2.5 | P20: 8 | Q20: 8 | R20: 0 | S20: 0 | T20: 0 | U20: 8 | V20: - | W20: 1
A21: 18 | B21: 18:00-19:00 | C21: 78 | D21: 11 | E21: 1 | F21: 1 | G21: 91 | H21: 2.1978022 | I21: 8 | J21: 86 | K21: 3 | L21: 0 | M21: 1 | N21: 90 | O21: 1.1111111 | P21: 12 | Q21: 5 | R21: 0 | S21: 0 | T21: 0 | U21: 5 | V21: - | W21: 2
B22: 全時間合計 | C22: 1343 | D22: 84 | E22: 11 | F22: 13 | G22: 1451 | H22: 1.6540317 | I22: 105 | J22: 1430 | K22: 87 | L22: 18 | M22: 10 | N22: 1545 | O22: 1.8122977 | P22: 82 | Q22: 102 | R22: 1 | S22: 0 | T22: 0 | U22: 103 | V22: - | W22: 11

Sheet No3休日_方向別C
B1: 交差点交通量集計表（自動車類）
B3: 調査地点： | C3: 宝塚市役所前
B4: 調査日： | C4: 令和7年10月19日（日）7時～19時
B6: 方向 | C6: 7 | J6: 8 | Q6: 9
C7: 小型車 | E7: 大型車 | G7: 合計 | H7: 大型車混入率 | I7: 二輪車 | J7: 小型車 | L7: 大型車 | N7: 合計 | O7: 大型車混入率 | P7: 二輪車 | Q7: 小型車 | S7: 大型車 | U7: 合計 | V7: 大型車混入率 | W7: 二輪車 | X7: 小型車 | Z7: 大型車 | AB7: 合計 | AC7: 大型車混入率 | AD7: 二輪車
B8: 種別 | C8: 乗用車 | D8: 小型貨物 | E8: 普通貨物 | F8: バス | J8: 乗用車 | K8: 小型貨物 | L8: 普通貨物 | M8: バス | Q8: 乗用車 | R8: 小型貨物 | S8: 普通貨物 | T8: バス | X8: 乗用車 | Y8: 小型貨物 | Z8: 普通貨物 | AA8: バス
B9: 時間帯 | C9: (台) | D9: (台) | E9: (台) | F9: (台) | G9: (台) | H9: (％) | I9: (台) | J9: (台) | K9: (台) | L9: (台) | M9: (台) | N9: (台) | O9: (％) | P9: (台) | Q9: (台) | R9: (台) | S9: (台) | T9: (台) | U9: (台) | V9: (％) | W9: (台) | X9: (台) | Y9: (台) | Z9: (台) | AA9: (台) | AB9: (台) | AC9: (％) | AD9: (台)
A10: 7 | B10: 7:00-8:00 | C10: 5 | D10: 0 | E10: 0 | F10: 0 | G10: 5 | H10: - | I10: 0 | J10: 343 | K10: 23 | L10: 5 | M10: 3 | N10: 374 | O10: 2.1390374 | P10: 35 | Q10: 21 | R10: 1 | S10: 3 | T10: 0 | U10: 25 | V10: 12 | W10: 1
A11: 8 | B11: 8:00-9:00 | C11: 3 | D11: 0 | E11: 0 | F11: 0 | G11: 3 | H11: - | I11: 1 | J11: 227 | K11: 15 | L11: 11 | M11: 1 | N11: 254 | O11: 4.7244094 | P11: 17 | Q11: 27 | R11: 4 | S11: 3 | T11: 0 | U11: 34 | V11: 8.8 | W11: 2
A12: 9 | B12: 9:00-10:00 | C12: 5 | D12: 0 | E12: 0 | F12: 0 | G12: 5 | H12: - | I12: 0 | J12: 279 | K12: 14 | L12: 10 | M12: 4 | N12: 307 | O12: 4.5602606 | P12: 35 | Q12: 56 | R12: 1 | S12: 2 | T12: 0 | U12: 59 | V12: 3.4 | W12: 1
A13: 10 | B13: 10:00-11:00 | C13: 10 | D13: 1 | E13: 0 | F13: 0 | G13: 11 | H13: - | I13: 0 | J13: 358 | K13: 19 | L13: 5 | M13: 2 | N13: 384 | O13: 1.8229167 | P13: 31 | Q13: 77 | R13: 4 | S13: 3 | T13: 0 | U13: 84 | V13: 3.6 | W13: 2
A14: 11 | B14: 11:00-12:00 | C14: 9 | D14: 2 | E14: 0 | F14: 0 | G14: 11 | H14: - | I14: 2 | J14: 329 | K14: 22 | L14: 3 | M14: 3 | N14: 357 | O14: 1.6806723 | P14: 28 | Q14: 65 | R14: 6 | S14: 1 | T14: 0 | U14: 72 | V14: 1.4 | W14: 6
A15: 12 | B15: 12:00-13:00 | C15: 11 | D15: 2 | E15: 0 | F15: 0 | G15: 13 | H15: - | I15: 0 | J15: 289 | K15: 21 | L15: 8 | M15: 2 | N15: 320 | O15: 3.125 | P15: 25 | Q15: 74 | R15: 3 | S15: 1 | T15: 0 | U15: 78 | V15: 1.3 | W15: 5
A16: 13 | B16: 13:00-14:00 | C16: 14 | D16: 2 | E16: 0 | F16: 0 | G16: 16 | H16: - | I16: 0 | J16: 321 | K16: 14 | L16: 8 | M16: 2 | N16: 345 | O16: 2.8985507 | P16: 27 | Q16: 64 | R16: 5 | S16: 0 | T16: 0 | U16: 69 | V16: - | W16: 1
A17: 14 | B17: 14:00-15:00 | C17: 9 | D17: 0 | E17: 0 | F17: 0 | G17: 9 | H17: - | I17: 0 | J17: 321 | K17: 17 | L17: 4 | M17: 1 | N17: 343 | O17: 1.4577259 | P17: 20 | Q17: 63 | R17: 5 | S17: 2 | T17: 0 | U17: 70 | V17: 2.9 | W17: 7
A18: 15 | B18: 15:00-16:00 | C18: 21 | D18: 0 | E18: 0 | F18: 0 | G18: 21 | H18: - | I18: 0 | J18: 343 | K18: 23 | L18: 5 | M18: 3 | N18: 374 | O18: 2.1390374 | P18: 35 | Q18: 66 | R18: 2 | S18: 3 | T18: 0 | U18: 71 | V18: 4.2 | W18: 1
A19: 16 | B19: 16:00-17:00 | C19: 10 | D19: 0 | E19: 0 | F19: 0 | G19: 10 | H19: - | I19: 1 | J19: 359 | K19: 28 | L19: 4 | M19: 1 | N19: 392 | O19: 1.2755102 | P19: 25 | Q19: 62 | R19: 4 | S19: 3 | T19: 0 | U19: 69 | V19: 4.3 | W19: 2
A20: 17 | B20: 17:00-18:00 | C20: 15 | D20: 1 | E20: 0 | F20: 0 | G20: 16 | H20: - | I20: 3 | J20: 293 | K20: 13 | L20: 3 | M20: 2 | N20: 311 | O20: 1.607717 | P20: 23 | Q20: 55 | R20: 1 | S20: 2 | T20: 0 | U20: 58 | V20: 3.4 | W20: 3
A21: 18 | B21: 18:00-19:00 | C21: 6 | D21: 0 | E21: 0 | F21: 0 | G21: 6 | H21: - | I21: 0 | J21: 227 | K21: 10 | L21: 3 | M21: 1 | N21: 241 | O21: 1.659751 | P21: 25 | Q21: 41 | R21: 3 | S21: 0 | T21: 0 | U21: 44 | V21: - | W21: 3
B22: 全時間合計 | C22: 118 | D22: 8 | E22: 0 | F22: 0 | G22: 126 | H22: - | I22: 7 | J22: 3689 | K22: 219 | L22: 69 | M22: 25 | N22: 4002 | O22: 2.3488256 | P22: 326 | Q22: 671 | R22: 39 | S22: 23 | T22: 0 | U22: 733 | V22: 3.1 | W22: 34

Sheet No3休日_方向別D
B1: 交差点交通量集計表（自動車類）
B3: 調査地点： | C3: 宝塚市役所前
B4: 調査日： | C4: 令和7年10月19日（日）7時～19時
B6: 方向 | C6: 10 | J6: 11 | Q6: 12
C7: 小型車 | E7: 大型車 | G7: 合計 | H7: 大型車混入率 | I7: 二輪車 | J7: 小型車 | L7: 大型車 | N7: 合計 | O7: 大型車混入率 | P7: 二輪車 | Q7: 小型車 | S7: 大型車 | U7: 合計 | V7: 大型車混入率 | W7: 二輪車 | X7: 小型車 | Z7: 大型車 | AB7: 合計 | AC7: 大型車混入率 | AD7: 二輪車
B8: 種別 | C8: 乗用車 | D8: 小型貨物 | E8: 普通貨物 | F8: バス | J8: 乗用車 | K8: 小型貨物 | L8: 普通貨物 | M8: バス | Q8: 乗用車 | R8: 小型貨物 | S8: 普通貨物 | T8: バス | X8: 乗用車 | Y8: 小型貨物 | Z8: 普通貨物 | AA8: バス
B9: 時間帯 | C9: (台) | D9: (台) | E9: (台) | F9: (台) | G9: (台) | H9: (％) | I9: (台) | J9: (台) | K9: (台) | L9: (台) | M9: (台) | N9: (台) | O9: (％) | P9: (台) | Q9: (台) | R9: (台) | S9: (台) | T9: (台) | U9: (台) | V9: (％) | W9: (台) | X9: (台) | Y9: (台) | Z9: (台) | AA9: (台) | AB9: (台) | AC9: (％) | AD9: (台)
A10: 7 | B10: 7:00-8:00 | C10: 53 | D10: 4 | E10: 1 | F10: 1 | G10: 59 | H10: 3.3898305 | I10: 1 | J10: 32 | K10: 4 | L10: 0 | M10: 0 | N10: 36 | O10: - | P10: 3 | Q10: 67 | R10: 10 | S10: 6 | T10: 0 | U10: 83 | V10: 7.2 | W10: 7
A11: 8 | B11: 8:00-9:00 | C11: 23 | D11: 2 | E11: 4 | F11: 2 | G11: 31 | H11: 19.354839 | I11: 1 | J11: 42 | K11: 12 | L11: 4 | M11: 0 | N11: 58 | O11: 6.8965517 | P11: 2 | Q11: 96 | R11: 10 | S11: 6 | T11: 0 | U11: 112 | V11: 5.4 | W11: 13
A12: 9 | B12: 9:00-10:00 | C12: 43 | D12: 2 | E12: 5 | F12: 1 | G12: 51 | H12: 11.764706 | I12: 3 | J12: 87 | K12: 8 | L12: 2 | M12: 0 | N12: 97 | O12: 2.0618557 | P12: 10 | Q12: 120 | R12: 12 | S12: 8 | T12: 0 | U12: 140 | V12: 5.7 | W12: 11
A13: 10 | B13: 10:00-11:00 | C13: 58 | D13: 4 | E13: 1 | F13: 1 | G13: 64 | H13: 3.125 | I13: 2 | J13: 124 | K13: 7 | L13: 4 | M13: 0 | N13: 135 | O13: 2.962963 | P13: 11 | Q13: 125 | R13: 11 | S13: 3 | T13: 0 | U13: 139 | V13: 2.2 | W13: 14
A14: 11 | B14: 11:00-12:00 | C14: 75 | D14: 0 | E14: 0 | F14: 0 | G14: 75 | H14: - | I14: 3 | J14: 146 | K14: 7 | L14: 2 | M14: 0 | N14: 155 | O14: 1.2903226 | P14: 7 | Q14: 135 | R14: 11 | S14: 1 | T14: 0 | U14: 147 | V14: 0.7 | W14: 11
A15: 12 | B15: 12:00-13:00 | C15: 75 | D15: 2 | E15: 2 | F15: 1 | G15: 80 | H15: 3.75 | I15: 3 | J15: 149 | K15: 14 | L15: 0 | M15: 0 | N15: 163 | O15: - | P15: 12 | Q15: 122 | R15: 8 | S15: 4 | T15: 1 | U15: 135 | V15: 3.7 | W15: 6
A16: 13 | B16: 13:00-14:00 | C16: 68 | D16: 2 | E16: 0 | F16: 1 | G16: 71 | H16: 1.4084507 | I16: 1 | J16: 155 | K16: 15 | L16: 2 | M16: 0 | N16: 172 | O16: 1.1627907 | P16: 13 | Q16: 155 | R16: 7 | S16: 6 | T16: 0 | U16: 168 | V16: 3.6 | W16: 4
A17: 14 | B17: 14:00-15:00 | C17: 58 | D17: 4 | E17: 4 | F17: 0 | G17: 66 | H17: 6.0606061 | I17: 4 | J17: 149 | K17: 8 | L17: 4 | M17: 0 | N17: 161 | O17: 2.484472 | P17: 6 | Q17: 127 | R17: 10 | S17: 3 | T17: 0 | U17: 140 | V17: 2.1 | W17: 8
A18: 15 | B18: 15:00-16:00 | C18: 53 | D18: 4 | E18: 1 | F18: 1 | G18: 59 | H18: 3.3898305 | I18: 1 | J18: 183 | K18: 4 | L18: 1 | M18: 0 | N18: 188 | O18: 0.53191489 | P18: 6 | Q18: 142 | R18: 11 | S18: 2 | T18: 0 | U18: 155 | V18: 1.3 | W18: 11
A19: 16 | B19: 16:00-17:00 | C19: 69 | D19: 3 | E19: 2 | F19: 1 | G19: 75 | H19: 4 | I19: 2 | J19: 133 | K19: 15 | L19: 1 | M19: 0 | N19: 149 | O19: 0.67114094 | P19: 5 | Q19: 136 | R19: 12 | S19: 0 | T19: 0 | U19: 148 | V19: - | W19: 9
A20: 17 | B20: 17:00-18:00 | C20: 69 | D20: 2 | E20: 0 | F20: 0 | G20: 71 | H20: - | I20: 8 | J20: 181 | K20: 5 | L20: 1 | M20: 0 | N20: 187 | O20: 0.53475936 | P20: 13 | Q20: 153 | R20: 10 | S20: 2 | T20: 0 | U20: 165 | V20: 1.2 | W20: 6
A21: 18 | B21: 18:00-19:00 | C21: 67 | D21: 0 | E21: 0 | F21: 1 | G21: 68 | H21: 1.4705882 | I21: 3 | J21: 126 | K21: 8 | L21: 2 | M21: 0 | N21: 136 | O21: 1.4705882 | P21: 8 | Q21: 162 | R21: 4 | S21: 1 | T21: 0 | U21: 167 | V21: 0.6 | W21: 13
B22: 全時間合計 | C22: 711 | D22: 29 | E22: 20 | F22: 10 | G22: 770 | H22: 3.8961039 | I22: 32 | J22: 1507 | K22: 107 | L22: 23 | M22: 0 | N22: 1637 | O22: 1.4050092 | P22: 96 | Q22: 1540 | R22: 116 | S22: 42 | T22: 1 | U22: 1699 | V22: 2.5 | W22: 113

Sheet No3休日_歩行者
B1: 交差点交通量集計表（歩行者類）
B2: 地点番号： | C2: P06
B3: 調査地点： | C3: 宝塚市役所前
B4: 調査日： | C4: 令和7年10月19日（日）7時～19時
B6: 方向 | C6: ア | E6: イ | G6: a断面 | J6: ウ | L6: エ | N6: b断面
B7: 種別 | C7: 歩行者 | D7: 自転車 | E7: 歩行者 | F7: 自転車 | G7: 歩行者 | H7: 自転車 | I7: 計 | J7: 歩行者 | K7: 自転車 | L7: 歩行者 | M7: 自転車 | N7: 歩行者 | O7: 自転車 | P7: 計
B8: 時間帯 | C8: (人) | D8: (台) | E8: (人) | F8: (台) | G8: (人) | H8: (台) | I8: (台) | J8: (人) | K8: (台) | L8: (人) | M8: (台) | N8: (人) | O8: (台) | P8: (台)
A9: 7 | B9: 7:00-8:00 | C9: 9 | D9: 4 | E9: 9 | F9: 8 | G9: 18 | H9: 12 | I9: 30 | J9: 27 | K9: 17 | L9: 11 | M9: 11 | N9: 38 | O9: 28 | P9: 66
A10: 8 | B10: 8:00-9:00 | C10: 15 | D10: 18 | E10: 23 | F10: 15 | G10: 38 | H10: 33 | I10: 71 | J10: 74 | K10: 34 | L10: 17 | M10: 16 | N10: 91 | O10: 50 | P10: 141
A11: 9 | B11: 9:00-10:00 | C11: 20 | D11: 13 | E11: 27 | F11: 23 | G11: 47 | H11: 36 | I11: 83 | J11: 66 | K11: 43 | L11: 24 | M11: 32 | N11: 90 | O11: 75 | P11: 165
A12: 10 | B12: 10:00-11:00 | C12: 24 | D12: 27 | E12: 40 | F12: 33 | G12: 64 | H12: 60 | I12: 124 | J12: 52 | K12: 40 | L12: 49 | M12: 45 | N12: 101 | O12: 85 | P12: 186
A13: 11 | B13: 11:00-12:00 | C13: 30 | D13: 19 | E13: 39 | F13: 29 | G13: 69 | H13: 48 | I13: 117 | J13: 48 | K13: 43 | L13: 59 | M13: 40 | N13: 107 | O13: 83 | P13: 190
A14: 12 | B14: 12:00-13:00 | C14: 43 | D14: 22 | E14: 46 | F14: 27 | G14: 89 | H14: 49 | I14: 138 | J14: 53 | K14: 59 | L14: 76 | M14: 46 | N14: 129 | O14: 105 | P14: 234
A15: 13 | B15: 13:00-14:00 | C15: 42 | D15: 18 | E15: 41 | F15: 31 | G15: 83 | H15: 49 | I15: 132 | J15: 68 | K15: 57 | L15: 62 | M15: 37 | N15: 130 | O15: 94 | P15: 224
A16: 14 | B16: 14:00-15:00 | C16: 38 | D16: 25 | E16: 57 | F16: 48 | G16: 95 | H16: 73 | I16: 168 | J16: 68 | K16: 42 | L16: 39 | M16: 46 | N16: 107 | O16: 88 | P16: 195
A17: 15 | B17: 15:00-16:00 | C17: 48 | D17: 27 | E17: 51 | F17: 28 | G17: 99 | H17: 55 | I17: 154 | J17: 40 | K17: 41 | L17: 67 | M17: 55 | N17: 107 | O17: 96 | P17: 203
A18: 16 | B18: 16:00-17:00 | C18: 52 | D18: 26 | E18: 53 | F18: 40 | G18: 105 | H18: 66 | I18: 171 | J18: 67 | K18: 52 | L18: 61 | M18: 53 | N18: 128 | O18: 105 | P18: 233
A19: 17 | B19: 17:00-18:00 | C19: 47 | D19: 25 | E19: 35 | F19: 18 | G19: 82 | H19: 43 | I19: 125 | J19: 43 | K19: 24 | L19: 61 | M19: 49 | N19: 104 | O19: 73 | P19: 177
A20: 18 | B20: 18:00-19:00 | C20: 17 | D20: 12 | E20: 23 | F20: 19 | G20: 40 | H20: 31 | I20: 71 | J20: 18 | K20: 29 | L20: 33 | M20: 27 | N20: 51 | O20: 56 | P20: 107
B21: 全時間合計 | C21: 385 | D21: 236 | E21: 444 | F21: 319 | G21: 829 | H21: 555 | I21: 1384 | J21: 624 | K21: 481 | L21: 559 | M21: 457 | N21: 1183 | O21: 938 | P21: 2121
B23: 方向 | C23: オ | E23: カ | G23: c断面 | J23: キ | L23: ク | N23: d断面
B24: 種別 | C24: 歩行者 | D24: 自転車 | E24: 歩行者 | F24: 自転車 | G24: 歩行者 | H24: 自転車 | I24: 計 | J24: 歩行者 | K24: 自転車 | L24: 歩行者 | M24: 自転車 | N24: 歩行者 | O24: 自転車 | P24: 計
B25: 時間帯 | C25: (人) | D25: (台) | E25: (人) | F25: (台) | G25: (人) | H25: (台) | I25: (台) | J25: (人) | K25: (台) | L25: (人) | M25: (台) | N25: (人) | O25: (台) | P25: (台)
A26: 7 | B26: 7:00-8:00 | C26: 1 | D26: 4 | E26: 11 | F26: 3 | G26: 12 | H26: 7 | I26: 19 | J26: 7 | K26: 14 | L26: 17 | M26: 15 | N26: 24 | O26: 29 | P26: 53
A27: 8 | B27: 8:00-9:00 | C27: 11 | D27: 13 | E27: 16 | F27: 13 | G27: 27 | H27: 26 | I27: 53 | J27: 13 | K27: 26 | L27: 33 | M27: 44 | N27: 46 | O27: 70 | P27: 116
A28: 9 | B28: 9:00-10:00 | C28: 14 | D28: 9 | E28: 34 | F28: 9 | G28: 48 | H28: 18 | I28: 66 | J28: 13 | K28: 34 | L28: 50 | M28: 36 | N28: 63 | O28: 70 | P28: 133
A29: 10 | B29: 10:00-11:00 | C29: 18 | D29: 20 | E29: 30 | F29: 20 | G29: 48 | H29: 40 | I29: 88 | J29: 24 | K29: 41 | L29: 34 | M29: 45 | N29: 58 | O29: 86 | P29: 144
A30: 11 | B30: 11:00-12:00 | C30: 32 | D30: 15 | E30: 24 | F30: 16 | G30: 56 | H30: 31 | I30: 87 | J30: 49 | K30: 57 | L30: 46 | M30: 44 | N30: 95 | O30: 101 | P30: 196
A31: 12 | B31: 12:00-13:00 | C31: 27 | D31: 26 | E31: 27 | F31: 19 | G31: 54 | H31: 45 | I31: 99 | J31: 64 | K31: 44 | L31: 28 | M31: 58 | N31: 92 | O31: 102 | P31: 194
A32: 13 | B32: 13:00-14:00 | C32: 25 | D32: 21 | E32: 35 | F32: 21 | G32: 60 | H32: 42 | I32: 102 | J32: 40 | K32: 54 | L32: 40 | M32: 36 | N32: 80 | O32: 90 | P32: 170
A33: 14 | B33: 14:00-15:00 | C33: 23 | D33: 22 | E33: 23 | F33: 26 | G33: 46 | H33: 48 | I33: 94 | J33: 39 | K33: 66 | L33: 60 | M33: 63 | N33: 99 | O33: 129 | P33: 228
A34: 15 | B34: 15:00-16:00 | C34: 21 | D34: 35 | E34: 36 | F34: 28 | G34: 57 | H34: 63 | I34: 120 | J34: 38 | K34: 76 | L34: 45 | M34: 38 | N34: 83 | O34: 114 | P34: 197
A35: 16 | B35: 16:00-17:00 | C35: 35 | D35: 22 | E35: 42 | F35: 36 | G35: 77 | H35: 58 | I35: 135 | J35: 39 | K35: 53 | L35: 57 | M35: 54 | N35: 96 | O35: 107 | P35: 203
A36: 17 | B36: 17:00-18:00 | C36: 25 | D36: 15 | E36: 31 | F36: 25 | G36: 56 | H36: 40 | I36: 96 | J36: 38 | K36: 36 | L36: 37 | M36: 40 | N36: 75 | O36: 76 | P36: 151
A37: 18 | B37: 18:00-19:00 | C37: 15 | D37: 27 | E37: 27 | F37: 24 | G37: 42 | H37: 51 | I37: 93 | J37: 13 | K37: 37 | L37: 19 | M37: 46 | N37: 32 | O37: 83 | P37: 115
B38: 全時間合計 | C38: 247 | D38: 229 | E38: 336 | F38: 240 | G38: 583 | H38: 469 | I38: 1052 | J38: 377 | K38: 538 | L38: 466 | M38: 519 | N38: 843 | O38: 1057 | P38: 1900

Sheet No8計測地点
A2: 地点No | B2: 交差点名 | C2: 住所 | D2: 調査時間 | E2: 調査項目 | G2: 8
A3: 8(P15) | B3: 小浜 | C3: 宝塚市小浜２丁目 | D3: 7時～19時 | E3: 交差点交通量 平日・休日
A4: ■設置位置図
A35: ■地点状況写真① | C35: ■地点状況写真② | D35: 関係機関
D36: 道路管理者：
D39: 交通管理者： | E39: 宝塚警察署
D42: その他：

Sheet No8平日_まとめ
A2: 交差点交通量集計表 | H2: 方 向 図
B6: 調査地点： | C6: 小浜
B7: 調査月日： | C7: 令和7年10月21日（火）7時～19時
D15: 12時間計（7:00～19:00） | K15: ピーク時間（17:00～18:00）
I16: 大型車混入率（％） | J16: 二輪車 | P16: 大型車混入率（％） | Q16: 二輪車
D17: 小型車 | F17: 大型車 | K17: 小型車 | M17: 大型車
D18: 乗用車 | E18: 小型貨物 | F18: 普通貨物 | G18: バス | H18: 計 | K18: 乗用車 | L18: 小型貨物 | M18: 普通貨物 | N18: バス | O18: 計
A19: 単方向 | B19: 1 | C19: [AからDへ] | D19: 270 | E19: 64 | F19: 35 | G19: 0 | H19: 369 | I19: 9.4850949 | J19: 23 | K19: 26 | L19: 7 | M19: 2 | N19: 0 | O19: 35 | P19: 5.7142857 | Q19: 1 | R19: 17
B20: 2 | C20: [AからCへ] | D20: 3896 | E20: 868 | F20: 290 | G20: 49 | H20: 5103 | I20: 6.6431511 | J20: 772 | K20: 359 | L20: 65 | M20: 14 | N20: 6 | O20: 444 | P20: 4.5045045 | Q20: 89 | R20: =R19 -> 17
B21: 3 | C21: [AからBへ] | D21: 293 | E21: 107 | F21: 17 | G21: 1 | H21: 418 | I21: 4.3062201 | J21: 93 | K21: 30 | L21: 13 | M21: 0 | N21: 0 | O21: 43 | P21: - | Q21: 9 | R21: =R20 -> 17
B22: 4 | C22: [BからAへ] | D22: 2572 | E22: 429 | F22: 269 | G22: 76 | H22: 3346 | I22: 10.310819 | J22: 213 | K22: 251 | L22: 53 | M22: 12 | N22: 6 | O22: 322 | P22: 5.5900621 | Q22: 24 | R22: =R21 -> 17
B23: 5 | C23: [BからDへ] | D23: 1049 | E23: 161 | F23: 72 | G23: 5 | H23: 1287 | I23: 5.982906 | J23: 39 | K23: 85 | L23: 10 | M23: 4 | N23: 0 | O23: 99 | P23: 4.040404 | Q23: 4 | R23: =R22 -> 17
B24: 6 | C24: [CからBへ] | D24: 1264 | E24: 217 | F24: 91 | G24: 8 | H24: 1580 | I24: 6.2658228 | J24: 90 | K24: 132 | L24: 16 | M24: 3 | N24: 0 | O24: 151 | P24: 1.986755 | Q24: 8 | R24: =R23 -> 17
B25: 7 | C25: [CからAへ] | D25: 3720 | E25: 860 | F25: 260 | G25: 52 | H25: 4892 | I25: 6.3777596 | J25: 762 | K25: 305 | L25: 91 | M25: 8 | N25: 3 | O25: 407 | P25: 2.7027027 | Q25: 89 | R25: =R24 -> 17
B26: 8 | C26: [CからDへ] | D26: 466 | E26: 81 | F26: 22 | G26: 0 | H26: 569 | I26: 3.8664323 | J26: 68 | K26: 50 | L26: 5 | M26: 2 | N26: 0 | O26: 57 | P26: 3.5087719 | Q26: 6 | R26: =R25 -> 17
B27: 9 | C27: [DからCへ] | D27: 474 | E27: 78 | F27: 41 | G27: 8 | H27: 601 | I27: 8.1530782 | J27: 28 | K27: 54 | L27: 7 | M27: 1 | N27: 0 | O27: 62 | P27: 1.6129032 | Q27: 4 | R27: =R26 -> 17
B28: 10 | C28: [DからBへ] | D28: 2428 | E28: 518 | F28: 278 | G28: 80 | H28: 3304 | I28: 10.835351 | J28: 200 | K28: 284 | L28: 32 | M28: 5 | N28: 6 | O28: 327 | P28: 3.3639144 | Q28: 26 | R28: =R27 -> 17
B29: 11 | C29: [DからAへ] | D29: 346 | E29: 91 | F29: 30 | G29: 2 | H29: 469 | I29: 6.8230277 | J29: 25 | K29: 34 | L29: 17 | M29: 0 | N29: 0 | O29: 51 | P29: - | Q29: 6 | R29: =R28 -> 17
B30: 12 | C30: [からへ] | D30: 0 | E30: 0 | F30: 0 | G30: 0 | H30: 0 | I30: - | J30: 0 | K30: 0 | L30: 0 | M30: 0 | N30: 0 | O30: 0 | P30: - | Q30: 0 | R30: =R29 -> 17
B31: 13 | C31: [からへ] | D31: 0 | E31: 0 | F31: 0 | G31: 0 | H31: 0 | I31: - | J31: 0 | K31: 0 | L31: 0 | M31: 0 | N31: 0 | O31: 0 | P31: - | Q31: 0 | R31: =R30 -> 17
B32: 14 | C32: [からへ] | D32: 0 | E32: 0 | F32: 0 | G32: 0 | H32: 0 | I32: - | J32: 0 | K32: 0 | L32: 0 | M32: 0 | N32: 0 | O32: 0 | P32: - | Q32: 0 | R32: =R31 -> 17
B33: 15 | C33: [からへ] | D33: 0 | E33: 0 | F33: 0 | G33: 0 | H33: 0 | I33: - | J33: 0 | K33: 0 | L33: 0 | M33: 0 | N33: 0 | O33: 0 | P33: - | Q33: 0 | R33: =R32 -> 17
B34: 16 | C34: [からへ] | D34: 0 | E34: 0 | F34: 0 | G34: 0 | H34: 0 | I34: - | J34: 0 | K34: 0 | L34: 0 | M34: 0 | N34: 0 | O34: 0 | P34: - | Q34: 0 | R34: =R33 -> 17
B35: 17 | C35: [からへ] | D35: 0 | E35: 0 | F35: 0 | G35: 0 | H35: 0 | I35: - | J35: 0 | K35: 0 | L35: 0 | M35: 0 | N35: 0 | O35: 0 | P35: - | Q35: 0 | R35: =R34 -> 17
B36: 18 | C36: [からへ] | D36: 0 | E36: 0 | F36: 0 | G36: 0 | H36: 0 | I36: - | J36: 0 | K36: 0 | L36: 0 | M36: 0 | N36: 0 | O36: 0 | P36: - | Q36: 0 | R36: =R35 -> 17
B37: 19 | C37: [からへ] | D37: 0 | E37: 0 | F37: 0 | G37: 0 | H37: 0 | I37: - | J37: 0 | K37: 0 | L37: 0 | M37: 0 | N37: 0 | O37: 0 | P37: - | Q37: 0 | R37: =R36 -> 17
B38: 20 | C38: [からへ] | D38: 0 | E38: 0 | F38: 0 | G38: 0 | H38: 0 | I38: - | J38: 0 | K38: 0 | L38: 0 | M38: 0 | N38: 0 | O38: 0 | P38: - | Q38: 0 | R38: =R37 -> 17
B39: 21 | C39: [からへ] | D39: 0 | E39: 0 | F39: 0 | G39: 0 | H39: 0 | I39: - | J39: 0 | K39: 0 | L39: 0 | M39: 0 | N39: 0 | O39: 0 | P39: - | Q39: 0 | R39: =R38 -> 17
A40: 流入 | B40: A | C40: 流入計 | D40: 4459 | E40: 1039 | F40: 342 | G40: 50 | H40: 5890 | I40: 6.655348 | J40: 888 | K40: 415 | L40: 85 | M40: 16 | N40: 6 | O40: 522 | P40: 4.2145594 | Q40: 99 | R40: =R39 -> 17
B41: B | C41: 流入計 | D41: 3621 | E41: 590 | F41: 341 | G41: 81 | H41: 4633 | I41: 9.108569 | J41: 252 | K41: 336 | L41: 63 | M41: 16 | N41: 6 | O41: 421 | P41: 5.2256532 | Q41: 28 | R41: =R40 -> 17
B42: C | C42: 流入計 | D42: 5450 | E42: 1158 | F42: 373 | G42: 60 | H42: 7041 | I42: 6.1496946 | J42: 920 | K42: 487 | L42: 112 | M42: 13 | N42: 3 | O42: 615 | P42: 2.601626 | Q42: 103 | R42: =R41 -> 17
B43: D | C43: 流入計 | D43: 3248 | E43: 687 | F43: 349 | G43: 90 | H43: 4374 | I43: 10.03658 | J43: 253 | K43: 372 | L43: 56 | M43: 6 | N43: 6 | O43: 440 | P43: 2.7272727 | Q43: 36 | R43: =R42 -> 17
B44: E | C44: 流入計 | D44: 0 | E44: 0 | F44: 0 | G44: 0 | H44: 0 | I44: - | J44: 0 | K44: 0 | L44: 0 | M44: 0 | N44: 0 | O44: 0 | P44: - | Q44: 0 | R44: =R43 -> 17
A45: 流出 | B45: A | C45: 流出計 | D45: 6638 | E45: 1380 | F45: 559 | G45: 130 | H45: 8707 | I45: 7.9131733 | J45: 1000 | K45: 590 | L45: 161 | M45: 20 | N45: 9 | O45: 780 | P45: 3.7179487 | Q45: 119 | R45: =R44 -> 17
B46: B | C46: 流出計 | D46: 3985 | E46: 842 | F46: 386 | G46: 89 | H46: 5302 | I46: 8.9588834 | J46: 383 | K46: 446 | L46: 61 | M46: 8 | N46: 6 | O46: 521 | P46: 2.6871401 | Q46: 43 | R46: =R45 -> 17
B47: C | C47: 流出計 | D47: 4370 | E47: 946 | F47: 331 | G47: 57 | H47: 5704 | I47: 6.802244 | J47: 800 | K47: 413 | L47: 72 | M47: 15 | N47: 6 | O47: 506 | P47: 4.1501976 | Q47: 93 | R47: =R46 -> 17
B48: D | C48: 流出計 | D48: 1785 | E48: 306 | F48: 129 | G48: 5 | H48: 2225 | I48: 6.0224719 | J48: 130 | K48: 161 | L48: 22 | M48: 8 | N48: 0 | O48: 191 | P48: 4.1884817 | Q48: 11 | R48: =R47 -> 17
B49: E | C49: 流出計 | D49: 0 | E49: 0 | F49: 0 | G49: 0 | H49: 0 | I49: - | J49: 0 | K49: 0 | L49: 0 | M49: 0 | N49: 0 | O49: 0 | P49: - | Q49: 0 | R49: =R48 -> 17
A50: 断面 | B50: A断面計 | D50: 11097 | E50: 2419 | F50: 901 | G50: 180 | H50: 14597 | I50: 7.4056313 | J50: 1888 | K50: 1005 | L50: 246 | M50: 36 | N50: 15 | O50: 1302 | P50: 3.9170507 | Q50: 218 | R50: =R49 -> 17
B51: B断面計 | D51: 7606 | E51: 1432 | F51: 727 | G51: 170 | H51: 9935 | I51: 9.0286865 | J51: 635 | K51: 782 | L51: 124 | M51: 24 | N51: 12 | O51: 942 | P51: 3.8216561 | Q51: 71 | R51: =R50 -> 17
B52: C断面計 | D52: 9820 | E52: 2104 | F52: 704 | G52: 117 | H52: 12745 | I52: 6.4417419 | J52: 1720 | K52: 900 | L52: 184 | M52: 28 | N52: 9 | O52: 1121 | P52: 3.3006244 | Q52: 196 | R52: =R51 -> 17
B53: D断面計 | D53: 5033 | E53: 993 | F53: 478 | G53: 95 | H53: 6599 | I53: 8.6831338 | J53: 383 | K53: 533 | L53: 78 | M53: 14 | N53: 6 | O53: 631 | P53: 3.1695721 | Q53: 47 | R53: =R52 -> 17
B54: E断面計 | D54: 0 | E54: 0 | F54: 0 | G54: 0 | H54: 0 | I54: - | J54: 0 | K54: 0 | L54: 0 | M54: 0 | N54: 0 | O54: 0 | P54: - | Q54: 0 | R54: =R53 -> 17
A55: 交差点合計 | D55: 16778 | E55: 3474 | F55: 1405 | G55: 281 | H55: 21938 | I55: 7.6852949 | J55: 2313 | K55: 1610 | L55: 316 | M55: 51 | N55: 21 | O55: 1998 | P55: 3.6036036 | Q55: 266 | R55: =R54 -> 17

Sheet No8平日_交差点計
B1: 交差点交通量集計表（自動車類）
B3: 調査地点： | C3: 小浜
B4: 調査日： | C4: 令和7年10月21日（火）7時～19時
B6: 方向 | C6: 交差点計
B7: 種別 | C7: 小型車 | E7: 大型車 | G7: 合計 | H7: 大型車混入率 | I7: 二輪車
C8: 乗用車 | D8: 小型貨物 | E8: 普通貨物 | F8: バス
B9: 時間帯 | C9: (台) | D9: (台) | E9: (台) | F9: (台) | G9: (台) | H9: (％) | I9: (台)
A10: 7 | B10: 7:00-8:00 | C10: 1229 | D10: 311 | E10: 129 | F10: 20 | G10: 1689 | H10: 8.821788 | I10: 244
A11: 8 | B11: 8:00-9:00 | C11: 1363 | D11: 293 | E11: 137 | F11: 34 | G11: 1827 | H11: 9.3596059 | I11: 271
A12: 9 | B12: 9:00-10:00 | C12: 1347 | D12: 287 | E12: 179 | F12: 29 | G12: 1842 | H12: 11.292074 | I12: 169
A13: 10 | B13: 10:00-11:00 | C13: 1340 | D13: 312 | E13: 170 | F13: 21 | G13: 1843 | H13: 10.363538 | I13: 167
A14: 11 | B14: 11:00-12:00 | C14: 1314 | D14: 309 | E14: 143 | F14: 20 | G14: 1786 | H14: 9.1265398 | I14: 149
A15: 12 | B15: 12:00-13:00 | C15: 1317 | D15: 266 | E15: 114 | F15: 20 | G15: 1717 | H15: 7.8043098 | I15: 199
A16: 13 | B16: 13:00-14:00 | C16: 1403 | D16: 316 | E16: 141 | F16: 18 | G16: 1878 | H16: 8.4664537 | I16: 132
A17: 14 | B17: 14:00-15:00 | C17: 1389 | D17: 286 | E17: 109 | F17: 24 | G17: 1808 | H17: 7.3561947 | I17: 154
A18: 15 | B18: 15:00-16:00 | C18: 1467 | D18: 278 | E18: 106 | F18: 24 | G18: 1875 | H18: 6.9333333 | I18: 133
A19: 16 | B19: 16:00-17:00 | C19: 1465 | D19: 319 | E19: 103 | F19: 29 | G19: 1916 | H19: 6.8893528 | I19: 200
A20: 17 | B20: 17:00-18:00 | C20: 1610 | D20: 316 | E20: 51 | F20: 21 | G20: 1998 | H20: 3.6036036 | I20: 266
A21: 18 | B21: 18:00-19:00 | C21: 1534 | D21: 181 | E21: 23 | F21: 21 | G21: 1759 | H21: 2.5014213 | I21: 229
B22: 全時間合計 | C22: 16778 | D22: 3474 | E22: 1405 | F22: 281 | G22: 21938 | H22: 7.6852949 | I22: 2313

Sheet No8平日_流入計
B1: 交差点交通量集計表（自動車類）
B3: 調査地点： | C3: 小浜
B4: 調査日： | C4: 令和7年10月21日（火）7時～19時
B6: 方向 | C6: A
C7: 小型車 | E7: 大型車 | G7: 合計 | H7: 大型車混入率 | I7: 二輪車
B8: 種別 | C8: 乗用車 | D8: 小型貨物 | E8: 普通貨物 | F8: バス
B9: 時間帯 | C9: (台) | D9: (台) | E9: (台) | F9: (台) | G9: (台) | H9: (％) | I9: (台)
A10: 7 | B10: 7:00-8:00 | C10: 342 | D10: 101 | E10: 35 | F10: 1 | G10: 479 | H10: 7.5156576 | I10: 104
A11: 8 | B11: 8:00-9:00 | C11: 359 | D11: 104 | E11: 33 | F11: 6 | G11: 502 | H11: 7.7689243 | I11: 125
A12: 9 | B12: 9:00-10:00 | C12: 404 | D12: 82 | E12: 41 | F12: 7 | G12: 534 | H12: 8.988764 | I12: 57
A13: 10 | B13: 10:00-11:00 | C13: 364 | D13: 97 | E13: 37 | F13: 3 | G13: 501 | H13: 7.9840319 | I13: 60
A14: 11 | B14: 11:00-12:00 | C14: 323 | D14: 101 | E14: 29 | F14: 3 | G14: 456 | H14: 7.0175439 | I14: 59
A15: 12 | B15: 12:00-13:00 | C15: 336 | D15: 77 | E15: 24 | F15: 4 | G15: 441 | H15: 6.3492063 | I15: 100
A16: 13 | B16: 13:00-14:00 | C16: 369 | D16: 93 | E16: 37 | F16: 4 | G16: 503 | H16: 8.1510934 | I16: 46
A17: 14 | B17: 14:00-15:00 | C17: 349 | D17: 86 | E17: 32 | F17: 5 | G17: 472 | H17: 7.8389831 | I17: 57
A18: 15 | B18: 15:00-16:00 | C18: 387 | D18: 73 | E18: 21 | F18: 4 | G18: 485 | H18: 5.1546392 | I18: 39
A19: 16 | B19: 16:00-17:00 | C19: 396 | D19: 85 | E19: 30 | F19: 4 | G19: 515 | H19: 6.6019417 | I19: 78
A20: 17 | B20: 17:00-18:00 | C20: 415 | D20: 85 | E20: 16 | F20: 6 | G20: 522 | H20: 4.2145594 | I20: 99
A21: 18 | B21: 18:00-19:00 | C21: 415 | D21: 55 | E21: 7 | F21: 3 | G21: 480 | H21: 2.0833333 | I21: 64
B22: 全時間合計 | C22: 4459 | D22: 1039 | E22: 342 | F22: 50 | G22: 5890 | H22: 6.655348 | I22: 888
B24: 方向 | C24: B
C25: 小型車 | E25: 大型車 | G25: 合計 | H25: 大型車混入率 | I25: 二輪車
B26: 種別 | C26: 乗用車 | D26: 小型貨物 | E26: 普通貨物 | F26: バス
B27: 時間帯 | C27: (台) | D27: (台) | E27: (台) | F27: (台) | G27: (台) | H27: (％) | I27: (台)
A28: 7 | B28: 7:00-8:00 | C28: 260 | D28: 44 | E28: 24 | F28: 8 | G28: 336 | H28: 9.5238095 | I28: 35
A29: 8 | B29: 8:00-9:00 | C29: 313 | D29: 43 | E29: 22 | F29: 9 | G29: 387 | H29: 8.0103359 | I29: 33
A30: 9 | B30: 9:00-10:00 | C30: 305 | D30: 33 | E30: 42 | F30: 6 | G30: 386 | H30: 12.435233 | I30: 16
A31: 10 | B31: 10:00-11:00 | C31: 337 | D31: 55 | E31: 42 | F31: 7 | G31: 441 | H31: 11.111111 | I31: 18
A32: 11 | B32: 11:00-12:00 | C32: 305 | D32: 55 | E32: 30 | F32: 6 | G32: 396 | H32: 9.0909091 | I32: 12
A33: 12 | B33: 12:00-13:00 | C33: 262 | D33: 48 | E33: 34 | F33: 5 | G33: 349 | H33: 11.174785 | I33: 19
A34: 13 | B34: 13:00-14:00 | C34: 281 | D34: 50 | E34: 29 | F34: 8 | G34: 368 | H34: 10.054348 | I34: 17
A35: 14 | B35: 14:00-15:00 | C35: 292 | D35: 45 | E35: 29 | F35: 6 | G35: 372 | H35: 9.4086022 | I35: 16
A36: 15 | B36: 15:00-16:00 | C36: 310 | D36: 57 | E36: 33 | F36: 7 | G36: 407 | H36: 9.8280098 | I36: 15
A37: 16 | B37: 16:00-17:00 | C37: 310 | D37: 67 | E37: 36 | F37: 7 | G37: 420 | H37: 10.238095 | I37: 15
A38: 17 | B38: 17:00-18:00 | C38: 336 | D38: 63 | E38: 16 | F38: 6 | G38: 421 | H38: 5.2256532 | I38: 28
A39: 18 | B39: 18:00-19:00 | C39: 310 | D39: 30 | E39: 4 | F39: 6 | G39: 350 | H39: 2.8571429 | I39: 28
B40: 全時間合計 | C40: 3621 | D40: 590 | E40: 341 | F40: 81 | G40: 4633 | H40: 9.108569 | I40: 252
B42: 方向 | C42: C
C43: 小型車 | E43: 大型車 | G43: 合計 | H43: 大型車混入率 | I43: 二輪車
B44: 種別 | C44: 乗用車 | D44: 小型貨物 | E44: 普通貨物 | F44: バス
B45: 時間帯 | C45: (台) | D45: (台) | E45: (台) | F45: (台) | G45: (台) | H45: (％) | I45: (台)
A46: 7 | B46: 7:00-8:00 | C46: 430 | D46: 95 | E46: 35 | F46: 2 | G46: 562 | H46: 6.5836299 | I46: 81
A47: 8 | B47: 8:00-9:00 | C47: 462 | D47: 77 | E47: 35 | F47: 9 | G47: 583 | H47: 7.5471698 | I47: 96
A48: 9 | B48: 9:00-10:00 | C48: 436 | D48: 97 | E48: 50 | F48: 7 | G48: 590 | H48: 9.6610169 | I48: 83
A49: 10 | B49: 10:00-11:00 | C49: 427 | D49: 96 | E49: 45 | F49: 5 | G49: 573 | H49: 8.7260035 | I49: 71
A50: 11 | B50: 11:00-12:00 | C50: 434 | D50: 106 | E50: 38 | F50: 5 | G50: 583 | H50: 7.3756432 | I50: 61
A51: 12 | B51: 12:00-13:00 | C51: 434 | D51: 86 | E51: 37 | F51: 4 | G51: 561 | H51: 7.3083779 | I51: 63
A52: 13 | B52: 13:00-14:00 | C52: 472 | D52: 111 | E52: 38 | F52: 2 | G52: 623 | H52: 6.4205457 | I52: 49
A53: 14 | B53: 14:00-15:00 | C53: 465 | D53: 97 | E53: 24 | F53: 5 | G53: 591 | H53: 4.9069374 | I53: 65
A54: 15 | B54: 15:00-16:00 | C54: 496 | D54: 112 | E54: 29 | F54: 5 | G54: 642 | H54: 5.2959502 | I54: 73
A55: 16 | B55: 16:00-17:00 | C55: 455 | D55: 106 | E55: 19 | F55: 9 | G55: 589 | H55: 4.75382 | I55: 76
A56: 17 | B56: 17:00-18:00 | C56: 487 | D56: 112 | E56: 13 | F56: 3 | G56: 615 | H56: 2.601626 | I56: 103
A57: 18 | B57: 18:00-19:00 | C57: 452 | D57: 63 | E57: 10 | F57: 4 | G57: 529 | H57: 2.6465028 | I57: 99
B58: 全時間合計 | C58: 5450 | D58: 1158 | E58: 373 | F58: 60 | G58: 7041 | H58: 6.1496946 | I58: 920
B60: 方向 | C60: D
C61: 小型車 | E61: 大型車 | G61: 合計 | H61: 大型車混入率 | I61: 二輪車
B62: 種別 | C62: 乗用車 | D62: 小型貨物 | E62: 普通貨物 | F62: バス
B63: 時間帯 | C63: (台) | D63: (台) | E63: (台) | F63: (台) | G63: (台) | H63: (％) | I63: (台)
A64: 7 | B64: 7:00-8:00 | C64: 197 | D64: 71 | E64: 35 | F64: 9 | G64: 312 | H64: 14.102564 | I64: 24
A65: 8 | B65: 8:00-9:00 | C65: 229 | D65: 69 | E65: 47 | F65: 10 | G65: 355 | H65: 16.056338 | I65: 17
A66: 9 | B66: 9:00-10:00 | C66: 202 | D66: 75 | E66: 46 | F66: 9 | G66: 332 | H66: 16.566265 | I66: 13
A67: 10 | B67: 10:00-11:00 | C67: 212 | D67: 64 | E67: 46 | F67: 6 | G67: 328 | H67: 15.853659 | I67: 18
A68: 11 | B68: 11:00-12:00 | C68: 252 | D68: 47 | E68: 46 | F68: 6 | G68: 351 | H68: 14.814815 | I68: 17
A69: 12 | B69: 12:00-13:00 | C69: 285 | D69: 55 | E69: 19 | F69: 7 | G69: 366 | H69: 7.1038251 | I69: 17
A70: 13 | B70: 13:00-14:00 | C70: 281 | D70: 62 | E70: 37 | F70: 4 | G70: 384 | H70: 10.677083 | I70: 20
A71: 14 | B71: 14:00-15:00 | C71: 283 | D71: 58 | E71: 24 | F71: 8 | G71: 373 | H71: 8.5790885 | I71: 16
A72: 15 | B72: 15:00-16:00 | C72: 274 | D72: 36 | E72: 23 | F72: 8 | G72: 341 | H72: 9.0909091 | I72: 6
A73: 16 | B73: 16:00-17:00 | C73: 304 | D73: 61 | E73: 18 | F73: 9 | G73: 392 | H73: 6.8877551 | I73: 31
A74: 17 | B74: 17:00-18:00 | C74: 372 | D74: 56 | E74: 6 | F74: 6 | G74: 440 | H74: 2.7272727 | I74: 36
A75: 18 | B75: 18:00-19:00 | C75: 357 | D75: 33 | E75: 2 | F75: 8 | G75: 400 | H75: 2.5 | I75: 38
B76: 全時間合計 | C76: 3248 | D76: 687 | E76: 349 | F76: 90 | G76: 4374 | H76: 10.03658 | I76: 253
B78: 方向 | C78: E
C79: 小型車 | E79: 大型車 | G79: 合計 | H79: 大型車混入率 | I79: 二輪車
B80: 種別 | C80: 乗用車 | D80: 小型貨物 | E80: 普通貨物 | F80: バス
B81: 時間帯 | C81: (台) | D81: (台) | E81: (台) | F81: (台) | G81: (台) | H81: (％) | I81: (台)
A82: 7 | B82: 7:00-8:00 | C82: 0 | D82: 0 | E82: 0 | F82: 0 | G82: =SUM(C82:F82) -> 0 | H82: =IF(F82+E82=0,"-",(F82+E82)/G82*100) -> - | I82: 0
A83: 8 | B83: 8:00-9:00 | C83: 0 | D83: 0 | E83: 0 | F83: 0 | G83: =SUM(C83:F83) -> 0 | H83: =IF(F83+E83=0,"-",(F83+E83)/G83*100) -> - | I83: 0
A84: 9 | B84: 9:00-10:00 | C84: 0 | D84: 0 | E84: 0 | F84: 0 | G84: =SUM(C84:F84) -> 0 | H84: =IF(F84+E84=0,"-",(F84+E84)/G84*100) -> - | I84: 0
A85: 10 | B85: 10:00-11:00 | C85: 0 | D85: 0 | E85: 0 | F85: 0 | G85: =SUM(C85:F85) -> 0 | H85: =IF(F85+E85=0,"-",(F85+E85)/G85*100) -> - | I85: 0
A86: 11 | B86: 11:00-12:00 | C86: 0 | D86: 0 | E86: 0 | F86: 0 | G86: =SUM(C86:F86) -> 0 | H86: =IF(F86+E86=0,"-",(F86+E86)/G86*100) -> - | I86: 0
A87: 12 | B87: 12:00-13:00 | C87: 0 | D87: 0 | E87: 0 | F87: 0 | G87: =SUM(C87:F87) -> 0 | H87: =IF(F87+E87=0,"-",(F87+E87)/G87*100) -> - | I87: 0
A88: 13 | B88: 13:00-14:00 | C88: 0 | D88: 0 | E88: 0 | F88: 0 | G88: =SUM(C88:F88) -> 0 | H88: =IF(F88+E88=0,"-",(F88+E88)/G88*100) -> - | I88: 0
A89: 14 | B89: 14:00-15:00 | C89: 0 | D89: 0 | E89: 0 | F89: 0 | G89: =SUM(C89:F89) -> 0 | H89: =IF(F89+E89=0,"-",(F89+E89)/G89*100) -> - | I89: 0
A90: 15 | B90: 15:00-16:00 | C90: 0 | D90: 0 | E90: 0 | F90: 0 | G90: =SUM(C90:F90) -> 0 | H90: =IF(F90+E90=0,"-",(F90+E90)/G90*100) -> - | I90: 0
A91: 16 | B91: 16:00-17:00 | C91: 0 | D91: 0 | E91: 0 | F91: 0 | G91: =SUM(C91:F91) -> 0 | H91: =IF(F91+E91=0,"-",(F91+E91)/G91*100) -> - | I91: 0
A92: 17 | B92: 17:00-18:00 | C92: 0 | D92: 0 | E92: 0 | F92: 0 | G92: =SUM(C92:F92) -> 0 | H92: =IF(F92+E92=0,"-",(F92+E92)/G92*100) -> - | I92: 0
A93: 18 | B93: 18:00-19:00 | C93: 0 | D93: 0 | E93: 0 | F93: 0 | G93: =SUM(C93:F93) -> 0 | H93: =IF(F93+E93=0,"-",(F93+E93)/G93*100) -> - | I93: 0
B94: 全時間合計 | C94: =SUM(C82:C93) -> 0 | D94: =SUM(D82:D93) -> 0 | E94: =SUM(E82:E93) -> 0 | F94: =SUM(F82:F93) -> 0 | G94: =SUM(C94:F94) -> 0 | H94: =IF(F94+E94=0,"-",(F94+E94)/G94*100) -> - | I94: =SUM(I82:I93) -> 0

Sheet No8平日_流出計
B1: 交差点交通量集計表（自動車類）
B3: 調査地点： | C3: 小浜
B4: 調査日： | C4: 令和7年10月21日（火）7時～19時
B6: 方向 | C6: A
C7: 小型車 | E7: 大型車 | G7: 合 計 | H7: 大型車混入率 | I7: 二輪車
B8: 種別 | C8: 乗用車 | D8: 小型貨物 | E8: 普通貨物 | F8: バス
B9: 時間帯 | C9: (台) | D9: (台) | E9: (台) | F9: (台) | G9: (台) | H9: (％) | I9: (台)
A10: 7 | B10: 7:00- 8:00 | C10: 584 | D10: 119 | E10: 56 | F10: 9 | G10: 768 | H10: 8.4635417 | I10: 93
A11: 8 | B11: 8:00- 9:00 | C11: 609 | D11: 96 | E11: 47 | F11: 15 | G11: 767 | H11: 8.083442 | I11: 113
A12: 9 | B12: 9:00- 10:00 | C12: 553 | D12: 98 | E12: 66 | F12: 14 | G12: 731 | H12: 10.943912 | I12: 83
A13: 10 | B13: 10:00- 11:00 | C13: 552 | D13: 104 | E13: 63 | F13: 11 | G13: 730 | H13: 10.136986 | I13: 69
A14: 11 | B14: 11:00- 12:00 | C14: 534 | D14: 126 | E14: 50 | F14: 11 | G14: 721 | H14: 8.4604716 | I14: 61
A15: 12 | B15: 12:00- 13:00 | C15: 491 | D15: 103 | E15: 53 | F15: 8 | G15: 655 | H15: 9.3129771 | I15: 77
A16: 13 | B16: 13:00- 14:00 | C16: 528 | D16: 121 | E16: 52 | F16: 10 | G16: 711 | H16: 8.7201125 | I16: 56
A17: 14 | B17: 14:00- 15:00 | C17: 540 | D17: 118 | E17: 37 | F17: 8 | G17: 703 | H17: 6.401138 | I17: 74
A18: 15 | B18: 15:00- 16:00 | C18: 572 | D18: 122 | E18: 59 | F18: 9 | G18: 762 | H18: 8.9238845 | I18: 73
A19: 16 | B19: 16:00-17:00 | C19: 541 | D19: 135 | E19: 47 | F19: 16 | G19: 739 | H19: 8.5250338 | I19: 80
A20: 17 | B20: 17:00-18:00 | C20: 590 | D20: 161 | E20: 20 | F20: 9 | G20: 780 | H20: 3.7179487 | I20: 119
A21: 18 | B21: 18:00-19:00 | C21: 544 | D21: 77 | E21: 9 | F21: 10 | G21: 640 | H21: 2.96875 | I21: 102
B22: 全時間合計 | C22: 6638 | D22: 1380 | E22: 559 | F22: 130 | G22: 8707 | H22: 7.9131733 | I22: 1000
B24: 方向 | C24: B
C25: 小型車 | E25: 大型車 | G25: 合 計 | H25: 大型車混入率 | I25: 二輪車
B26: 種別 | C26: 乗用車 | D26: 小型貨物 | E26: 普通貨物 | F26: バス
B27: 時間帯 | C27: (台) | D27: (台) | E27: (台) | F27: (台) | G27: (台) | H27: (％) | I27: (台)
A28: 7 | B28: 7:00- 8:00 | C28: 214 | D28: 80 | E28: 34 | F28: 11 | G28: 339 | H28: 13.274336 | I28: 53
A29: 8 | B29: 8:00- 9:00 | C29: 260 | D29: 74 | E29: 46 | F29: 10 | G29: 390 | H29: 14.358974 | I29: 31
A30: 9 | B30: 9:00- 10:00 | C30: 263 | D30: 92 | E30: 55 | F30: 7 | G30: 417 | H30: 14.868106 | I30: 21
A31: 10 | B31: 10:00- 11:00 | C31: 268 | D31: 83 | E31: 53 | F31: 6 | G31: 410 | H31: 14.390244 | I31: 30
A32: 11 | B32: 11:00- 12:00 | C32: 316 | D32: 63 | E32: 54 | F32: 6 | G32: 439 | H32: 13.667426 | I32: 30
A33: 12 | B33: 12:00- 13:00 | C33: 338 | D33: 79 | E33: 28 | F33: 7 | G33: 452 | H33: 7.7433628 | I33: 26
A34: 13 | B34: 13:00- 14:00 | C34: 354 | D34: 71 | E34: 36 | F34: 4 | G34: 465 | H34: 8.6021505 | I34: 26
A35: 14 | B35: 14:00- 15:00 | C35: 352 | D35: 63 | E35: 31 | F35: 8 | G35: 454 | H35: 8.5903084 | I35: 22
A36: 15 | B36: 15:00- 16:00 | C36: 370 | D36: 57 | E36: 18 | F36: 7 | G36: 452 | H36: 5.5309735 | I36: 14
A37: 16 | B37: 16:00-17:00 | C37: 368 | D37: 80 | E37: 19 | F37: 9 | G37: 476 | H37: 5.8823529 | I37: 39
A38: 17 | B38: 17:00-18:00 | C38: 446 | D38: 61 | E38: 8 | F38: 6 | G38: 521 | H38: 2.6871401 | I38: 43
A39: 18 | B39: 18:00-19:00 | C39: 436 | D39: 39 | E39: 4 | F39: 8 | G39: 487 | H39: 2.4640657 | I39: 48
B40: 全時間合計 | C40: 3985 | D40: 842 | E40: 386 | F40: 89 | G40: 5302 | H40: 8.9588834 | I40: 383
B42: 方向 | C42: C
C43: 小型車 | E43: 大型車 | G43: 合 計 | H43: 大型車混入率 | I43: 二輪車
B44: 種別 | C44: 乗用車 | D44: 小型貨物 | E44: 普通貨物 | F44: バス
B45: 時間帯 | C45: (台) | D45: (台) | E45: (台) | F45: (台) | G45: (台) | H45: (％) | I45: (台)
A46: 7 | B46: 7:00- 8:00 | C46: 331 | D46: 98 | E46: 34 | F46: 0 | G46: 463 | H46: 7.3434125 | I46: 81
A47: 8 | B47: 8:00- 9:00 | C47: 369 | D47: 99 | E47: 34 | F47: 8 | G47: 510 | H47: 8.2352941 | I47: 119
A48: 9 | B48: 9:00- 10:00 | C48: 380 | D48: 79 | E48: 42 | F48: 8 | G48: 509 | H48: 9.8231827 | I48: 54
A49: 10 | B49: 10:00- 11:00 | C49: 352 | D49: 86 | E49: 35 | F49: 4 | G49: 477 | H49: 8.1761006 | I49: 51
A50: 11 | B50: 11:00- 12:00 | C50: 308 | D50: 91 | E50: 27 | F50: 3 | G50: 429 | H50: 6.993007 | I50: 51
A51: 12 | B51: 12:00- 13:00 | C51: 328 | D51: 61 | E51: 23 | F51: 4 | G51: 416 | H51: 6.4903846 | I51: 89
A52: 13 | B52: 13:00- 14:00 | C52: 360 | D52: 91 | E52: 38 | F52: 4 | G52: 493 | H52: 8.5192698 | I52: 42
A53: 14 | B53: 14:00- 15:00 | C53: 349 | D53: 83 | E53: 29 | F53: 7 | G53: 468 | H53: 7.6923077 | I53: 52
A54: 15 | B54: 15:00- 16:00 | C54: 372 | D54: 63 | E54: 22 | F54: 6 | G54: 463 | H54: 6.0475162 | I54: 34
A55: 16 | B55: 16:00-17:00 | C55: 402 | D55: 72 | E55: 24 | F55: 4 | G55: 502 | H55: 5.5776892 | I55: 76
A56: 17 | B56: 17:00-18:00 | C56: 413 | D56: 72 | E56: 15 | F56: 6 | G56: 506 | H56: 4.1501976 | I56: 93
A57: 18 | B57: 18:00-19:00 | C57: 406 | D57: 51 | E57: 8 | F57: 3 | G57: 468 | H57: 2.3504274 | I57: 58
B58: 全時間合計 | C58: 4370 | D58: 946 | E58: 331 | F58: 57 | G58: 5704 | H58: 6.802244 | I58: 800
B60: 方向 | C60: D
C61: 小型車 | E61: 大型車 | G61: 合 計 | H61: 大型車混入率 | I61: 二輪車
B62: 種別 | C62: 乗用車 | D62: 小型貨物 | E62: 普通貨物 | F62: バス
B63: 時間帯 | C63: (台) | D63: (台) | E63: (台) | F63: (台) | G63: (台) | H63: (％) | I63: (台)
A64: 7 | B64: 7:00- 8:00 | C64: 100 | D64: 14 | E64: 5 | F64: 0 | G64: 119 | H64: 4.2016807 | I64: 17
A65: 8 | B65: 8:00- 9:00 | C65: 125 | D65: 24 | E65: 10 | F65: 1 | G65: 160 | H65: 6.875 | I65: 8
A66: 9 | B66: 9:00- 10:00 | C66: 151 | D66: 18 | E66: 16 | F66: 0 | G66: 185 | H66: 8.6486486 | I66: 11
A67: 10 | B67: 10:00- 11:00 | C67: 168 | D67: 39 | E67: 19 | F67: 0 | G67: 226 | H67: 8.4070796 | I67: 17
A68: 11 | B68: 11:00- 12:00 | C68: 156 | D68: 29 | E68: 12 | F68: 0 | G68: 197 | H68: 6.0913706 | I68: 7
A69: 12 | B69: 12:00- 13:00 | C69: 160 | D69: 23 | E69: 10 | F69: 1 | G69: 194 | H69: 5.6701031 | I69: 7
A70: 13 | B70: 13:00- 14:00 | C70: 161 | D70: 33 | E70: 15 | F70: 0 | G70: 209 | H70: 7.1770335 | I70: 8
A71: 14 | B71: 14:00- 15:00 | C71: 148 | D71: 22 | E71: 12 | F71: 1 | G71: 183 | H71: 7.1038251 | I71: 6
A72: 15 | B72: 15:00- 16:00 | C72: 153 | D72: 36 | E72: 7 | F72: 2 | G72: 198 | H72: 4.5454545 | I72: 12
A73: 16 | B73: 16:00-17:00 | C73: 154 | D73: 32 | E73: 13 | F73: 0 | G73: 199 | H73: 6.5326633 | I73: 5
A74: 17 | B74: 17:00-18:00 | C74: 161 | D74: 22 | E74: 8 | F74: 0 | G74: 191 | H74: 4.1884817 | I74: 11
A75: 18 | B75: 18:00-19:00 | C75: 148 | D75: 14 | E75: 2 | F75: 0 | G75: 164 | H75: 1.2195122 | I75: 21
B76: 全時間合計 | C76: 1785 | D76: 306 | E76: 129 | F76: 5 | G76: 2225 | H76: 6.0224719 | I76: 130
B78: 方向 | C78: E
C79: 小型車 | E79: 大型車 | G79: 合 計 | H79: 大型車混入率 | I79: 二輪車
B80: 種別 | C80: 乗用車 | D80: 小型貨物 | E80: 普通貨物 | F80: バス
B81: 時間帯 | C81: (台) | D81: (台) | E81: (台) | F81: (台) | G81: (台) | H81: (％) | I81: (台)
A82: 7 | B82: 7:00- 8:00 | C82: 0 | D82: 0 | E82: 0 | F82: 0 | G82: =SUM(C82:F82) -> 0 | H82: =IF(F82+E82=0,"-",(F82+E82)/G82*100) -> - | I82: 0
A83: 8 | B83: 8:00- 9:00 | C83: 0 | D83: 0 | E83: 0 | F83: 0 | G83: =SUM(C83:F83) -> 0 | H83: =IF(F83+E83=0,"-",(F83+E83)/G83*100) -> - | I83: 0
A84: 9 | B84: 9:00- 10:00 | C84: 0 | D84: 0 | E84: 0 | F84: 0 | G84: =SUM(C84:F84) -> 0 | H84: =IF(F84+E84=0,"-",(F84+E84)/G84*100) -> - | I84: 0
A85: 10 | B85: 10:00- 11:00 | C85: 0 | D85: 0 | E85: 0 | F85: 0 | G85: =SUM(C85:F85) -> 0 | H85: =IF(F85+E85=0,"-",(F85+E85)/G85*100) -> - | I85: 0
A86: 11 | B86: 11:00- 12:00 | C86: 0 | D86: 0 | E86: 0 | F86: 0 | G86: =SUM(C86:F86) -> 0 | H86: =IF(F86+E86=0,"-",(F86+E86)/G86*100) -> - | I86: 0
A87: 12 | B87: 12:00- 13:00 | C87: 0 | D87: 0 | E87: 0 | F87: 0 | G87: =SUM(C87:F87) -> 0 | H87: =IF(F87+E87=0,"-",(F87+E87)/G87*100) -> - | I87: 0
A88: 13 | B88: 13:00- 14:00 | C88: 0 | D88: 0 | E88: 0 | F88: 0 | G88: =SUM(C88:F88) -> 0 | H88: =IF(F88+E88=0,"-",(F88+E88)/G88*100) -> - | I88: 0
A89: 14 | B89: 14:00- 15:00 | C89: 0 | D89: 0 | E89: 0 | F89: 0 | G89: =SUM(C89:F89) -> 0 | H89: =IF(F89+E89=0,"-",(F89+E89)/G89*100) -> - | I89: 0
A90: 15 | B90: 15:00- 16:00 | C90: 0 | D90: 0 | E90: 0 | F90: 0 | G90: =SUM(C90:F90) -> 0 | H90: =IF(F90+E90=0,"-",(F90+E90)/G90*100) -> - | I90: 0
A91: 16 | B91: 16:00-17:00 | C91: 0 | D91: 0 | E91: 0 | F91: 0 | G91: =SUM(C91:F91) -> 0 | H91: =IF(F91+E91=0,"-",(F91+E91)/G91*100) -> - | I91: 0
A92: 17 | B92: 17:00-18:00 | C92: 0 | D92: 0 | E92: 0 | F92: 0 | G92: =SUM(C92:F92) -> 0 | H92: =IF(F92+E92=0,"-",(F92+E92)/G92*100) -> - | I92: 0
A93: 18 | B93: 18:00-19:00 | C93: 0 | D93: 0 | E93: 0 | F93: 0 | G93: =SUM(C93:F93) -> 0 | H93: =IF(F93+E93=0,"-",(F93+E93)/G93*100) -> - | I93: 0
B94: 全時間合計 | C94: =SUM(C82:C93) -> 0 | D94: =SUM(D82:D93) -> 0 | E94: =SUM(E82:E93) -> 0 | F94: =SUM(F82:F93) -> 0 | G94: =SUM(C94:F94) -> 0 | H94: =IF(F94+E94=0,"-",(F94+E94)/G94*100) -> - | I94: =SUM(I82:I93) -> 0

Sheet No8平日_断面計
B1: 交差点交通量集計表（自動車類）
B3: 調査地点： | C3: 小浜
B4: 調査日： | C4: 令和7年10月21日（火）7時～19時
B6: 方向 | C6: A
C7: 小型車 | E7: 大型車 | G7: 合計 | H7: 大型車混入率 | I7: 二輪車
B8: 種別 | C8: 乗用車 | D8: 小型貨物 | E8: 普通貨物 | F8: バス
B9: 時間帯 | C9: (台) | D9: (台) | E9: (台) | F9: (台) | G9: (台) | H9: (％) | I9: (台)
A10: 7 | B10: 7:00-8:00 | C10: 926 | D10: 220 | E10: 91 | F10: 10 | G10: 1247 | H10: 8.0994387 | I10: 197
A11: 8 | B11: 8:00-9:00 | C11: 968 | D11: 200 | E11: 80 | F11: 21 | G11: 1269 | H11: 7.9590229 | I11: 238
A12: 9 | B12: 9:00-10:00 | C12: 957 | D12: 180 | E12: 107 | F12: 21 | G12: 1265 | H12: 10.118577 | I12: 140
A13: 10 | B13: 10:00-11:00 | C13: 916 | D13: 201 | E13: 100 | F13: 14 | G13: 1231 | H13: 9.2607636 | I13: 129
A14: 11 | B14: 11:00-12:00 | C14: 857 | D14: 227 | E14: 79 | F14: 14 | G14: 1177 | H14: 7.9014444 | I14: 120
A15: 12 | B15: 12:00-13:00 | C15: 827 | D15: 180 | E15: 77 | F15: 12 | G15: 1096 | H15: 8.120438 | I15: 177
A16: 13 | B16: 13:00-14:00 | C16: 897 | D16: 214 | E16: 89 | F16: 14 | G16: 1214 | H16: 8.4843493 | I16: 102
A17: 14 | B17: 14:00-15:00 | C17: 889 | D17: 204 | E17: 69 | F17: 13 | G17: 1175 | H17: 6.9787234 | I17: 131
A18: 15 | B18: 15:00-16:00 | C18: 959 | D18: 195 | E18: 80 | F18: 13 | G18: 1247 | H18: 7.457899 | I18: 112
A19: 16 | B19: 16:00-17:00 | C19: 937 | D19: 220 | E19: 77 | F19: 20 | G19: 1254 | H19: 7.7352472 | I19: 158
A20: 17 | B20: 17:00-18:00 | C20: 1005 | D20: 246 | E20: 36 | F20: 15 | G20: 1302 | H20: 3.9170507 | I20: 218
A21: 18 | B21: 18:00-19:00 | C21: 959 | D21: 132 | E21: 16 | F21: 13 | G21: 1120 | H21: 2.5892857 | I21: 166
B22: 全時間合計 | C22: 11097 | D22: 2419 | E22: 901 | F22: 180 | G22: 14597 | H22: 7.4056313 | I22: 1888
B24: 方向 | C24: B
C25: 小型車 | E25: 大型車 | G25: 合計 | H25: 大型車混入率 | I25: 二輪車
B26: 種別 | C26: 乗用車 | D26: 小型貨物 | E26: 普通貨物 | F26: バス
B27: 時間帯 | C27: (台) | D27: (台) | E27: (台) | F27: (台) | G27: (台) | H27: (％) | I27: (台)
A28: 7 | B28: 7:00-8:00 | C28: 474 | D28: 124 | E28: 58 | F28: 19 | G28: 675 | H28: 11.407407 | I28: 88
A29: 8 | B29: 8:00-9:00 | C29: 573 | D29: 117 | E29: 68 | F29: 19 | G29: 777 | H29: 11.196911 | I29: 64
A30: 9 | B30: 9:00-10:00 | C30: 568 | D30: 125 | E30: 97 | F30: 13 | G30: 803 | H30: 13.69863 | I30: 37
A31: 10 | B31: 10:00-11:00 | C31: 605 | D31: 138 | E31: 95 | F31: 13 | G31: 851 | H31: 12.690952 | I31: 48
A32: 11 | B32: 11:00-12:00 | C32: 621 | D32: 118 | E32: 84 | F32: 12 | G32: 835 | H32: 11.497006 | I32: 42
A33: 12 | B33: 12:00-13:00 | C33: 600 | D33: 127 | E33: 62 | F33: 12 | G33: 801 | H33: 9.2384519 | I33: 45
A34: 13 | B34: 13:00-14:00 | C34: 635 | D34: 121 | E34: 65 | F34: 12 | G34: 833 | H34: 9.2436975 | I34: 43
A35: 14 | B35: 14:00-15:00 | C35: 644 | D35: 108 | E35: 60 | F35: 14 | G35: 826 | H35: 8.9588378 | I35: 38
A36: 15 | B36: 15:00-16:00 | C36: 680 | D36: 114 | E36: 51 | F36: 14 | G36: 859 | H36: 7.5669383 | I36: 29
A37: 16 | B37: 16:00-17:00 | C37: 678 | D37: 147 | E37: 55 | F37: 16 | G37: 896 | H37: 7.9241071 | I37: 54
A38: 17 | B38: 17:00-18:00 | C38: 782 | D38: 124 | E38: 24 | F38: 12 | G38: 942 | H38: 3.8216561 | I38: 71
A39: 18 | B39: 18:00-19:00 | C39: 746 | D39: 69 | E39: 8 | F39: 14 | G39: 837 | H39: 2.6284349 | I39: 76
B40: 全時間合計 | C40: 7606 | D40: 1432 | E40: 727 | F40: 170 | G40: 9935 | H40: 9.0286865 | I40: 635
B42: 方向 | C42: C
C43: 小型車 | E43: 大型車 | G43: 合計 | H43: 大型車混入率 | I43: 二輪車
B44: 種別 | C44: 乗用車 | D44: 小型貨物 | E44: 普通貨物 | F44: バス
B45: 時間帯 | C45: (台) | D45: (台) | E45: (台) | F45: (台) | G45: (台) | H45: (％) | I45: (台)
A46: 7 | B46: 7:00-8:00 | C46: 761 | D46: 193 | E46: 69 | F46: 2 | G46: 1025 | H46: 6.9268293 | I46: 162
A47: 8 | B47: 8:00-9:00 | C47: 831 | D47: 176 | E47: 69 | F47: 17 | G47: 1093 | H47: 7.8682525 | I47: 215
A48: 9 | B48: 9:00-10:00 | C48: 816 | D48: 176 | E48: 92 | F48: 15 | G48: 1099 | H48: 9.7361237 | I48: 137
A49: 10 | B49: 10:00-11:00 | C49: 779 | D49: 182 | E49: 80 | F49: 9 | G49: 1050 | H49: 8.4761905 | I49: 122
A50: 11 | B50: 11:00-12:00 | C50: 742 | D50: 197 | E50: 65 | F50: 8 | G50: 1012 | H50: 7.2134387 | I50: 112
A51: 12 | B51: 12:00-13:00 | C51: 762 | D51: 147 | E51: 60 | F51: 8 | G51: 977 | H51: 6.9600819 | I51: 152
A52: 13 | B52: 13:00-14:00 | C52: 832 | D52: 202 | E52: 76 | F52: 6 | G52: 1116 | H52: 7.3476703 | I52: 91
A53: 14 | B53: 14:00-15:00 | C53: 814 | D53: 180 | E53: 53 | F53: 12 | G53: 1059 | H53: 6.1378659 | I53: 117
A54: 15 | B54: 15:00-16:00 | C54: 868 | D54: 175 | E54: 51 | F54: 11 | G54: 1105 | H54: 5.6108597 | I54: 107
A55: 16 | B55: 16:00-17:00 | C55: 857 | D55: 178 | E55: 43 | F55: 13 | G55: 1091 | H55: 5.1329056 | I55: 152
A56: 17 | B56: 17:00-18:00 | C56: 900 | D56: 184 | E56: 28 | F56: 9 | G56: 1121 | H56: 3.3006244 | I56: 196
A57: 18 | B57: 18:00-19:00 | C57: 858 | D57: 114 | E57: 18 | F57: 7 | G57: 997 | H57: 2.5075226 | I57: 157
B58: 全時間合計 | C58: 9820 | D58: 2104 | E58: 704 | F58: 117 | G58: 12745 | H58: 6.4417419 | I58: 1720
B60: 方向 | C60: D
C61: 小型車 | E61: 大型車 | G61: 合計 | H61: 大型車混入率 | I61: 二輪車
B62: 種別 | C62: 乗用車 | D62: 小型貨物 | E62: 普通貨物 | F62: バス
B63: 時間帯 | C63: (台) | D63: (台) | E63: (台) | F63: (台) | G63: (台) | H63: (％) | I63: (台)
A64: 7 | B64: 7:00-8:00 | C64: 297 | D64: 85 | E64: 40 | F64: 9 | G64: 431 | H64: 11.36891 | I64: 41
A65: 8 | B65: 8:00-9:00 | C65: 354 | D65: 93 | E65: 57 | F65: 11 | G65: 515 | H65: 13.203883 | I65: 25
A66: 9 | B66: 9:00-10:00 | C66: 353 | D66: 93 | E66: 62 | F66: 9 | G66: 517 | H66: 13.733075 | I66: 24
A67: 10 | B67: 10:00-11:00 | C67: 380 | D67: 103 | E67: 65 | F67: 6 | G67: 554 | H67: 12.815884 | I67: 35
A68: 11 | B68: 11:00-12:00 | C68: 408 | D68: 76 | E68: 58 | F68: 6 | G68: 548 | H68: 11.678832 | I68: 24
A69: 12 | B69: 12:00-13:00 | C69: 445 | D69: 78 | E69: 29 | F69: 8 | G69: 560 | H69: 6.6071429 | I69: 24
A70: 13 | B70: 13:00-14:00 | C70: 442 | D70: 95 | E70: 52 | F70: 4 | G70: 593 | H70: 9.4435076 | I70: 28
A71: 14 | B71: 14:00-15:00 | C71: 431 | D71: 80 | E71: 36 | F71: 9 | G71: 556 | H71: 8.0935252 | I71: 22
A72: 15 | B72: 15:00-16:00 | C72: 427 | D72: 72 | E72: 30 | F72: 10 | G72: 539 | H72: 7.4211503 | I72: 18
A73: 16 | B73: 16:00-17:00 | C73: 458 | D73: 93 | E73: 31 | F73: 9 | G73: 591 | H73: 6.7681895 | I73: 36
A74: 17 | B74: 17:00-18:00 | C74: 533 | D74: 78 | E74: 14 | F74: 6 | G74: 631 | H74: 3.1695721 | I74: 47
A75: 18 | B75: 18:00-19:00 | C75: 505 | D75: 47 | E75: 4 | F75: 8 | G75: 564 | H75: 2.1276596 | I75: 59
B76: 全時間合計 | C76: 5033 | D76: 993 | E76: 478 | F76: 95 | G76: 6599 | H76: 8.6831338 | I76: 383
B78: 方向 | C78: E
C79: 小型車 | E79: 大型車 | G79: 合計 | H79: 大型車混入率 | I79: 二輪車
B80: 種別 | C80: 乗用車 | D80: 小型貨物 | E80: 普通貨物 | F80: バス
B81: 時間帯 | C81: (台) | D81: (台) | E81: (台) | F81: (台) | G81: (台) | H81: (％) | I81: (台)
A82: 7 | B82: 7:00-8:00 | C82: =No8平日_流入計!C82+No8平日_流出計!C82 -> 0 | D82: =No8平日_流入計!D82+No8平日_流出計!D82 -> 0 | E82: =No8平日_流入計!E82+No8平日_流出計!E82 -> 0 | F82: =No8平日_流入計!F82+No8平日_流出計!F82 -> 0 | G82: =SUM(C82:F82) -> 0 | H82: =IF(F82+E82=0,"-",(F82+E82)/G82*100) -> - | I82: =No8平日_流入計!I82+No8平日_流出計!I82 -> 0
A83: 8 | B83: 8:00-9:00 | C83: =No8平日_流入計!C83+No8平日_流出計!C83 -> 0 | D83: =No8平日_流入計!D83+No8平日_流出計!D83 -> 0 | E83: =No8平日_流入計!E83+No8平日_流出計!E83 -> 0 | F83: =No8平日_流入計!F83+No8平日_流出計!F83 -> 0 | G83: =SUM(C83:F83) -> 0 | H83: =IF(F83+E83=0,"-",(F83+E83)/G83*100) -> - | I83: =No8平日_流入計!I83+No8平日_流出計!I83 -> 0
A84: 9 | B84: 9:00-10:00 | C84: =No8平日_流入計!C84+No8平日_流出計!C84 -> 0 | D84: =No8平日_流入計!D84+No8平日_流出計!D84 -> 0 | E84: =No8平日_流入計!E84+No8平日_流出計!E84 -> 0 | F84: =No8平日_流入計!F84+No8平日_流出計!F84 -> 0 | G84: =SUM(C84:F84) -> 0 | H84: =IF(F84+E84=0,"-",(F84+E84)/G84*100) -> - | I84: =No8平日_流入計!I84+No8平日_流出計!I84 -> 0
A85: 10 | B85: 10:00-11:00 | C85: =No8平日_流入計!C85+No8平日_流出計!C85 -> 0 | D85: =No8平日_流入計!D85+No8平日_流出計!D85 -> 0 | E85: =No8平日_流入計!E85+No8平日_流出計!E85 -> 0 | F85: =No8平日_流入計!F85+No8平日_流出計!F85 -> 0 | G85: =SUM(C85:F85) -> 0 | H85: =IF(F85+E85=0,"-",(F85+E85)/G85*100) -> - | I85: =No8平日_流入計!I85+No8平日_流出計!I85 -> 0
A86: 11 | B86: 11:00-12:00 | C86: =No8平日_流入計!C86+No8平日_流出計!C86 -> 0 | D86: =No8平日_流入計!D86+No8平日_流出計!D86 -> 0 | E86: =No8平日_流入計!E86+No8平日_流出計!E86 -> 0 | F86: =No8平日_流入計!F86+No8平日_流出計!F86 -> 0 | G86: =SUM(C86:F86) -> 0 | H86: =IF(F86+E86=0,"-",(F86+E86)/G86*100) -> - | I86: =No8平日_流入計!I86+No8平日_流出計!I86 -> 0
A87: 12 | B87: 12:00-13:00 | C87: =No8平日_流入計!C87+No8平日_流出計!C87 -> 0 | D87: =No8平日_流入計!D87+No8平日_流出計!D87 -> 0 | E87: =No8平日_流入計!E87+No8平日_流出計!E87 -> 0 | F87: =No8平日_流入計!F87+No8平日_流出計!F87 -> 0 | G87: =SUM(C87:F87) -> 0 | H87: =IF(F87+E87=0,"-",(F87+E87)/G87*100) -> - | I87: =No8平日_流入計!I87+No8平日_流出計!I87 -> 0
A88: 13 | B88: 13:00-14:00 | C88: =No8平日_流入計!C88+No8平日_流出計!C88 -> 0 | D88: =No8平日_流入計!D88+No8平日_流出計!D88 -> 0 | E88: =No8平日_流入計!E88+No8平日_流出計!E88 -> 0 | F88: =No8平日_流入計!F88+No8平日_流出計!F88 -> 0 | G88: =SUM(C88:F88) -> 0 | H88: =IF(F88+E88=0,"-",(F88+E88)/G88*100) -> - | I88: =No8平日_流入計!I88+No8平日_流出計!I88 -> 0
A89: 14 | B89: 14:00-15:00 | C89: =No8平日_流入計!C89+No8平日_流出計!C89 -> 0 | D89: =No8平日_流入計!D89+No8平日_流出計!D89 -> 0 | E89: =No8平日_流入計!E89+No8平日_流出計!E89 -> 0 | F89: =No8平日_流入計!F89+No8平日_流出計!F89 -> 0 | G89: =SUM(C89:F89) -> 0 | H89: =IF(F89+E89=0,"-",(F89+E89)/G89*100) -> - | I89: =No8平日_流入計!I89+No8平日_流出計!I89 -> 0
A90: 15 | B90: 15:00-16:00 | C90: =No8平日_流入計!C90+No8平日_流出計!C90 -> 0 | D90: =No8平日_流入計!D90+No8平日_流出計!D90 -> 0 | E90: =No8平日_流入計!E90+No8平日_流出計!E90 -> 0 | F90: =No8平日_流入計!F90+No8平日_流出計!F90 -> 0 | G90: =SUM(C90:F90) -> 0 | H90: =IF(F90+E90=0,"-",(F90+E90)/G90*100) -> - | I90: =No8平日_流入計!I90+No8平日_流出計!I90 -> 0
A91: 16 | B91: 16:00-17:00 | C91: =No8平日_流入計!C91+No8平日_流出計!C91 -> 0 | D91: =No8平日_流入計!D91+No8平日_流出計!D91 -> 0 | E91: =No8平日_流入計!E91+No8平日_流出計!E91 -> 0 | F91: =No8平日_流入計!F91+No8平日_流出計!F91 -> 0 | G91: =SUM(C91:F91) -> 0 | H91: =IF(F91+E91=0,"-",(F91+E91)/G91*100) -> - | I91: =No8平日_流入計!I91+No8平日_流出計!I91 -> 0
A92: 17 | B92: 17:00-18:00 | C92: =No8平日_流入計!C92+No8平日_流出計!C92 -> 0 | D92: =No8平日_流入計!D92+No8平日_流出計!D92 -> 0 | E92: =No8平日_流入計!E92+No8平日_流出計!E92 -> 0 | F92: =No8平日_流入計!F92+No8平日_流出計!F92 -> 0 | G92: =SUM(C92:F92) -> 0 | H92: =IF(F92+E92=0,"-",(F92+E92)/G92*100) -> - | I92: =No8平日_流入計!I92+No8平日_流出計!I92 -> 0
A93: 18 | B93: 18:00-19:00 | C93: =No8平日_流入計!C93+No8平日_流出計!C93 -> 0 | D93: =No8平日_流入計!D93+No8平日_流出計!D93 -> 0 | E93: =No8平日_流入計!E93+No8平日_流出計!E93 -> 0 | F93: =No8平日_流入計!F93+No8平日_流出計!F93 -> 0 | G93: =SUM(C93:F93) -> 0 | H93: =IF(F93+E93=0,"-",(F93+E93)/G93*100) -> - | I93: =No8平日_流入計!I93+No8平日_流出計!I93 -> 0
B94: 全時間合計 | C94: =SUM(C82:C93) -> 0 | D94: =SUM(D82:D93) -> 0 | E94: =SUM(E82:E93) -> 0 | F94: =SUM(F82:F93) -> 0 | G94: =SUM(C94:F94) -> 0 | H94: =IF(F94+E94=0,"-",(F94+E94)/G94*100) -> - | I94: =SUM(I82:I93) -> 0

Sheet No8平日_方向別A
B1: 交差点交通量集計表（自動車類）
B3: 調査地点： | C3: 小浜
B4: 調査日： | C4: 令和7年10月21日（火）7時～19時
B6: 方向 | C6: 1 | J6: 2 | Q6: 3
C7: 小型車 | E7: 大型車 | G7: 合計 | H7: 大型車混入率 | I7: 二輪車 | J7: 小型車 | L7: 大型車 | N7: 合計 | O7: 大型車混入率 | P7: 二輪車 | Q7: 小型車 | S7: 大型車 | U7: 合計 | V7: 大型車混入率 | W7: 二輪車 | X7: 小型車 | Z7: 大型車 | AB7: 合計 | AC7: 大型車混入率 | AD7: 二輪車
B8: 種別 | C8: 乗用車 | D8: 小型貨物 | E8: 普通貨物 | F8: バス | J8: 乗用車 | K8: 小型貨物 | L8: 普通貨物 | M8: バス | Q8: 乗用車 | R8: 小型貨物 | S8: 普通貨物 | T8: バス | X8: 乗用車 | Y8: 小型貨物 | Z8: 普通貨物 | AA8: バス
B9: 時間帯 | C9: (台) | D9: (台) | E9: (台) | F9: (台) | G9: (台) | H9: (％) | I9: (台) | J9: (台) | K9: (台) | L9: (台) | M9: (台) | N9: (台) | O9: (％) | P9: (台) | Q9: (台) | R9: (台) | S9: (台) | T9: (台) | U9: (台) | V9: (％) | W9: (台) | X9: (台) | Y9: (台) | Z9: (台) | AA9: (台) | AB9: (台) | AC9: (％) | AD9: (台)
A10: 7 | B10: 7:00-8:00 | C10: 11 | D10: 1 | E10: 3 | F10: 0 | G10: 15 | H10: 20 | I10: 3 | J10: 317 | K10: 94 | L10: 31 | M10: 0 | N10: 442 | O10: 7.0135747 | P10: 76 | Q10: 14 | R10: 6 | S10: 1 | T10: 1 | U10: 22 | V10: 9.1 | W10: 25
A11: 8 | B11: 8:00-9:00 | C11: 13 | D11: 7 | E11: 3 | F11: 0 | G11: 23 | H11: 13.043478 | I11: 0 | J11: 332 | K11: 92 | L11: 28 | M11: 6 | N11: 458 | O11: 7.4235808 | P11: 119 | Q11: 14 | R11: 5 | S11: 2 | T11: 0 | U11: 21 | V11: 9.5 | W11: 6
A12: 9 | B12: 9:00-10:00 | C12: 30 | D12: 3 | E12: 3 | F12: 0 | G12: 36 | H12: 8.3333333 | I12: 2 | J12: 352 | K12: 73 | L12: 37 | M12: 7 | N12: 469 | O12: 9.3816631 | P12: 53 | Q12: 22 | R12: 6 | S12: 1 | T12: 0 | U12: 29 | V12: 3.4 | W12: 2
A13: 10 | B13: 10:00-11:00 | C13: 28 | D13: 10 | E13: 4 | F13: 0 | G13: 42 | H13: 9.5238095 | I13: 7 | J13: 308 | K13: 80 | L13: 32 | M13: 3 | N13: 423 | O13: 8.2742317 | P13: 46 | Q13: 28 | R13: 7 | S13: 1 | T13: 0 | U13: 36 | V13: 2.8 | W13: 7
A14: 11 | B14: 11:00-12:00 | C14: 19 | D14: 5 | E14: 4 | F14: 0 | G14: 28 | H14: 14.285714 | I14: 1 | J14: 278 | K14: 85 | L14: 24 | M14: 3 | N14: 390 | O14: 6.9230769 | P14: 49 | Q14: 26 | R14: 11 | S14: 1 | T14: 0 | U14: 38 | V14: 2.6 | W14: 9
A15: 12 | B15: 12:00-13:00 | C15: 30 | D15: 8 | E15: 0 | F15: 0 | G15: 38 | H15: - | I15: 3 | J15: 281 | K15: 56 | L15: 21 | M15: 4 | N15: 362 | O15: 6.9060773 | P15: 85 | Q15: 25 | R15: 13 | S15: 3 | T15: 0 | U15: 41 | V15: 7.3 | W15: 12
A16: 13 | B16: 13:00-14:00 | C16: 27 | D16: 6 | E16: 5 | F16: 0 | G16: 38 | H16: 13.157895 | I16: 3 | J16: 323 | K16: 81 | L16: 28 | M16: 4 | N16: 436 | O16: 7.3394495 | P16: 40 | Q16: 19 | R16: 6 | S16: 4 | T16: 0 | U16: 29 | V16: 13.8 | W16: 3
A17: 14 | B17: 14:00-15:00 | C17: 20 | D17: 3 | E17: 2 | F17: 0 | G17: 25 | H17: 8 | I17: 1 | J17: 307 | K17: 75 | L17: 27 | M17: 5 | N17: 414 | O17: 7.7294686 | P17: 52 | Q17: 22 | R17: 8 | S17: 3 | T17: 0 | U17: 33 | V17: 9.1 | W17: 4
A18: 15 | B18: 15:00-16:00 | C18: 22 | D18: 6 | E18: 3 | F18: 0 | G18: 31 | H18: 9.6774194 | I18: 1 | J18: 327 | K18: 58 | L18: 18 | M18: 4 | N18: 407 | O18: 5.4054054 | P18: 34 | Q18: 38 | R18: 9 | S18: 0 | T18: 0 | U18: 47 | V18: - | W18: 4
A19: 16 | B19: 16:00-17:00 | C19: 20 | D19: 7 | E19: 6 | F19: 0 | G19: 33 | H19: 18.181818 | I19: 1 | J19: 350 | K19: 63 | L19: 23 | M19: 4 | N19: 440 | O19: 6.1363636 | P19: 71 | Q19: 26 | R19: 15 | S19: 1 | T19: 0 | U19: 42 | V19: 2.4 | W19: 6
A20: 17 | B20: 17:00-18:00 | C20: 26 | D20: 7 | E20: 2 | F20: 0 | G20: 35 | H20: 5.7142857 | I20: 1 | J20: 359 | K20: 65 | L20: 14 | M20: 6 | N20: 444 | O20: 4.5045045 | P20: 89 | Q20: 30 | R20: 13 | S20: 0 | T20: 0 | U20: 43 | V20: - | W20: 9
A21: 18 | B21: 18:00-19:00 | C21: 24 | D21: 1 | E21: 0 | F21: 0 | G21: 25 | H21: - | I21: 0 | J21: 362 | K21: 46 | L21: 7 | M21: 3 | N21: 418 | O21: 2.3923445 | P21: 58 | Q21: 29 | R21: 8 | S21: 0 | T21: 0 | U21: 37 | V21: - | W21: 6
B22: 全時間合計 | C22: 270 | D22: 64 | E22: 35 | F22: 0 | G22: 369 | H22: 9.4850949 | I22: 23 | J22: 3896 | K22: 868 | L22: 290 | M22: 49 | N22: 5103 | O22: 6.6431511 | P22: 772 | Q22: 293 | R22: 107 | S22: 17 | T22: 1 | U22: 418 | V22: 4.3 | W22: 93

Sheet No8平日_方向別B
B1: 交差点交通量集計表（自動車類）
B3: 調査地点： | C3: 小浜
B4: 調査日： | C4: 令和7年10月21日（火）7時～19時
B6: 方向 | C6: 4 | J6: 5
C7: 小型車 | E7: 大型車 | G7: 合計 | H7: 大型車混入率 | I7: 二輪車 | J7: 小型車 | L7: 大型車 | N7: 合計 | O7: 大型車混入率 | P7: 二輪車 | Q7: 小型車 | S7: 大型車 | U7: 合計 | V7: 大型車混入率 | W7: 二輪車 | X7: 小型車 | Z7: 大型車 | AB7: 合計 | AC7: 大型車混入率 | AD7: 二輪車
B8: 種別 | C8: 乗用車 | D8: 小型貨物 | E8: 普通貨物 | F8: バス | J8: 乗用車 | K8: 小型貨物 | L8: 普通貨物 | M8: バス | Q8: 乗用車 | R8: 小型貨物 | S8: 普通貨物 | T8: バス | X8: 乗用車 | Y8: 小型貨物 | Z8: 普通貨物 | AA8: バス
B9: 時間帯 | C9: (台) | D9: (台) | E9: (台) | F9: (台) | G9: (台) | H9: (％) | I9: (台) | J9: (台) | K9: (台) | L9: (台) | M9: (台) | N9: (台) | O9: (％) | P9: (台) | Q9: (台) | R9: (台) | S9: (台) | T9: (台) | U9: (台) | V9: (％) | W9: (台) | X9: (台) | Y9: (台) | Z9: (台) | AA9: (台) | AB9: (台) | AC9: (％) | AD9: (台)
A10: 7 | B10: 7:00-8:00 | C10: 191 | D10: 33 | E10: 22 | F10: 8 | G10: 254 | H10: 11.811024 | I10: 31 | J10: 69 | K10: 11 | L10: 2 | M10: 0 | N10: 82 | O10: 2.4390244 | P10: 4
A11: 8 | B11: 8:00-9:00 | C11: 231 | D11: 29 | E11: 16 | F11: 8 | G11: 284 | H11: 8.4507042 | I11: 28 | J11: 82 | K11: 14 | L11: 6 | M11: 1 | N11: 103 | O11: 6.7961165 | P11: 5
A12: 9 | B12: 9:00-10:00 | C12: 226 | D12: 23 | E12: 31 | F12: 6 | G12: 286 | H12: 12.937063 | I12: 10 | J12: 79 | K12: 10 | L12: 11 | M12: 0 | N12: 100 | O12: 11 | P12: 6
A13: 10 | B13: 10:00-11:00 | C13: 238 | D13: 36 | E13: 31 | F13: 7 | G13: 312 | H13: 12.179487 | I13: 16 | J13: 99 | K13: 19 | L13: 11 | M13: 0 | N13: 129 | O13: 8.5271318 | P13: 2
A14: 11 | B14: 11:00-12:00 | C14: 205 | D14: 41 | E14: 24 | F14: 6 | G14: 276 | H14: 10.869565 | I14: 10 | J14: 100 | K14: 14 | L14: 6 | M14: 0 | N14: 120 | O14: 5 | P14: 2
A15: 12 | B15: 12:00-13:00 | C15: 179 | D15: 37 | E15: 27 | F15: 4 | G15: 247 | H15: 12.550607 | I15: 19 | J15: 83 | K15: 11 | L15: 7 | M15: 1 | N15: 102 | O15: 7.8431373 | P15: 0
A16: 13 | B16: 13:00-14:00 | C16: 193 | D16: 33 | E16: 21 | F16: 8 | G16: 255 | H16: 11.372549 | I16: 13 | J16: 88 | K16: 17 | L16: 8 | M16: 0 | N16: 113 | O16: 7.079646 | P16: 4
A17: 14 | B17: 14:00-15:00 | C17: 209 | D17: 34 | E17: 21 | F17: 5 | G17: 269 | H17: 9.6654275 | I17: 13 | J17: 83 | K17: 11 | L17: 8 | M17: 1 | N17: 103 | O17: 8.7378641 | P17: 3
A18: 15 | B18: 15:00-16:00 | C18: 219 | D18: 38 | E18: 32 | F18: 5 | G18: 294 | H18: 12.585034 | I18: 14 | J18: 91 | K18: 19 | L18: 1 | M18: 2 | N18: 113 | O18: 2.6548673 | P18: 1
A19: 16 | B19: 16:00-17:00 | C19: 211 | D19: 51 | E19: 29 | F19: 7 | G19: 298 | H19: 12.080537 | I19: 13 | J19: 99 | K19: 16 | L19: 7 | M19: 0 | N19: 122 | O19: 5.7377049 | P19: 2
A20: 17 | B20: 17:00-18:00 | C20: 251 | D20: 53 | E20: 12 | F20: 6 | G20: 322 | H20: 5.5900621 | I20: 24 | J20: 85 | K20: 10 | L20: 4 | M20: 0 | N20: 99 | O20: 4.040404 | P20: 4
A21: 18 | B21: 18:00-19:00 | C21: 219 | D21: 21 | E21: 3 | F21: 6 | G21: 249 | H21: 3.6144578 | I21: 22 | J21: 91 | K21: 9 | L21: 1 | M21: 0 | N21: 101 | O21: 0.99009901 | P21: 6
B22: 全時間合計 | C22: 2572 | D22: 429 | E22: 269 | F22: 76 | G22: 3346 | H22: 10.310819 | I22: 213 | J22: 1049 | K22: 161 | L22: 72 | M22: 5 | N22: 1287 | O22: 5.982906 | P22: 39

Sheet No8平日_方向別C
B1: 交差点交通量集計表（自動車類）
B3: 調査地点： | C3: 小浜
B4: 調査日： | C4: 令和7年10月21日（火）7時～19時
B6: 方向 | C6: 6 | J6: 7 | Q6: 8
C7: 小型車 | E7: 大型車 | G7: 合計 | H7: 大型車混入率 | I7: 二輪車 | J7: 小型車 | L7: 大型車 | N7: 合計 | O7: 大型車混入率 | P7: 二輪車 | Q7: 小型車 | S7: 大型車 | U7: 合計 | V7: 大型車混入率 | W7: 二輪車 | X7: 小型車 | Z7: 大型車 | AB7: 合計 | AC7: 大型車混入率 | AD7: 二輪車
B8: 種別 | C8: 乗用車 | D8: 小型貨物 | E8: 普通貨物 | F8: バス | J8: 乗用車 | K8: 小型貨物 | L8: 普通貨物 | M8: バス | Q8: 乗用車 | R8: 小型貨物 | S8: 普通貨物 | T8: バス | X8: 乗用車 | Y8: 小型貨物 | Z8: 普通貨物 | AA8: バス
B9: 時間帯 | C9: (台) | D9: (台) | E9: (台) | F9: (台) | G9: (台) | H9: (％) | I9: (台) | J9: (台) | K9: (台) | L9: (台) | M9: (台) | N9: (台) | O9: (％) | P9: (台) | Q9: (台) | R9: (台) | S9: (台) | T9: (台) | U9: (台) | V9: (％) | W9: (台) | X9: (台) | Y9: (台) | Z9: (台) | AA9: (台) | AB9: (台) | AC9: (％) | AD9: (台)
A10: 7 | B10: 7:00-8:00 | C10: 41 | D10: 15 | E10: 6 | F10: 1 | G10: 63 | H10: 11.111111 | I10: 9 | J10: 369 | K10: 78 | L10: 29 | M10: 1 | N10: 477 | O10: 6.2893082 | P10: 62 | Q10: 20 | R10: 2 | S10: 0 | T10: 0 | U10: 22 | V10: - | W10: 10
A11: 8 | B11: 8:00-9:00 | C11: 82 | D11: 14 | E11: 7 | F11: 2 | G11: 105 | H11: 8.5714286 | I11: 9 | J11: 350 | K11: 60 | L11: 27 | M11: 7 | N11: 444 | O11: 7.6576577 | P11: 84 | Q11: 30 | R11: 3 | S11: 1 | T11: 0 | U11: 34 | V11: 2.9 | W11: 3
A12: 9 | B12: 9:00-10:00 | C12: 88 | D12: 27 | E12: 15 | F12: 0 | G12: 130 | H12: 11.538462 | I12: 7 | J12: 306 | K12: 65 | L12: 33 | M12: 7 | N12: 411 | O12: 9.7323601 | P12: 73 | Q12: 42 | R12: 5 | S12: 2 | T12: 0 | U12: 49 | V12: 4.1 | W12: 3
A13: 10 | B13: 10:00-11:00 | C13: 92 | D13: 22 | E13: 12 | F13: 1 | G13: 127 | H13: 10.23622 | I13: 10 | J13: 294 | K13: 64 | L13: 29 | M13: 4 | N13: 391 | O13: 8.4398977 | P13: 53 | Q13: 41 | R13: 10 | S13: 4 | T13: 0 | U13: 55 | V13: 7.3 | W13: 8
A14: 11 | B14: 11:00-12:00 | C14: 97 | D14: 18 | E14: 11 | F14: 0 | G14: 126 | H14: 8.7301587 | I14: 7 | J14: 300 | K14: 78 | L14: 25 | M14: 5 | N14: 408 | O14: 7.3529412 | P14: 50 | Q14: 37 | R14: 10 | S14: 2 | T14: 0 | U14: 49 | V14: 4.1 | W14: 4
A15: 12 | B15: 12:00-13:00 | C15: 106 | D15: 19 | E15: 10 | F15: 0 | G15: 135 | H15: 7.4074074 | I15: 4 | J15: 281 | K15: 63 | L15: 24 | M15: 4 | N15: 372 | O15: 7.5268817 | P15: 55 | Q15: 47 | R15: 4 | S15: 3 | T15: 0 | U15: 54 | V15: 5.6 | W15: 4
A16: 13 | B16: 13:00-14:00 | C16: 123 | D16: 21 | E16: 9 | F16: 0 | G16: 153 | H16: 5.8823529 | I16: 6 | J16: 303 | K16: 80 | L16: 27 | M16: 2 | N16: 412 | O16: 7.038835 | P16: 42 | Q16: 46 | R16: 10 | S16: 2 | T16: 0 | U16: 58 | V16: 3.4 | W16: 1
A17: 14 | B17: 14:00-15:00 | C17: 114 | D17: 11 | E17: 7 | F17: 2 | G17: 134 | H17: 6.7164179 | I17: 5 | J17: 306 | K17: 78 | L17: 15 | M17: 3 | N17: 402 | O17: 4.4776119 | P17: 58 | Q17: 45 | R17: 8 | S17: 2 | T17: 0 | U17: 55 | V17: 3.6 | W17: 2
A18: 15 | B18: 15:00-16:00 | C18: 137 | D18: 22 | E18: 3 | F18: 2 | G18: 164 | H18: 3.0487805 | I18: 7 | J18: 319 | K18: 79 | L18: 23 | M18: 3 | N18: 424 | O18: 6.1320755 | P18: 56 | Q18: 40 | R18: 11 | S18: 3 | T18: 0 | U18: 54 | V18: 5.6 | W18: 10
A19: 16 | B19: 16:00-17:00 | C19: 126 | D19: 23 | E19: 5 | F19: 0 | G19: 154 | H19: 3.2467532 | I19: 8 | J19: 294 | K19: 74 | L19: 14 | M19: 9 | N19: 391 | O19: 5.8823529 | P19: 66 | Q19: 35 | R19: 9 | S19: 0 | T19: 0 | U19: 44 | V19: - | W19: 2
A20: 17 | B20: 17:00-18:00 | C20: 132 | D20: 16 | E20: 3 | F20: 0 | G20: 151 | H20: 1.986755 | I20: 8 | J20: 305 | K20: 91 | L20: 8 | M20: 3 | N20: 407 | O20: 2.7027027 | P20: 89 | Q20: 50 | R20: 5 | S20: 2 | T20: 0 | U20: 57 | V20: 3.5 | W20: 6
A21: 18 | B21: 18:00-19:00 | C21: 126 | D21: 9 | E21: 3 | F21: 0 | G21: 138 | H21: 2.173913 | I21: 10 | J21: 293 | K21: 50 | L21: 6 | M21: 4 | N21: 353 | O21: 2.8328612 | P21: 74 | Q21: 33 | R21: 4 | S21: 1 | T21: 0 | U21: 38 | V21: 2.6 | W21: 15
B22: 全時間合計 | C22: 1264 | D22: 217 | E22: 91 | F22: 8 | G22: 1580 | H22: 6.2658228 | I22: 90 | J22: 3720 | K22: 860 | L22: 260 | M22: 52 | N22: 4892 | O22: 6.3777596 | P22: 762 | Q22: 466 | R22: 81 | S22: 22 | T22: 0 | U22: 569 | V22: 3.9 | W22: 68

Sheet No8平日_方向別D
B1: 交差点交通量集計表（自動車類）
B3: 調査地点： | C3: 小浜
B4: 調査日： | C4: 令和7年10月21日（火）7時～19時
B6: 方向 | C6: 9 | J6: 10 | Q6: 11
C7: 小型車 | E7: 大型車 | G7: 合計 | H7: 大型車混入率 | I7: 二輪車 | J7: 小型車 | L7: 大型車 | N7: 合計 | O7: 大型車混入率 | P7: 二輪車 | Q7: 小型車 | S7: 大型車 | U7: 合計 | V7: 大型車混入率 | W7: 二輪車 | X7: 小型車 | Z7: 大型車 | AB7: 合計 | AC7: 大型車混入率 | AD7: 二輪車
B8: 種別 | C8: 乗用車 | D8: 小型貨物 | E8: 普通貨物 | F8: バス | J8: 乗用車 | K8: 小型貨物 | L8: 普通貨物 | M8: バス | Q8: 乗用車 | R8: 小型貨物 | S8: 普通貨物 | T8: バス | X8: 乗用車 | Y8: 小型貨物 | Z8: 普通貨物 | AA8: バス
B9: 時間帯 | C9: (台) | D9: (台) | E9: (台) | F9: (台) | G9: (台) | H9: (％) | I9: (台) | J9: (台) | K9: (台) | L9: (台) | M9: (台) | N9: (台) | O9: (％) | P9: (台) | Q9: (台) | R9: (台) | S9: (台) | T9: (台) | U9: (台) | V9: (％) | W9: (台) | X9: (台) | Y9: (台) | Z9: (台) | AA9: (台) | AB9: (台) | AC9: (％) | AD9: (台)
A10: 7 | B10: 7:00-8:00 | C10: 14 | D10: 4 | E10: 3 | F10: 0 | G10: 21 | H10: 14.285714 | I10: 5 | J10: 159 | K10: 59 | L10: 27 | M10: 9 | N10: 254 | O10: 14.173228 | P10: 19 | Q10: 24 | R10: 8 | S10: 5 | T10: 0 | U10: 37 | V10: 13.5 | W10: 0
A11: 8 | B11: 8:00-9:00 | C11: 37 | D11: 7 | E11: 6 | F11: 2 | G11: 52 | H11: 15.384615 | I11: 0 | J11: 164 | K11: 55 | L11: 37 | M11: 8 | N11: 264 | O11: 17.045455 | P11: 16 | Q11: 28 | R11: 7 | S11: 4 | T11: 0 | U11: 39 | V11: 10.3 | W11: 1
A12: 9 | B12: 9:00-10:00 | C12: 28 | D12: 6 | E12: 5 | F12: 1 | G12: 40 | H12: 15 | I12: 1 | J12: 153 | K12: 59 | L12: 39 | M12: 7 | N12: 258 | O12: 17.829457 | P12: 12 | Q12: 21 | R12: 10 | S12: 2 | T12: 1 | U12: 34 | V12: 8.8 | W12: 0
A13: 10 | B13: 10:00-11:00 | C13: 44 | D13: 6 | E13: 3 | F13: 1 | G13: 54 | H13: 7.4074074 | I13: 5 | J13: 148 | K13: 54 | L13: 40 | M13: 5 | N13: 247 | O13: 18.218623 | P13: 13 | Q13: 20 | R13: 4 | S13: 3 | T13: 0 | U13: 27 | V13: 11.1 | W13: 0
A14: 11 | B14: 11:00-12:00 | C14: 30 | D14: 6 | E14: 3 | F14: 0 | G14: 39 | H14: 7.6923077 | I14: 2 | J14: 193 | K14: 34 | L14: 42 | M14: 6 | N14: 275 | O14: 17.454545 | P14: 14 | Q14: 29 | R14: 7 | S14: 1 | T14: 0 | U14: 37 | V14: 2.7 | W14: 1
A15: 12 | B15: 12:00-13:00 | C15: 47 | D15: 5 | E15: 2 | F15: 0 | G15: 54 | H15: 3.7037037 | I15: 4 | J15: 207 | K15: 47 | L15: 15 | M15: 7 | N15: 276 | O15: 7.9710145 | P15: 10 | Q15: 31 | R15: 3 | S15: 2 | T15: 0 | U15: 36 | V15: 5.6 | W15: 3
A16: 13 | B16: 13:00-14:00 | C16: 37 | D16: 10 | E16: 10 | F16: 0 | G16: 57 | H16: 17.54386 | I16: 2 | J16: 212 | K16: 44 | L16: 23 | M16: 4 | N16: 283 | O16: 9.540636 | P16: 17 | Q16: 32 | R16: 8 | S16: 4 | T16: 0 | U16: 44 | V16: 9.1 | W16: 1
A17: 14 | B17: 14:00-15:00 | C17: 42 | D17: 8 | E17: 2 | F17: 2 | G17: 54 | H17: 7.4074074 | I17: 0 | J17: 216 | K17: 44 | L17: 21 | M17: 6 | N17: 287 | O17: 9.4076655 | P17: 13 | Q17: 25 | R17: 6 | S17: 1 | T17: 0 | U17: 32 | V17: 3.1 | W17: 3
A18: 15 | B18: 15:00-16:00 | C18: 45 | D18: 5 | E18: 4 | F18: 2 | G18: 56 | H18: 10.714286 | I18: 0 | J18: 195 | K18: 26 | L18: 15 | M18: 5 | N18: 241 | O18: 8.2987552 | P18: 3 | Q18: 34 | R18: 5 | S18: 4 | T18: 1 | U18: 44 | V18: 11.4 | W18: 3
A19: 16 | B19: 16:00-17:00 | C19: 52 | D19: 9 | E19: 1 | F19: 0 | G19: 62 | H19: 1.6129032 | I19: 5 | J19: 216 | K19: 42 | L19: 13 | M19: 9 | N19: 280 | O19: 7.8571429 | P19: 25 | Q19: 36 | R19: 10 | S19: 4 | T19: 0 | U19: 50 | V19: 8 | W19: 1
A20: 17 | B20: 17:00-18:00 | C20: 54 | D20: 7 | E20: 1 | F20: 0 | G20: 62 | H20: 1.6129032 | I20: 4 | J20: 284 | K20: 32 | L20: 5 | M20: 6 | N20: 327 | O20: 3.3639144 | P20: 26 | Q20: 34 | R20: 17 | S20: 0 | T20: 0 | U20: 51 | V20: - | W20: 6
A21: 18 | B21: 18:00-19:00 | C21: 44 | D21: 5 | E21: 1 | F21: 0 | G21: 50 | H21: 2 | I21: 0 | J21: 281 | K21: 22 | L21: 1 | M21: 8 | N21: 312 | O21: 2.8846154 | P21: 32 | Q21: 32 | R21: 6 | S21: 0 | T21: 0 | U21: 38 | V21: - | W21: 6
B22: 全時間合計 | C22: 474 | D22: 78 | E22: 41 | F22: 8 | G22: 601 | H22: 8.1530782 | I22: 28 | J22: 2428 | K22: 518 | L22: 278 | M22: 80 | N22: 3304 | O22: 10.835351 | P22: 200 | Q22: 346 | R22: 91 | S22: 30 | T22: 2 | U22: 469 | V22: 6.8 | W22: 25

Sheet No8平日_歩行者
B1: 交差点交通量集計表（歩行者類）
B2: 地点番号： | C2: P15
B3: 調査地点： | C3: 小浜
B4: 調査日： | C4: 令和7年10月21日（火）7時～19時
B6: 方向 | C6: ア | E6: イ | G6: a断面 | J6: ウ | L6: エ | N6: b断面(歩道橋下)
B7: 種別 | C7: 歩行者 | D7: 自転車 | E7: 歩行者 | F7: 自転車 | G7: 歩行者 | H7: 自転車 | I7: 計 | J7: 歩行者 | K7: 自転車 | L7: 歩行者 | M7: 自転車 | N7: 歩行者 | O7: 自転車 | P7: 計
B8: 時間帯 | C8: (人) | D8: (台) | E8: (人) | F8: (台) | G8: (人) | H8: (台) | I8: (台) | J8: (人) | K8: (台) | L8: (人) | M8: (台) | N8: (人) | O8: (台) | P8: (台)
A9: 7 | B9: 7:00-8:00 | C9: 0 | D9: 1 | E9: 0 | F9: 1 | G9: 0 | H9: 2 | I9: 2 | J9: 0 | K9: 27 | L9: 2 | M9: 19 | N9: 2 | O9: 46 | P9: 48
A10: 8 | B10: 8:00-9:00 | C10: 0 | D10: 2 | E10: 0 | F10: 0 | G10: 0 | H10: 2 | I10: 2 | J10: 0 | K10: 52 | L10: 1 | M10: 5 | N10: 1 | O10: 57 | P10: 58
A11: 9 | B11: 9:00-10:00 | C11: 0 | D11: 1 | E11: 0 | F11: 0 | G11: 0 | H11: 1 | I11: 1 | J11: 0 | K11: 6 | L11: 0 | M11: 5 | N11: 0 | O11: 11 | P11: 11
A12: 10 | B12: 10:00-11:00 | C12: 0 | D12: 0 | E12: 0 | F12: 0 | G12: 0 | H12: 0 | I12: 0 | J12: 0 | K12: 8 | L12: 0 | M12: 1 | N12: 0 | O12: 9 | P12: 9
A13: 11 | B13: 11:00-12:00 | C13: 0 | D13: 0 | E13: 0 | F13: 0 | G13: 0 | H13: 0 | I13: 0 | J13: 0 | K13: 12 | L13: 0 | M13: 1 | N13: 0 | O13: 13 | P13: 13
A14: 12 | B14: 12:00-13:00 | C14: 0 | D14: 1 | E14: 0 | F14: 1 | G14: 0 | H14: 2 | I14: 2 | J14: 0 | K14: 14 | L14: 0 | M14: 6 | N14: 0 | O14: 20 | P14: 20
A15: 13 | B15: 13:00-14:00 | C15: 0 | D15: 0 | E15: 0 | F15: 0 | G15: 0 | H15: 0 | I15: 0 | J15: 0 | K15: 16 | L15: 1 | M15: 1 | N15: 1 | O15: 17 | P15: 18
A16: 14 | B16: 14:00-15:00 | C16: 0 | D16: 0 | E16: 0 | F16: 0 | G16: 0 | H16: 0 | I16: 0 | J16: 0 | K16: 5 | L16: 0 | M16: 1 | N16: 0 | O16: 6 | P16: 6
A17: 15 | B17: 15:00-16:00 | C17: 0 | D17: 1 | E17: 0 | F17: 1 | G17: 0 | H17: 2 | I17: 2 | J17: 2 | K17: 11 | L17: 0 | M17: 2 | N17: 2 | O17: 13 | P17: 15
A18: 16 | B18: 16:00-17:00 | C18: 0 | D18: 1 | E18: 0 | F18: 1 | G18: 0 | H18: 2 | I18: 2 | J18: 1 | K18: 26 | L18: 0 | M18: 5 | N18: 1 | O18: 31 | P18: 32
A19: 17 | B19: 17:00-18:00 | C19: 0 | D19: 2 | E19: 0 | F19: 0 | G19: 0 | H19: 2 | I19: 2 | J19: 0 | K19: 32 | L19: 0 | M19: 6 | N19: 0 | O19: 38 | P19: 38
A20: 18 | B20: 18:00-19:00 | C20: 0 | D20: 0 | E20: 0 | F20: 0 | G20: 0 | H20: 0 | I20: 0 | J20: 0 | K20: 27 | L20: 0 | M20: 4 | N20: 0 | O20: 31 | P20: 31
B21: 全時間合計 | C21: 0 | D21: 9 | E21: 0 | F21: 4 | G21: 0 | H21: 13 | I21: 13 | J21: 3 | K21: 236 | L21: 4 | M21: 56 | N21: 7 | O21: 292 | P21: 299
B23: 方向 | C23: オ | E23: カ | G23: c断面 | J23: キ | L23: ク | N23: d断面
B24: 種別 | C24: 歩行者 | D24: 自転車 | E24: 歩行者 | F24: 自転車 | G24: 歩行者 | H24: 自転車 | I24: 計 | J24: 歩行者 | K24: 自転車 | L24: 歩行者 | M24: 自転車 | N24: 歩行者 | O24: 自転車 | P24: 計
B25: 時間帯 | C25: (人) | D25: (台) | E25: (人) | F25: (台) | G25: (人) | H25: (台) | I25: (台) | J25: (人) | K25: (台) | L25: (人) | M25: (台) | N25: (人) | O25: (台) | P25: (台)
A26: 7 | B26: 7:00-8:00 | C26: 5 | D26: 15 | E26: 11 | F26: 36 | G26: 16 | H26: 51 | I26: 67 | J26: 7 | K26: 65 | L26: 15 | M26: 32 | N26: 22 | O26: 97 | P26: 119
A27: 8 | B27: 8:00-9:00 | C27: 11 | D27: 30 | E27: 15 | F27: 58 | G27: 26 | H27: 88 | I27: 114 | J27: 17 | K27: 125 | L27: 22 | M27: 87 | N27: 39 | O27: 212 | P27: 251
A28: 9 | B28: 9:00-10:00 | C28: 6 | D28: 20 | E28: 7 | F28: 26 | G28: 13 | H28: 46 | I28: 59 | J28: 12 | K28: 59 | L28: 10 | M28: 28 | N28: 22 | O28: 87 | P28: 109
A29: 10 | B29: 10:00-11:00 | C29: 10 | D29: 27 | E29: 14 | F29: 23 | G29: 24 | H29: 50 | I29: 74 | J29: 12 | K29: 44 | L29: 3 | M29: 30 | N29: 15 | O29: 74 | P29: 89
A30: 11 | B30: 11:00-12:00 | C30: 15 | D30: 24 | E30: 3 | F30: 18 | G30: 18 | H30: 42 | I30: 60 | J30: 17 | K30: 37 | L30: 11 | M30: 38 | N30: 28 | O30: 75 | P30: 103
A31: 12 | B31: 12:00-13:00 | C31: 6 | D31: 19 | E31: 8 | F31: 19 | G31: 14 | H31: 38 | I31: 52 | J31: 5 | K31: 53 | L31: 11 | M31: 33 | N31: 16 | O31: 86 | P31: 102
A32: 13 | B32: 13:00-14:00 | C32: 9 | D32: 18 | E32: 12 | F32: 21 | G32: 21 | H32: 39 | I32: 60 | J32: 15 | K32: 35 | L32: 9 | M32: 25 | N32: 24 | O32: 60 | P32: 84
A33: 14 | B33: 14:00-15:00 | C33: 13 | D33: 19 | E33: 7 | F33: 10 | G33: 20 | H33: 29 | I33: 49 | J33: 12 | K33: 37 | L33: 8 | M33: 28 | N33: 20 | O33: 65 | P33: 85
A34: 15 | B34: 15:00-16:00 | C34: 10 | D34: 29 | E34: 15 | F34: 22 | G34: 25 | H34: 51 | I34: 76 | J34: 26 | K34: 40 | L34: 17 | M34: 41 | N34: 43 | O34: 81 | P34: 124
A35: 16 | B35: 16:00-17:00 | C35: 23 | D35: 23 | E35: 6 | F35: 23 | G35: 29 | H35: 46 | I35: 75 | J35: 28 | K35: 67 | L35: 9 | M35: 38 | N35: 37 | O35: 105 | P35: 142
A36: 17 | B36: 17:00-18:00 | C36: 16 | D36: 39 | E36: 16 | F36: 39 | G36: 32 | H36: 78 | I36: 110 | J36: 21 | K36: 86 | L36: 5 | M36: 57 | N36: 26 | O36: 143 | P36: 169
A37: 18 | B37: 18:00-19:00 | C37: 5 | D37: 31 | E37: 14 | F37: 29 | G37: 19 | H37: 60 | I37: 79 | J37: 3 | K37: 63 | L37: 7 | M37: 35 | N37: 10 | O37: 98 | P37: 108
B38: 全時間合計 | C38: 129 | D38: 294 | E38: 128 | F38: 324 | G38: 257 | H38: 618 | I38: 875 | J38: 175 | K38: 711 | L38: 127 | M38: 472 | N38: 302 | O38: 1183 | P38: 1485
B40: 方向 | C40: ケ | E40: コ | G40: b断面(歩道橋上)
B41: 種別 | C41: 歩行者 | D41: 自転車 | E41: 歩行者 | F41: 自転車 | G41: 歩行者 | H41: 自転車 | I41: 計 | J41: 歩行者 | K41: 自転車 | L41: 歩行者 | M41: 自転車 | N41: 歩行者 | O41: 自転車 | P41: 計
B42: 時間帯 | C42: (人) | D42: (台) | E42: (人) | F42: (台) | G42: (人) | H42: (台) | I42: (台) | J42: (人) | K42: (台) | L42: (人) | M42: (台) | N42: (人) | O42: (台) | P42: (台)
A43: 7 | B43: 7:00-8:00 | C43: 18 | D43: 0 | E43: 106 | F43: 0 | G43: 124 | H43: 0 | I43: 124 | J43: 0 | K43: 0 | L43: 0 | M43: 0 | N43: 0 | O43: 0 | P43: 0
A44: 8 | B44: 8:00-9:00 | C44: 30 | D44: 0 | E44: 305 | F44: 0 | G44: 335 | H44: 0 | I44: 335 | J44: 0 | K44: 0 | L44: 0 | M44: 0 | N44: 0 | O44: 0 | P44: 0
A45: 9 | B45: 9:00-10:00 | C45: 12 | D45: 0 | E45: 24 | F45: 0 | G45: 36 | H45: 0 | I45: 36 | J45: 0 | K45: 0 | L45: 0 | M45: 0 | N45: 0 | O45: 0 | P45: 0
A46: 10 | B46: 10:00-11:00 | C46: 8 | D46: 0 | E46: 22 | F46: 0 | G46: 30 | H46: 0 | I46: 30 | J46: 0 | K46: 0 | L46: 0 | M46: 0 | N46: 0 | O46: 0 | P46: 0
A47: 11 | B47: 11:00-12:00 | C47: 13 | D47: 0 | E47: 14 | F47: 0 | G47: 27 | H47: 0 | I47: 27 | J47: 0 | K47: 0 | L47: 0 | M47: 0 | N47: 0 | O47: 0 | P47: 0
A48: 12 | B48: 12:00-13:00 | C48: 11 | D48: 0 | E48: 20 | F48: 0 | G48: 31 | H48: 0 | I48: 31 | J48: 0 | K48: 0 | L48: 0 | M48: 0 | N48: 0 | O48: 0 | P48: 0
A49: 13 | B49: 13:00-14:00 | C49: 11 | D49: 0 | E49: 13 | F49: 0 | G49: 24 | H49: 0 | I49: 24 | J49: 0 | K49: 0 | L49: 0 | M49: 0 | N49: 0 | O49: 0 | P49: 0
A50: 14 | B50: 14:00-15:00 | C50: 15 | D50: 0 | E50: 17 | F50: 0 | G50: 32 | H50: 0 | I50: 32 | J50: 0 | K50: 0 | L50: 0 | M50: 0 | N50: 0 | O50: 0 | P50: 0
A51: 15 | B51: 15:00-16:00 | C51: 16 | D51: 0 | E51: 16 | F51: 0 | G51: 32 | H51: 0 | I51: 32 | J51: 0 | K51: 0 | L51: 0 | M51: 0 | N51: 0 | O51: 0 | P51: 0
A52: 16 | B52: 16:00-17:00 | C52: 164 | D52: 0 | E52: 68 | F52: 0 | G52: 232 | H52: 0 | I52: 232 | J52: 0 | K52: 0 | L52: 0 | M52: 0 | N52: 0 | O52: 0 | P52: 0
A53: 17 | B53: 17:00-18:00 | C53: 199 | D53: 0 | E53: 47 | F53: 0 | G53: 246 | H53: 0 | I53: 246 | J53: 0 | K53: 0 | L53: 0 | M53: 0 | N53: 0 | O53: 0 | P53: 0
A54: 18 | B54: 18:00-19:00 | C54: 28 | D54: 0 | E54: 33 | F54: 0 | G54: 61 | H54: 0 | I54: 61 | J54: 0 | K54: 0 | L54: 0 | M54: 0 | N54: 0 | O54: 0 | P54: 0
B55: 全時間合計 | C55: 525 | D55: 0 | E55: 685 | F55: 0 | G55: 1210 | H55: 0 | I55: 1210 | J55: 0 | K55: 0 | L55: 0 | M55: 0 | N55: 0 | O55: 0 | P55: 0

Sheet No8休日_まとめ
A2: 交差点交通量集計表 | H2: 方 向 図
B6: 調査地点： | C6: 小浜
B7: 調査月日： | C7: 令和7年10月19日（日）7時～19時
D15: 12時間計（7:00～19:00） | K15: ピーク時間（15:00～16:00）
I16: 大型車混入率（％） | J16: 二輪車 | P16: 大型車混入率（％） | Q16: 二輪車
D17: 小型車 | F17: 大型車 | K17: 小型車 | M17: 大型車
D18: 乗用車 | E18: 小型貨物 | F18: 普通貨物 | G18: バス | H18: 計 | K18: 乗用車 | L18: 小型貨物 | M18: 普通貨物 | N18: バス | O18: 計
A19: 単方向 | B19: 1 | C19: [AからDへ] | D19: 456 | E19: 43 | F19: 7 | G19: 1 | H19: 507 | I19: 1.5779093 | J19: 33 | K19: 45 | L19: 1 | M19: 1 | N19: 0 | O19: 47 | P19: 2.1276596 | Q19: 8 | R19: 15
B20: 2 | C20: [AからCへ] | D20: 4034 | E20: 286 | F20: 91 | G20: 33 | H20: 4444 | I20: 2.790279 | J20: 384 | K20: 405 | L20: 17 | M20: 6 | N20: 4 | O20: 432 | P20: 2.3148148 | Q20: 24 | R20: =R19 -> 15
B21: 3 | C21: [AからBへ] | D21: 296 | E21: 46 | F21: 3 | G21: 0 | H21: 345 | I21: 0.86956522 | J21: 61 | K21: 20 | L21: 4 | M21: 1 | N21: 0 | O21: 25 | P21: 4 | Q21: 2 | R21: =R20 -> 15
B22: 4 | C22: [BからAへ] | D22: 3274 | E22: 198 | F22: 66 | G22: 61 | H22: 3599 | I22: 3.528758 | J22: 136 | K22: 312 | L22: 16 | M22: 2 | N22: 5 | O22: 335 | P22: 2.0895522 | Q22: 21 | R22: =R21 -> 15
B23: 5 | C23: [BからDへ] | D23: 1106 | E23: 65 | F23: 17 | G23: 1 | H23: 1189 | I23: 1.5138772 | J23: 46 | K23: 108 | L23: 11 | M23: 1 | N23: 0 | O23: 120 | P23: 0.83333333 | Q23: 3 | R23: =R22 -> 15
B24: 6 | C24: [CからBへ] | D24: 1319 | E24: 81 | F24: 24 | G24: 0 | H24: 1424 | I24: 1.6853933 | J24: 77 | K24: 131 | L24: 2 | M24: 2 | N24: 0 | O24: 135 | P24: 1.4814815 | Q24: 7 | R24: =R23 -> 15
B25: 7 | C25: [CからAへ] | D25: 3804 | E25: 313 | F25: 98 | G25: 31 | H25: 4246 | I25: 3.0381536 | J25: 419 | K25: 396 | L25: 34 | M25: 7 | N25: 3 | O25: 440 | P25: 2.2727273 | Q25: 48 | R25: =R24 -> 15
B26: 8 | C26: [CからDへ] | D26: 622 | E26: 37 | F26: 20 | G26: 0 | H26: 679 | I26: 2.9455081 | J26: 34 | K26: 59 | L26: 2 | M26: 1 | N26: 0 | O26: 62 | P26: 1.6129032 | Q26: 0 | R26: =R25 -> 15
B27: 9 | C27: [DからCへ] | D27: 603 | E27: 31 | F27: 12 | G27: 0 | H27: 646 | I27: 1.8575851 | J27: 20 | K27: 55 | L27: 2 | M27: 0 | N27: 0 | O27: 57 | P27: - | Q27: 2 | R27: =R26 -> 15
B28: 10 | C28: [DからBへ] | D28: 3198 | E28: 216 | F28: 45 | G28: 64 | H28: 3523 | I28: 3.093954 | J28: 161 | K28: 302 | L28: 14 | M28: 2 | N28: 5 | O28: 323 | P28: 2.1671827 | Q28: 12 | R28: =R27 -> 15
B29: 11 | C29: [DからAへ] | D29: 426 | E29: 24 | F29: 8 | G29: 0 | H29: 458 | I29: 1.7467249 | J29: 18 | K29: 40 | L29: 1 | M29: 1 | N29: 0 | O29: 42 | P29: 2.3809524 | Q29: 0 | R29: =R28 -> 15
B30: 12 | C30: [からへ] | D30: 0 | E30: 0 | F30: 0 | G30: 0 | H30: 0 | I30: - | J30: 0 | K30: 0 | L30: 0 | M30: 0 | N30: 0 | O30: 0 | P30: - | Q30: 0 | R30: =R29 -> 15
B31: 13 | C31: [からへ] | D31: 0 | E31: 0 | F31: 0 | G31: 0 | H31: 0 | I31: - | J31: 0 | K31: 0 | L31: 0 | M31: 0 | N31: 0 | O31: 0 | P31: - | Q31: 0 | R31: =R30 -> 15
B32: 14 | C32: [からへ] | D32: 0 | E32: 0 | F32: 0 | G32: 0 | H32: 0 | I32: - | J32: 0 | K32: 0 | L32: 0 | M32: 0 | N32: 0 | O32: 0 | P32: - | Q32: 0 | R32: =R31 -> 15
B33: 15 | C33: [からへ] | D33: 0 | E33: 0 | F33: 0 | G33: 0 | H33: 0 | I33: - | J33: 0 | K33: 0 | L33: 0 | M33: 0 | N33: 0 | O33: 0 | P33: - | Q33: 0 | R33: =R32 -> 15
B34: 16 | C34: [からへ] | D34: 0 | E34: 0 | F34: 0 | G34: 0 | H34: 0 | I34: - | J34: 0 | K34: 0 | L34: 0 | M34: 0 | N34: 0 | O34: 0 | P34: - | Q34: 0 | R34: =R33 -> 15
B35: 17 | C35: [からへ] | D35: 0 | E35: 0 | F35: 0 | G35: 0 | H35: 0 | I35: - | J35: 0 | K35: 0 | L35: 0 | M35: 0 | N35: 0 | O35: 0 | P35: - | Q35: 0 | R35: =R34 -> 15
B36: 18 | C36: [からへ] | D36: 0 | E36: 0 | F36: 0 | G36: 0 | H36: 0 | I36: - | J36: 0 | K36: 0 | L36: 0 | M36: 0 | N36: 0 | O36: 0 | P36: - | Q36: 0 | R36: =R35 -> 15
B37: 19 | C37: [からへ] | D37: 0 | E37: 0 | F37: 0 | G37: 0 | H37: 0 | I37: - | J37: 0 | K37: 0 | L37: 0 | M37: 0 | N37: 0 | O37: 0 | P37: - | Q37: 0 | R37: =R36 -> 15
B38: 20 | C38: [からへ] | D38: 0 | E38: 0 | F38: 0 | G38: 0 | H38: 0 | I38: - | J38: 0 | K38: 0 | L38: 0 | M38: 0 | N38: 0 | O38: 0 | P38: - | Q38: 0 | R38: =R37 -> 15
B39: 21 | C39: [からへ] | D39: 0 | E39: 0 | F39: 0 | G39: 0 | H39: 0 | I39: - | J39: 0 | K39: 0 | L39: 0 | M39: 0 | N39: 0 | O39: 0 | P39: - | Q39: 0 | R39: =R38 -> 15
A40: 流入 | B40: A | C40: 流入計 | D40: 4786 | E40: 375 | F40: 101 | G40: 34 | H40: 5296 | I40: 2.5490937 | J40: 478 | K40: 470 | L40: 22 | M40: 8 | N40: 4 | O40: 504 | P40: 2.3809524 | Q40: 34 | R40: =R39 -> 15
B41: B | C41: 流入計 | D41: 4380 | E41: 263 | F41: 83 | G41: 62 | H41: 4788 | I41: 3.0284043 | J41: 182 | K41: 420 | L41: 27 | M41: 3 | N41: 5 | O41: 455 | P41: 1.7582418 | Q41: 24 | R41: =R40 -> 15
B42: C | C42: 流入計 | D42: 5745 | E42: 431 | F42: 142 | G42: 31 | H42: 6349 | I42: 2.7248386 | J42: 530 | K42: 586 | L42: 38 | M42: 10 | N42: 3 | O42: 637 | P42: 2.0408163 | Q42: 55 | R42: =R41 -> 15
B43: D | C43: 流入計 | D43: 4227 | E43: 271 | F43: 65 | G43: 64 | H43: 4627 | I43: 2.7879836 | J43: 199 | K43: 397 | L43: 17 | M43: 3 | N43: 5 | O43: 422 | P43: 1.8957346 | Q43: 14 | R43: =R42 -> 15
B44: E | C44: 流入計 | D44: 0 | E44: 0 | F44: 0 | G44: 0 | H44: 0 | I44: - | J44: 0 | K44: 0 | L44: 0 | M44: 0 | N44: 0 | O44: 0 | P44: - | Q44: 0 | R44: =R43 -> 15
A45: 流出 | B45: A | C45: 流出計 | D45: 7504 | E45: 535 | F45: 172 | G45: 92 | H45: 8303 | I45: 3.1795736 | J45: 573 | K45: 748 | L45: 51 | M45: 10 | N45: 8 | O45: 817 | P45: 2.2031824 | Q45: 69 | R45: =R44 -> 15
B46: B | C46: 流出計 | D46: 4813 | E46: 343 | F46: 72 | G46: 64 | H46: 5292 | I46: 2.5699169 | J46: 299 | K46: 453 | L46: 20 | M46: 5 | N46: 5 | O46: 483 | P46: 2.0703934 | Q46: 21 | R46: =R45 -> 15
B47: C | C47: 流出計 | D47: 4637 | E47: 317 | F47: 103 | G47: 33 | H47: 5090 | I47: 2.6719057 | J47: 404 | K47: 460 | L47: 19 | M47: 6 | N47: 4 | O47: 489 | P47: 2.0449898 | Q47: 26 | R47: =R46 -> 15
B48: D | C48: 流出計 | D48: 2184 | E48: 145 | F48: 44 | G48: 2 | H48: 2375 | I48: 1.9368421 | J48: 113 | K48: 212 | L48: 14 | M48: 3 | N48: 0 | O48: 229 | P48: 1.3100437 | Q48: 11 | R48: =R47 -> 15
B49: E | C49: 流出計 | D49: 0 | E49: 0 | F49: 0 | G49: 0 | H49: 0 | I49: - | J49: 0 | K49: 0 | L49: 0 | M49: 0 | N49: 0 | O49: 0 | P49: - | Q49: 0 | R49: =R48 -> 15
A50: 断面 | B50: A断面計 | D50: 12290 | E50: 910 | F50: 273 | G50: 126 | H50: 13599 | I50: 2.9340393 | J50: 1051 | K50: 1218 | L50: 73 | M50: 18 | N50: 12 | O50: 1321 | P50: 2.2710068 | Q50: 103 | R50: =R49 -> 15
B51: B断面計 | D51: 9193 | E51: 606 | F51: 155 | G51: 126 | H51: 10080 | I51: 2.7876984 | J51: 481 | K51: 873 | L51: 47 | M51: 8 | N51: 10 | O51: 938 | P51: 1.9189765 | Q51: 45 | R51: =R50 -> 15
B52: C断面計 | D52: 10382 | E52: 748 | F52: 245 | G52: 64 | H52: 11439 | I52: 2.7012851 | J52: 934 | K52: 1046 | L52: 57 | M52: 16 | N52: 7 | O52: 1126 | P52: 2.0426288 | Q52: 81 | R52: =R51 -> 15
B53: D断面計 | D53: 6411 | E53: 416 | F53: 109 | G53: 66 | H53: 7002 | I53: 2.4992859 | J53: 312 | K53: 609 | L53: 31 | M53: 6 | N53: 5 | O53: 651 | P53: 1.6897081 | Q53: 25 | R53: =R52 -> 15
B54: E断面計 | D54: 0 | E54: 0 | F54: 0 | G54: 0 | H54: 0 | I54: - | J54: 0 | K54: 0 | L54: 0 | M54: 0 | N54: 0 | O54: 0 | P54: - | Q54: 0 | R54: =R53 -> 15
A55: 交差点合計 | D55: 19138 | E55: 1340 | F55: 391 | G55: 191 | H55: 21060 | I55: 2.7635328 | J55: 1389 | K55: 1873 | L55: 104 | M55: 24 | N55: 17 | O55: 2018 | P55: 2.0317146 | Q55: 127 | R55: =R54 -> 15

Sheet No8休日_交差点計
B1: 交差点交通量集計表（自動車類）
B3: 調査地点： | C3: 小浜
B4: 調査日： | C4: 令和7年10月19日（日）7時～19時
B6: 方向 | C6: 交差点計
B7: 種別 | C7: 小型車 | E7: 大型車 | G7: 合計 | H7: 大型車混入率 | I7: 二輪車
C8: 乗用車 | D8: 小型貨物 | E8: 普通貨物 | F8: バス
B9: 時間帯 | C9: (台) | D9: (台) | E9: (台) | F9: (台) | G9: (台) | H9: (％) | I9: (台)
A10: 7 | B10: 7:00-8:00 | C10: 762 | D10: 95 | E10: 46 | F10: 11 | G10: 914 | H10: 6.2363239 | I10: 66
A11: 8 | B11: 8:00-9:00 | C11: 1191 | D11: 119 | E11: 45 | F11: 20 | G11: 1375 | H11: 4.7272727 | I11: 99
A12: 9 | B12: 9:00-10:00 | C12: 1484 | D12: 118 | E12: 45 | F12: 16 | G12: 1663 | H12: 3.6680698 | I12: 132
A13: 10 | B13: 10:00-11:00 | C13: 1744 | D13: 126 | E13: 34 | F13: 14 | G13: 1918 | H13: 2.5026069 | I13: 131
A14: 11 | B14: 11:00-12:00 | C14: 1765 | D14: 101 | E14: 36 | F14: 17 | G14: 1919 | H14: 2.7618551 | I14: 131
A15: 12 | B15: 12:00-13:00 | C15: 1729 | D15: 106 | E15: 37 | F15: 17 | G15: 1889 | H15: 2.8586554 | I15: 139
A16: 13 | B16: 13:00-14:00 | C16: 1774 | D16: 106 | E16: 35 | F16: 16 | G16: 1931 | H16: 2.6411186 | I16: 117
A17: 14 | B17: 14:00-15:00 | C17: 1844 | D17: 111 | E17: 25 | F17: 15 | G17: 1995 | H17: 2.0050125 | I17: 126
A18: 15 | B18: 15:00-16:00 | C18: 1873 | D18: 104 | E18: 24 | F18: 17 | G18: 2018 | H18: 2.0317146 | I18: 127
A19: 16 | B19: 16:00-17:00 | C19: 1824 | D19: 126 | E19: 27 | F19: 15 | G19: 1992 | H19: 2.1084337 | I19: 113
A20: 17 | B20: 17:00-18:00 | C20: 1691 | D20: 127 | E20: 20 | F20: 13 | G20: 1851 | H20: 1.7828201 | I20: 119
A21: 18 | B21: 18:00-19:00 | C21: 1457 | D21: 101 | E21: 17 | F21: 20 | G21: 1595 | H21: 2.3197492 | I21: 89
B22: 全時間合計 | C22: 19138 | D22: 1340 | E22: 391 | F22: 191 | G22: 21060 | H22: 2.7635328 | I22: 1389

Sheet No8休日_流入計
B1: 交差点交通量集計表（自動車類）
B3: 調査地点： | C3: 小浜
B4: 調査日： | C4: 令和7年10月19日（日）7時～19時
B6: 方向 | C6: A
C7: 小型車 | E7: 大型車 | G7: 合 計 | H7: 大型車混入率 | I7: 二輪車
B8: 種別 | C8: 乗用車 | D8: 小型貨物 | E8: 普通貨物 | F8: バス
B9: 時間帯 | C9: (台) | D9: (台) | E9: (台) | F9: (台) | G9: (台) | H9: (％) | I9: (台)
A10: 7 | B10: 7:00- 8:00 | C10: 217 | D10: 28 | E10: 7 | F10: 0 | G10: 252 | H10: 2.7777778 | I10: 38
A11: 8 | B11: 8:00- 9:00 | C11: 289 | D11: 34 | E11: 14 | F11: 5 | G11: 342 | H11: 5.5555556 | I11: 41
A12: 9 | B12: 9:00- 10:00 | C12: 366 | D12: 36 | E12: 5 | F12: 2 | G12: 409 | H12: 1.7114914 | I12: 53
A13: 10 | B13: 10:00- 11:00 | C13: 377 | D13: 37 | E13: 8 | F13: 3 | G13: 425 | H13: 2.5882353 | I13: 43
A14: 11 | B14: 11:00- 12:00 | C14: 414 | D14: 29 | E14: 17 | F14: 2 | G14: 462 | H14: 4.1125541 | I14: 44
A15: 12 | B15: 12:00- 13:00 | C15: 419 | D15: 34 | E15: 12 | F15: 3 | G15: 468 | H15: 3.2051282 | I15: 56
A16: 13 | B16: 13:00- 14:00 | C16: 455 | D16: 19 | E16: 7 | F16: 3 | G16: 484 | H16: 2.0661157 | I16: 33
A17: 14 | B17: 14:00- 15:00 | C17: 461 | D17: 31 | E17: 9 | F17: 3 | G17: 504 | H17: 2.3809524 | I17: 37
A18: 15 | B18: 15:00- 16:00 | C18: 470 | D18: 22 | E18: 8 | F18: 4 | G18: 504 | H18: 2.3809524 | I18: 34
A19: 16 | B19: 16:00-17:00 | C19: 434 | D19: 36 | E19: 4 | F19: 3 | G19: 477 | H19: 1.4675052 | I19: 41
A20: 17 | B20: 17:00-18:00 | C20: 451 | D20: 43 | E20: 6 | F20: 2 | G20: 502 | H20: 1.5936255 | I20: 34
A21: 18 | B21: 18:00-19:00 | C21: 433 | D21: 26 | E21: 4 | F21: 4 | G21: 467 | H21: 1.7130621 | I21: 24
B22: 全時間合計 | C22: 4786 | D22: 375 | E22: 101 | F22: 34 | G22: 5296 | H22: 2.5490937 | I22: 478
B24: 方向 | C24: B
C25: 小型車 | E25: 大型車 | G25: 合 計 | H25: 大型車混入率 | I25: 二輪車
B26: 種別 | C26: 乗用車 | D26: 小型貨物 | E26: 普通貨物 | F26: バス
B27: 時間帯 | C27: (台) | D27: (台) | E27: (台) | F27: (台) | G27: (台) | H27: (％) | I27: (台)
A28: 7 | B28: 7:00- 8:00 | C28: 125 | D28: 19 | E28: 8 | F28: 5 | G28: 157 | H28: 8.2802548 | I28: 3
A29: 8 | B29: 8:00- 9:00 | C29: 259 | D29: 15 | E29: 11 | F29: 5 | G29: 290 | H29: 5.5172414 | I29: 16
A30: 9 | B30: 9:00- 10:00 | C30: 332 | D30: 24 | E30: 7 | F30: 5 | G30: 368 | H30: 3.2608696 | I30: 16
A31: 10 | B31: 10:00- 11:00 | C31: 475 | D31: 19 | E31: 11 | F31: 5 | G31: 510 | H31: 3.1372549 | I31: 15
A32: 11 | B32: 11:00- 12:00 | C32: 400 | D32: 16 | E32: 11 | F32: 5 | G32: 432 | H32: 3.7037037 | I32: 15
A33: 12 | B33: 12:00- 13:00 | C33: 413 | D33: 17 | E33: 6 | F33: 5 | G33: 441 | H33: 2.4943311 | I33: 11
A34: 13 | B34: 13:00- 14:00 | C34: 411 | D34: 31 | E34: 3 | F34: 5 | G34: 450 | H34: 1.7777778 | I34: 18
A35: 14 | B35: 14:00- 15:00 | C35: 430 | D35: 24 | E35: 5 | F35: 5 | G35: 464 | H35: 2.1551724 | I35: 22
A36: 15 | B36: 15:00- 16:00 | C36: 420 | D36: 27 | E36: 3 | F36: 5 | G36: 455 | H36: 1.7582418 | I36: 24
A37: 16 | B37: 16:00-17:00 | C37: 410 | D37: 22 | E37: 10 | F37: 5 | G37: 447 | H37: 3.3557047 | I37: 14
A38: 17 | B38: 17:00-18:00 | C38: 360 | D38: 28 | E38: 6 | F38: 5 | G38: 399 | H38: 2.7568922 | I38: 17
A39: 18 | B39: 18:00-19:00 | C39: 345 | D39: 21 | E39: 2 | F39: 7 | G39: 375 | H39: 2.4 | I39: 11
B40: 全時間合計 | C40: 4380 | D40: 263 | E40: 83 | F40: 62 | G40: 4788 | H40: 3.0284043 | I40: 182
B42: 方向 | C42: C
C43: 小型車 | E43: 大型車 | G43: 合 計 | H43: 大型車混入率 | I43: 二輪車
B44: 種別 | C44: 乗用車 | D44: 小型貨物 | E44: 普通貨物 | F44: バス
B45: 時間帯 | C45: (台) | D45: (台) | E45: (台) | F45: (台) | G45: (台) | H45: (％) | I45: (台)
A46: 7 | B46: 7:00- 8:00 | C46: 260 | D46: 33 | E46: 16 | F46: 1 | G46: 310 | H46: 5.483871 | I46: 20
A47: 8 | B47: 8:00- 9:00 | C47: 366 | D47: 41 | E47: 12 | F47: 3 | G47: 422 | H47: 3.5545024 | I47: 32
A48: 9 | B48: 9:00- 10:00 | C48: 458 | D48: 38 | E48: 23 | F48: 4 | G48: 523 | H48: 5.1625239 | I48: 50
A49: 10 | B49: 10:00- 11:00 | C49: 525 | D49: 37 | E49: 10 | F49: 1 | G49: 573 | H49: 1.9197208 | I49: 48
A50: 11 | B50: 11:00- 12:00 | C50: 570 | D50: 34 | E50: 6 | F50: 5 | G50: 615 | H50: 1.7886179 | I50: 51
A51: 12 | B51: 12:00- 13:00 | C51: 517 | D51: 28 | E51: 15 | F51: 3 | G51: 563 | H51: 3.1971581 | I51: 51
A52: 13 | B52: 13:00- 14:00 | C52: 533 | D52: 31 | E52: 19 | F52: 3 | G52: 586 | H52: 3.7542662 | I52: 46
A53: 14 | B53: 14:00- 15:00 | C53: 517 | D53: 34 | E53: 10 | F53: 2 | G53: 563 | H53: 2.1314387 | I53: 46
A54: 15 | B54: 15:00- 16:00 | C54: 586 | D54: 38 | E54: 10 | F54: 3 | G54: 637 | H54: 2.0408163 | I54: 55
A55: 16 | B55: 16:00-17:00 | C55: 544 | D55: 42 | E55: 6 | F55: 2 | G55: 594 | H55: 1.3468013 | I55: 41
A56: 17 | B56: 17:00-18:00 | C56: 516 | D56: 39 | E56: 7 | F56: 2 | G56: 564 | H56: 1.5957447 | I56: 49
A57: 18 | B57: 18:00-19:00 | C57: 353 | D57: 36 | E57: 8 | F57: 2 | G57: 399 | H57: 2.5062657 | I57: 41
B58: 全時間合計 | C58: 5745 | D58: 431 | E58: 142 | F58: 31 | G58: 6349 | H58: 2.7248386 | I58: 530
B60: 方向 | C60: D
C61: 小型車 | E61: 大型車 | G61: 合 計 | H61: 大型車混入率 | I61: 二輪車
B62: 種別 | C62: 乗用車 | D62: 小型貨物 | E62: 普通貨物 | F62: バス
B63: 時間帯 | C63: (台) | D63: (台) | E63: (台) | F63: (台) | G63: (台) | H63: (％) | I63: (台)
A64: 7 | B64: 7:00- 8:00 | C64: 160 | D64: 15 | E64: 15 | F64: 5 | G64: 195 | H64: 10.25641 | I64: 5
A65: 8 | B65: 8:00- 9:00 | C65: 277 | D65: 29 | E65: 8 | F65: 7 | G65: 321 | H65: 4.6728972 | I65: 10
A66: 9 | B66: 9:00- 10:00 | C66: 328 | D66: 20 | E66: 10 | F66: 5 | G66: 363 | H66: 4.1322314 | I66: 13
A67: 10 | B67: 10:00- 11:00 | C67: 367 | D67: 33 | E67: 5 | F67: 5 | G67: 410 | H67: 2.4390244 | I67: 25
A68: 11 | B68: 11:00- 12:00 | C68: 381 | D68: 22 | E68: 2 | F68: 5 | G68: 410 | H68: 1.7073171 | I68: 21
A69: 12 | B69: 12:00- 13:00 | C69: 380 | D69: 27 | E69: 4 | F69: 6 | G69: 417 | H69: 2.3980815 | I69: 21
A70: 13 | B70: 13:00- 14:00 | C70: 375 | D70: 25 | E70: 6 | F70: 5 | G70: 411 | H70: 2.676399 | I70: 20
A71: 14 | B71: 14:00- 15:00 | C71: 436 | D71: 22 | E71: 1 | F71: 5 | G71: 464 | H71: 1.2931034 | I71: 21
A72: 15 | B72: 15:00- 16:00 | C72: 397 | D72: 17 | E72: 3 | F72: 5 | G72: 422 | H72: 1.8957346 | I72: 14
A73: 16 | B73: 16:00-17:00 | C73: 436 | D73: 26 | E73: 7 | F73: 5 | G73: 474 | H73: 2.5316456 | I73: 17
A74: 17 | B74: 17:00-18:00 | C74: 364 | D74: 17 | E74: 1 | F74: 4 | G74: 386 | H74: 1.2953368 | I74: 19
A75: 18 | B75: 18:00-19:00 | C75: 326 | D75: 18 | E75: 3 | F75: 7 | G75: 354 | H75: 2.8248588 | I75: 13
B76: 全時間合計 | C76: 4227 | D76: 271 | E76: 65 | F76: 64 | G76: 4627 | H76: 2.7879836 | I76: 199
B78: 方向 | C78: E
C79: 小型車 | E79: 大型車 | G79: 合 計 | H79: 大型車混入率 | I79: 二輪車
B80: 種別 | C80: 乗用車 | D80: 小型貨物 | E80: 普通貨物 | F80: バス
B81: 時間帯 | C81: (台) | D81: (台) | E81: (台) | F81: (台) | G81: (台) | H81: (％) | I81: (台)
A82: 7 | B82: 7:00- 8:00 | C82: 0 | D82: 0 | E82: 0 | F82: 0 | G82: =SUM(C82:F82) -> 0 | H82: =IF(F82+E82=0,"-",(F82+E82)/G82*100) -> - | I82: 0
A83: 8 | B83: 8:00- 9:00 | C83: 0 | D83: 0 | E83: 0 | F83: 0 | G83: =SUM(C83:F83) -> 0 | H83: =IF(F83+E83=0,"-",(F83+E83)/G83*100) -> - | I83: 0
A84: 9 | B84: 9:00- 10:00 | C84: 0 | D84: 0 | E84: 0 | F84: 0 | G84: =SUM(C84:F84) -> 0 | H84: =IF(F84+E84=0,"-",(F84+E84)/G84*100) -> - | I84: 0
A85: 10 | B85: 10:00- 11:00 | C85: 0 | D85: 0 | E85: 0 | F85: 0 | G85: =SUM(C85:F85) -> 0 | H85: =IF(F85+E85=0,"-",(F85+E85)/G85*100) -> - | I85: 0
A86: 11 | B86: 11:00- 12:00 | C86: 0 | D86: 0 | E86: 0 | F86: 0 | G86: =SUM(C86:F86) -> 0 | H86: =IF(F86+E86=0,"-",(F86+E86)/G86*100) -> - | I86: 0
A87: 12 | B87: 12:00- 13:00 | C87: 0 | D87: 0 | E87: 0 | F87: 0 | G87: =SUM(C87:F87) -> 0 | H87: =IF(F87+E87=0,"-",(F87+E87)/G87*100) -> - | I87: 0
A88: 13 | B88: 13:00- 14:00 | C88: 0 | D88: 0 | E88: 0 | F88: 0 | G88: =SUM(C88:F88) -> 0 | H88: =IF(F88+E88=0,"-",(F88+E88)/G88*100) -> - | I88: 0
A89: 14 | B89: 14:00- 15:00 | C89: 0 | D89: 0 | E89: 0 | F89: 0 | G89: =SUM(C89:F89) -> 0 | H89: =IF(F89+E89=0,"-",(F89+E89)/G89*100) -> - | I89: 0
A90: 15 | B90: 15:00- 16:00 | C90: 0 | D90: 0 | E90: 0 | F90: 0 | G90: =SUM(C90:F90) -> 0 | H90: =IF(F90+E90=0,"-",(F90+E90)/G90*100) -> - | I90: 0
A91: 16 | B91: 16:00-17:00 | C91: 0 | D91: 0 | E91: 0 | F91: 0 | G91: =SUM(C91:F91) -> 0 | H91: =IF(F91+E91=0,"-",(F91+E91)/G91*100) -> - | I91: 0
A92: 17 | B92: 17:00-18:00 | C92: 0 | D92: 0 | E92: 0 | F92: 0 | G92: =SUM(C92:F92) -> 0 | H92: =IF(F92+E92=0,"-",(F92+E92)/G92*100) -> - | I92: 0
A93: 18 | B93: 18:00-19:00 | C93: 0 | D93: 0 | E93: 0 | F93: 0 | G93: =SUM(C93:F93) -> 0 | H93: =IF(F93+E93=0,"-",(F93+E93)/G93*100) -> - | I93: 0
B94: 全時間合計 | C94: =SUM(C82:C93) -> 0 | D94: =SUM(D82:D93) -> 0 | E94: =SUM(E82:E93) -> 0 | F94: =SUM(F82:F93) -> 0 | G94: =SUM(C94:F94) -> 0 | H94: =IF(F94+E94=0,"-",(F94+E94)/G94*100) -> - | I94: =SUM(I82:I93) -> 0

Sheet No8休日_流出計
B1: 交差点交通量集計表（自動車類）
B3: 調査地点： | C3: 小浜
B4: 調査日： | C4: 令和7年10月19日（日）7時～19時
B6: 方向 | C6: A
C7: 小型車 | E7: 大型車 | G7: 合計 | H7: 大型車混入率 | I7: 二輪車
B8: 種別 | C8: 乗用車 | D8: 小型貨物 | E8: 普通貨物 | F8: バス
B9: 時間帯 | C9: (台) | D9: (台) | E9: (台) | F9: (台) | G9: (台) | H9: (％) | I9: (台)
A10: 7 | B10: 7:00-8:00 | C10: 305 | D10: 47 | E10: 18 | F10: 6 | G10: 376 | H10: 6.3829787 | I10: 18
A11: 8 | B11: 8:00-9:00 | C11: 464 | D11: 47 | E11: 16 | F11: 8 | G11: 535 | H11: 4.4859813 | I11: 37
A12: 9 | B12: 9:00-10:00 | C12: 589 | D12: 48 | E12: 20 | F12: 9 | G12: 666 | H12: 4.3543544 | I12: 56
A13: 10 | B13: 10:00-11:00 | C13: 734 | D13: 44 | E13: 16 | F13: 6 | G13: 800 | H13: 2.75 | I13: 50
A14: 11 | B14: 11:00-12:00 | C14: 724 | D14: 33 | E14: 14 | F14: 10 | G14: 781 | H14: 3.0729834 | I14: 55
A15: 12 | B15: 12:00-13:00 | C15: 689 | D15: 29 | E15: 20 | F15: 8 | G15: 746 | H15: 3.7533512 | I15: 48
A16: 13 | B16: 13:00-14:00 | C16: 669 | D16: 48 | E16: 13 | F16: 8 | G16: 738 | H16: 2.8455285 | I16: 53
A17: 14 | B17: 14:00-15:00 | C17: 689 | D17: 38 | E17: 15 | F17: 7 | G17: 749 | H17: 2.9372497 | I17: 52
A18: 15 | B18: 15:00-16:00 | C18: 748 | D18: 51 | E18: 10 | F18: 8 | G18: 817 | H18: 2.2031824 | I18: 69
A19: 16 | B19: 16:00-17:00 | C19: 729 | D19: 53 | E19: 12 | F19: 7 | G19: 801 | H19: 2.372035 | I19: 44
A20: 17 | B20: 17:00-18:00 | C20: 623 | D20: 48 | E20: 10 | F20: 7 | G20: 688 | H20: 2.4709302 | I20: 53
A21: 18 | B21: 18:00-19:00 | C21: 541 | D21: 49 | E21: 8 | F21: 8 | G21: 606 | H21: 2.640264 | I21: 38
B22: 全時間合計 | C22: 7504 | D22: 535 | E22: 172 | F22: 92 | G22: 8303 | H22: 3.1795736 | I22: 573
B24: 方向 | C24: B
C25: 小型車 | E25: 大型車 | G25: 合計 | H25: 大型車混入率 | I25: 二輪車
B26: 種別 | C26: 乗用車 | D26: 小型貨物 | E26: 普通貨物 | F26: バス
B27: 時間帯 | C27: (台) | D27: (台) | E27: (台) | F27: (台) | G27: (台) | H27: (％) | I27: (台)
A28: 7 | B28: 7:00-8:00 | C28: 194 | D28: 19 | E28: 16 | F28: 5 | G28: 234 | H28: 8.974359 | I28: 16
A29: 8 | B29: 8:00-9:00 | C29: 322 | D29: 28 | E29: 8 | F29: 7 | G29: 365 | H29: 4.109589 | I29: 16
A30: 9 | B30: 9:00-10:00 | C30: 385 | D30: 29 | E30: 10 | F30: 5 | G30: 429 | H30: 3.4965035 | I30: 17
A31: 10 | B31: 10:00-11:00 | C31: 421 | D31: 38 | E31: 5 | F31: 5 | G31: 469 | H31: 2.1321962 | I31: 39
A32: 11 | B32: 11:00-12:00 | C32: 435 | D32: 27 | E32: 3 | F32: 5 | G32: 470 | H32: 1.7021277 | I32: 31
A33: 12 | B33: 12:00-13:00 | C33: 430 | D33: 35 | E33: 4 | F33: 6 | G33: 475 | H33: 2.1052632 | I33: 38
A34: 13 | B34: 13:00-14:00 | C34: 446 | D34: 29 | E34: 7 | F34: 5 | G34: 487 | H34: 2.4640657 | I34: 27
A35: 14 | B35: 14:00-15:00 | C35: 509 | D35: 31 | E35: 2 | F35: 5 | G35: 547 | H35: 1.2797075 | I35: 32
A36: 15 | B36: 15:00-16:00 | C36: 453 | D36: 20 | E36: 5 | F36: 5 | G36: 483 | H36: 2.0703934 | I36: 21
A37: 16 | B37: 16:00-17:00 | C37: 444 | D37: 35 | E37: 7 | F37: 5 | G37: 491 | H37: 2.4439919 | I37: 24
A38: 17 | B38: 17:00-18:00 | C38: 439 | D38: 25 | E38: 2 | F38: 4 | G38: 470 | H38: 1.2765957 | I38: 25
A39: 18 | B39: 18:00-19:00 | C39: 335 | D39: 27 | E39: 3 | F39: 7 | G39: 372 | H39: 2.688172 | I39: 13
B40: 全時間合計 | C40: 4813 | D40: 343 | E40: 72 | F40: 64 | G40: 5292 | H40: 2.5699169 | I40: 299
B42: 方向 | C42: C
C43: 小型車 | E43: 大型車 | G43: 合計 | H43: 大型車混入率 | I43: 二輪車
B44: 種別 | C44: 乗用車 | D44: 小型貨物 | E44: 普通貨物 | F44: バス
B45: 時間帯 | C45: (台) | D45: (台) | E45: (台) | F45: (台) | G45: (台) | H45: (％) | I45: (台)
A46: 7 | B46: 7:00-8:00 | C46: 194 | D46: 23 | E46: 7 | F46: 0 | G46: 224 | H46: 3.125 | I46: 30
A47: 8 | B47: 8:00-9:00 | C47: 274 | D47: 31 | E47: 15 | F47: 5 | G47: 325 | H47: 6.1538462 | I47: 36
A48: 9 | B48: 9:00-10:00 | C48: 340 | D48: 30 | E48: 9 | F48: 2 | G48: 381 | H48: 2.8871391 | I48: 49
A49: 10 | B49: 10:00-11:00 | C49: 355 | D49: 33 | E49: 9 | F49: 3 | G49: 400 | H49: 3 | I49: 31
A50: 11 | B50: 11:00-12:00 | C50: 385 | D50: 25 | E50: 17 | F50: 2 | G50: 429 | H50: 4.4289044 | I50: 37
A51: 12 | B51: 12:00-13:00 | C51: 409 | D51: 26 | E51: 11 | F51: 3 | G51: 449 | H51: 3.1180401 | I51: 41
A52: 13 | B52: 13:00-14:00 | C52: 456 | D52: 17 | E52: 8 | F52: 2 | G52: 483 | H52: 2.0703934 | I52: 30
A53: 14 | B53: 14:00-15:00 | C53: 441 | D53: 27 | E53: 7 | F53: 3 | G53: 478 | H53: 2.0920502 | I53: 29
A54: 15 | B54: 15:00-16:00 | C54: 460 | D54: 19 | E54: 6 | F54: 4 | G54: 489 | H54: 2.0449898 | I54: 26
A55: 16 | B55: 16:00-17:00 | C55: 462 | D55: 29 | E55: 4 | F55: 3 | G55: 498 | H55: 1.4056225 | I55: 36
A56: 17 | B56: 17:00-18:00 | C56: 444 | D56: 38 | E56: 6 | F56: 2 | G56: 490 | H56: 1.6326531 | I56: 31
A57: 18 | B57: 18:00-19:00 | C57: 417 | D57: 19 | E57: 4 | F57: 4 | G57: 444 | H57: 1.8018018 | I57: 28
B58: 全時間合計 | C58: 4637 | D58: 317 | E58: 103 | F58: 33 | G58: 5090 | H58: 2.6719057 | I58: 404
B60: 方向 | C60: D
C61: 小型車 | E61: 大型車 | G61: 合計 | H61: 大型車混入率 | I61: 二輪車
B62: 種別 | C62: 乗用車 | D62: 小型貨物 | E62: 普通貨物 | F62: バス
B63: 時間帯 | C63: (台) | D63: (台) | E63: (台) | F63: (台) | G63: (台) | H63: (％) | I63: (台)
A64: 7 | B64: 7:00-8:00 | C64: 69 | D64: 6 | E64: 5 | F64: 0 | G64: 80 | H64: 6.25 | I64: 2
A65: 8 | B65: 8:00-9:00 | C65: 131 | D65: 13 | E65: 6 | F65: 0 | G65: 150 | H65: 4 | I65: 10
A66: 9 | B66: 9:00-10:00 | C66: 170 | D66: 11 | E66: 6 | F66: 0 | G66: 187 | H66: 3.2085561 | I66: 10
A67: 10 | B67: 10:00-11:00 | C67: 234 | D67: 11 | E67: 4 | F67: 0 | G67: 249 | H67: 1.6064257 | I67: 11
A68: 11 | B68: 11:00-12:00 | C68: 221 | D68: 16 | E68: 2 | F68: 0 | G68: 239 | H68: 0.83682008 | I68: 8
A69: 12 | B69: 12:00-13:00 | C69: 201 | D69: 16 | E69: 2 | F69: 0 | G69: 219 | H69: 0.91324201 | I69: 12
A70: 13 | B70: 13:00-14:00 | C70: 203 | D70: 12 | E70: 7 | F70: 1 | G70: 223 | H70: 3.5874439 | I70: 7
A71: 14 | B71: 14:00-15:00 | C71: 205 | D71: 15 | E71: 1 | F71: 0 | G71: 221 | H71: 0.45248869 | I71: 13
A72: 15 | B72: 15:00-16:00 | C72: 212 | D72: 14 | E72: 3 | F72: 0 | G72: 229 | H72: 1.3100437 | I72: 11
A73: 16 | B73: 16:00-17:00 | C73: 189 | D73: 9 | E73: 4 | F73: 0 | G73: 202 | H73: 1.980198 | I73: 9
A74: 17 | B74: 17:00-18:00 | C74: 185 | D74: 16 | E74: 2 | F74: 0 | G74: 203 | H74: 0.98522167 | I74: 10
A75: 18 | B75: 18:00-19:00 | C75: 164 | D75: 6 | E75: 2 | F75: 1 | G75: 173 | H75: 1.734104 | I75: 10
B76: 全時間合計 | C76: 2184 | D76: 145 | E76: 44 | F76: 2 | G76: 2375 | H76: 1.9368421 | I76: 113
B78: 方向 | C78: E
C79: 小型車 | E79: 大型車 | G79: 合計 | H79: 大型車混入率 | I79: 二輪車
B80: 種別 | C80: 乗用車 | D80: 小型貨物 | E80: 普通貨物 | F80: バス
B81: 時間帯 | C81: (台) | D81: (台) | E81: (台) | F81: (台) | G81: (台) | H81: (％) | I81: (台)
A82: 7 | B82: 7:00-8:00 | C82: 0 | D82: 0 | E82: 0 | F82: 0 | G82: =SUM(C82:F82) -> 0 | H82: =IF(F82+E82=0,"-",(F82+E82)/G82*100) -> - | I82: 0
A83: 8 | B83: 8:00-9:00 | C83: 0 | D83: 0 | E83: 0 | F83: 0 | G83: =SUM(C83:F83) -> 0 | H83: =IF(F83+E83=0,"-",(F83+E83)/G83*100) -> - | I83: 0
A84: 9 | B84: 9:00-10:00 | C84: 0 | D84: 0 | E84: 0 | F84: 0 | G84: =SUM(C84:F84) -> 0 | H84: =IF(F84+E84=0,"-",(F84+E84)/G84*100) -> - | I84: 0
A85: 10 | B85: 10:00-11:00 | C85: 0 | D85: 0 | E85: 0 | F85: 0 | G85: =SUM(C85:F85) -> 0 | H85: =IF(F85+E85=0,"-",(F85+E85)/G85*100) -> - | I85: 0
A86: 11 | B86: 11:00-12:00 | C86: 0 | D86: 0 | E86: 0 | F86: 0 | G86: =SUM(C86:F86) -> 0 | H86: =IF(F86+E86=0,"-",(F86+E86)/G86*100) -> - | I86: 0
A87: 12 | B87: 12:00-13:00 | C87: 0 | D87: 0 | E87: 0 | F87: 0 | G87: =SUM(C87:F87) -> 0 | H87: =IF(F87+E87=0,"-",(F87+E87)/G87*100) -> - | I87: 0
A88: 13 | B88: 13:00-14:00 | C88: 0 | D88: 0 | E88: 0 | F88: 0 | G88: =SUM(C88:F88) -> 0 | H88: =IF(F88+E88=0,"-",(F88+E88)/G88*100) -> - | I88: 0
A89: 14 | B89: 14:00-15:00 | C89: 0 | D89: 0 | E89: 0 | F89: 0 | G89: =SUM(C89:F89) -> 0 | H89: =IF(F89+E89=0,"-",(F89+E89)/G89*100) -> - | I89: 0
A90: 15 | B90: 15:00-16:00 | C90: 0 | D90: 0 | E90: 0 | F90: 0 | G90: =SUM(C90:F90) -> 0 | H90: =IF(F90+E90=0,"-",(F90+E90)/G90*100) -> - | I90: 0
A91: 16 | B91: 16:00-17:00 | C91: 0 | D91: 0 | E91: 0 | F91: 0 | G91: =SUM(C91:F91) -> 0 | H91: =IF(F91+E91=0,"-",(F91+E91)/G91*100) -> - | I91: 0
A92: 17 | B92: 17:00-18:00 | C92: 0 | D92: 0 | E92: 0 | F92: 0 | G92: =SUM(C92:F92) -> 0 | H92: =IF(F92+E92=0,"-",(F92+E92)/G92*100) -> - | I92: 0
A93: 18 | B93: 18:00-19:00 | C93: 0 | D93: 0 | E93: 0 | F93: 0 | G93: =SUM(C93:F93) -> 0 | H93: =IF(F93+E93=0,"-",(F93+E93)/G93*100) -> - | I93: 0
B94: 全時間合計 | C94: =SUM(C82:C93) -> 0 | D94: =SUM(D82:D93) -> 0 | E94: =SUM(E82:E93) -> 0 | F94: =SUM(F82:F93) -> 0 | G94: =SUM(C94:F94) -> 0 | H94: =IF(F94+E94=0,"-",(F94+E94)/G94*100) -> - | I94: =SUM(I82:I93) -> 0

Sheet No8休日_断面計
B1: 交差点交通量集計表（自動車類）
B3: 調査地点： | C3: 小浜
B4: 調査日： | C4: 令和7年10月19日（日）7時～19時
B6: 方向 | C6: A
C7: 小型車 | E7: 大型車 | G7: 合計 | H7: 大型車混入率 | I7: 二輪車
B8: 種別 | C8: 乗用車 | D8: 小型貨物 | E8: 普通貨物 | F8: バス
B9: 時間帯 | C9: (台) | D9: (台) | E9: (台) | F9: (台) | G9: (台) | H9: (％) | I9: (台)
A10: 7 | B10: 7:00-8:00 | C10: 522 | D10: 75 | E10: 25 | F10: 6 | G10: 628 | H10: 4.9363057 | I10: 56
A11: 8 | B11: 8:00-9:00 | C11: 753 | D11: 81 | E11: 30 | F11: 13 | G11: 877 | H11: 4.9030787 | I11: 78
A12: 9 | B12: 9:00-10:00 | C12: 955 | D12: 84 | E12: 25 | F12: 11 | G12: 1075 | H12: 3.3488372 | I12: 109
A13: 10 | B13: 10:00-11:00 | C13: 1111 | D13: 81 | E13: 24 | F13: 9 | G13: 1225 | H13: 2.6938776 | I13: 93
A14: 11 | B14: 11:00-12:00 | C14: 1138 | D14: 62 | E14: 31 | F14: 12 | G14: 1243 | H14: 3.4593725 | I14: 99
A15: 12 | B15: 12:00-13:00 | C15: 1108 | D15: 63 | E15: 32 | F15: 11 | G15: 1214 | H15: 3.5420099 | I15: 104
A16: 13 | B16: 13:00-14:00 | C16: 1124 | D16: 67 | E16: 20 | F16: 11 | G16: 1222 | H16: 2.5368249 | I16: 86
A17: 14 | B17: 14:00-15:00 | C17: 1150 | D17: 69 | E17: 24 | F17: 10 | G17: 1253 | H17: 2.7134876 | I17: 89
A18: 15 | B18: 15:00-16:00 | C18: 1218 | D18: 73 | E18: 18 | F18: 12 | G18: 1321 | H18: 2.2710068 | I18: 103
A19: 16 | B19: 16:00-17:00 | C19: 1163 | D19: 89 | E19: 16 | F19: 10 | G19: 1278 | H19: 2.0344288 | I19: 85
A20: 17 | B20: 17:00-18:00 | C20: 1074 | D20: 91 | E20: 16 | F20: 9 | G20: 1190 | H20: 2.1008403 | I20: 87
A21: 18 | B21: 18:00-19:00 | C21: 974 | D21: 75 | E21: 12 | F21: 12 | G21: 1073 | H21: 2.2367195 | I21: 62
B22: 全時間合計 | C22: 12290 | D22: 910 | E22: 273 | F22: 126 | G22: 13599 | H22: 2.9340393 | I22: 1051
B24: 方向 | C24: B
C25: 小型車 | E25: 大型車 | G25: 合計 | H25: 大型車混入率 | I25: 二輪車
B26: 種別 | C26: 乗用車 | D26: 小型貨物 | E26: 普通貨物 | F26: バス
B27: 時間帯 | C27: (台) | D27: (台) | E27: (台) | F27: (台) | G27: (台) | H27: (％) | I27: (台)
A28: 7 | B28: 7:00-8:00 | C28: 319 | D28: 38 | E28: 24 | F28: 10 | G28: 391 | H28: 8.6956522 | I28: 19
A29: 8 | B29: 8:00-9:00 | C29: 581 | D29: 43 | E29: 19 | F29: 12 | G29: 655 | H29: 4.7328244 | I29: 32
A30: 9 | B30: 9:00-10:00 | C30: 717 | D30: 53 | E30: 17 | F30: 10 | G30: 797 | H30: 3.3877039 | I30: 33
A31: 10 | B31: 10:00-11:00 | C31: 896 | D31: 57 | E31: 16 | F31: 10 | G31: 979 | H31: 2.6557712 | I31: 54
A32: 11 | B32: 11:00-12:00 | C32: 835 | D32: 43 | E32: 14 | F32: 10 | G32: 902 | H32: 2.6607539 | I32: 46
A33: 12 | B33: 12:00-13:00 | C33: 843 | D33: 52 | E33: 10 | F33: 11 | G33: 916 | H33: 2.2925764 | I33: 49
A34: 13 | B34: 13:00-14:00 | C34: 857 | D34: 60 | E34: 10 | F34: 10 | G34: 937 | H34: 2.1344717 | I34: 45
A35: 14 | B35: 14:00-15:00 | C35: 939 | D35: 55 | E35: 7 | F35: 10 | G35: 1011 | H35: 1.6815035 | I35: 54
A36: 15 | B36: 15:00-16:00 | C36: 873 | D36: 47 | E36: 8 | F36: 10 | G36: 938 | H36: 1.9189765 | I36: 45
A37: 16 | B37: 16:00-17:00 | C37: 854 | D37: 57 | E37: 17 | F37: 10 | G37: 938 | H37: 2.8784648 | I37: 38
A38: 17 | B38: 17:00-18:00 | C38: 799 | D38: 53 | E38: 8 | F38: 9 | G38: 869 | H38: 1.9562716 | I38: 42
A39: 18 | B39: 18:00-19:00 | C39: 680 | D39: 48 | E39: 5 | F39: 14 | G39: 747 | H39: 2.5435074 | I39: 24
B40: 全時間合計 | C40: 9193 | D40: 606 | E40: 155 | F40: 126 | G40: 10080 | H40: 2.7876984 | I40: 481
B42: 方向 | C42: C
C43: 小型車 | E43: 大型車 | G43: 合計 | H43: 大型車混入率 | I43: 二輪車
B44: 種別 | C44: 乗用車 | D44: 小型貨物 | E44: 普通貨物 | F44: バス
B45: 時間帯 | C45: (台) | D45: (台) | E45: (台) | F45: (台) | G45: (台) | H45: (％) | I45: (台)
A46: 7 | B46: 7:00-8:00 | C46: 454 | D46: 56 | E46: 23 | F46: 1 | G46: 534 | H46: 4.494382 | I46: 50
A47: 8 | B47: 8:00-9:00 | C47: 640 | D47: 72 | E47: 27 | F47: 8 | G47: 747 | H47: 4.6854083 | I47: 68
A48: 9 | B48: 9:00-10:00 | C48: 798 | D48: 68 | E48: 32 | F48: 6 | G48: 904 | H48: 4.2035398 | I48: 99
A49: 10 | B49: 10:00-11:00 | C49: 880 | D49: 70 | E49: 19 | F49: 4 | G49: 973 | H49: 2.3638232 | I49: 79
A50: 11 | B50: 11:00-12:00 | C50: 955 | D50: 59 | E50: 23 | F50: 7 | G50: 1044 | H50: 2.8735632 | I50: 88
A51: 12 | B51: 12:00-13:00 | C51: 926 | D51: 54 | E51: 26 | F51: 6 | G51: 1012 | H51: 3.1620553 | I51: 92
A52: 13 | B52: 13:00-14:00 | C52: 989 | D52: 48 | E52: 27 | F52: 5 | G52: 1069 | H52: 2.9934518 | I52: 76
A53: 14 | B53: 14:00-15:00 | C53: 958 | D53: 61 | E53: 17 | F53: 5 | G53: 1041 | H53: 2.1133525 | I53: 75
A54: 15 | B54: 15:00-16:00 | C54: 1046 | D54: 57 | E54: 16 | F54: 7 | G54: 1126 | H54: 2.0426288 | I54: 81
A55: 16 | B55: 16:00-17:00 | C55: 1006 | D55: 71 | E55: 10 | F55: 5 | G55: 1092 | H55: 1.3736264 | I55: 77
A56: 17 | B56: 17:00-18:00 | C56: 960 | D56: 77 | E56: 13 | F56: 4 | G56: 1054 | H56: 1.6129032 | I56: 80
A57: 18 | B57: 18:00-19:00 | C57: 770 | D57: 55 | E57: 12 | F57: 6 | G57: 843 | H57: 2.1352313 | I57: 69
B58: 全時間合計 | C58: 10382 | D58: 748 | E58: 245 | F58: 64 | G58: 11439 | H58: 2.7012851 | I58: 934
B60: 方向 | C60: D
C61: 小型車 | E61: 大型車 | G61: 合計 | H61: 大型車混入率 | I61: 二輪車
B62: 種別 | C62: 乗用車 | D62: 小型貨物 | E62: 普通貨物 | F62: バス
B63: 時間帯 | C63: (台) | D63: (台) | E63: (台) | F63: (台) | G63: (台) | H63: (％) | I63: (台)
A64: 7 | B64: 7:00-8:00 | C64: 229 | D64: 21 | E64: 20 | F64: 5 | G64: 275 | H64: 9.0909091 | I64: 7
A65: 8 | B65: 8:00-9:00 | C65: 408 | D65: 42 | E65: 14 | F65: 7 | G65: 471 | H65: 4.4585987 | I65: 20
A66: 9 | B66: 9:00-10:00 | C66: 498 | D66: 31 | E66: 16 | F66: 5 | G66: 550 | H66: 3.8181818 | I66: 23
A67: 10 | B67: 10:00-11:00 | C67: 601 | D67: 44 | E67: 9 | F67: 5 | G67: 659 | H67: 2.124431 | I67: 36
A68: 11 | B68: 11:00-12:00 | C68: 602 | D68: 38 | E68: 4 | F68: 5 | G68: 649 | H68: 1.3867488 | I68: 29
A69: 12 | B69: 12:00-13:00 | C69: 581 | D69: 43 | E69: 6 | F69: 6 | G69: 636 | H69: 1.8867925 | I69: 33
A70: 13 | B70: 13:00-14:00 | C70: 578 | D70: 37 | E70: 13 | F70: 6 | G70: 634 | H70: 2.9968454 | I70: 27
A71: 14 | B71: 14:00-15:00 | C71: 641 | D71: 37 | E71: 2 | F71: 5 | G71: 685 | H71: 1.0218978 | I71: 34
A72: 15 | B72: 15:00-16:00 | C72: 609 | D72: 31 | E72: 6 | F72: 5 | G72: 651 | H72: 1.6897081 | I72: 25
A73: 16 | B73: 16:00-17:00 | C73: 625 | D73: 35 | E73: 11 | F73: 5 | G73: 676 | H73: 2.3668639 | I73: 26
A74: 17 | B74: 17:00-18:00 | C74: 549 | D74: 33 | E74: 3 | F74: 4 | G74: 589 | H74: 1.188455 | I74: 29
A75: 18 | B75: 18:00-19:00 | C75: 490 | D75: 24 | E75: 5 | F75: 8 | G75: 527 | H75: 2.4667932 | I75: 23
B76: 全時間合計 | C76: 6411 | D76: 416 | E76: 109 | F76: 66 | G76: 7002 | H76: 2.4992859 | I76: 312
B78: 方向 | C78: E
C79: 小型車 | E79: 大型車 | G79: 合計 | H79: 大型車混入率 | I79: 二輪車
B80: 種別 | C80: 乗用車 | D80: 小型貨物 | E80: 普通貨物 | F80: バス
B81: 時間帯 | C81: (台) | D81: (台) | E81: (台) | F81: (台) | G81: (台) | H81: (％) | I81: (台)
A82: 7 | B82: 7:00-8:00 | C82: =No8休日_流入計!C82+No8休日_流出計!C82 -> 0 | D82: =No8休日_流入計!D82+No8休日_流出計!D82 -> 0 | E82: =No8休日_流入計!E82+No8休日_流出計!E82 -> 0 | F82: =No8休日_流入計!F82+No8休日_流出計!F82 -> 0 | G82: =SUM(C82:F82) -> 0 | H82: =IF(F82+E82=0,"-",(F82+E82)/G82*100) -> - | I82: =No8休日_流入計!I82+No8休日_流出計!I82 -> 0
A83: 8 | B83: 8:00-9:00 | C83: =No8休日_流入計!C83+No8休日_流出計!C83 -> 0 | D83: =No8休日_流入計!D83+No8休日_流出計!D83 -> 0 | E83: =No8休日_流入計!E83+No8休日_流出計!E83 -> 0 | F83: =No8休日_流入計!F83+No8休日_流出計!F83 -> 0 | G83: =SUM(C83:F83) -> 0 | H83: =IF(F83+E83=0,"-",(F83+E83)/G83*100) -> - | I83: =No8休日_流入計!I83+No8休日_流出計!I83 -> 0
A84: 9 | B84: 9:00-10:00 | C84: =No8休日_流入計!C84+No8休日_流出計!C84 -> 0 | D84: =No8休日_流入計!D84+No8休日_流出計!D84 -> 0 | E84: =No8休日_流入計!E84+No8休日_流出計!E84 -> 0 | F84: =No8休日_流入計!F84+No8休日_流出計!F84 -> 0 | G84: =SUM(C84:F84) -> 0 | H84: =IF(F84+E84=0,"-",(F84+E84)/G84*100) -> - | I84: =No8休日_流入計!I84+No8休日_流出計!I84 -> 0
A85: 10 | B85: 10:00-11:00 | C85: =No8休日_流入計!C85+No8休日_流出計!C85 -> 0 | D85: =No8休日_流入計!D85+No8休日_流出計!D85 -> 0 | E85: =No8休日_流入計!E85+No8休日_流出計!E85 -> 0 | F85: =No8休日_流入計!F85+No8休日_流出計!F85 -> 0 | G85: =SUM(C85:F85) -> 0 | H85: =IF(F85+E85=0,"-",(F85+E85)/G85*100) -> - | I85: =No8休日_流入計!I85+No8休日_流出計!I85 -> 0
A86: 11 | B86: 11:00-12:00 | C86: =No8休日_流入計!C86+No8休日_流出計!C86 -> 0 | D86: =No8休日_流入計!D86+No8休日_流出計!D86 -> 0 | E86: =No8休日_流入計!E86+No8休日_流出計!E86 -> 0 | F86: =No8休日_流入計!F86+No8休日_流出計!F86 -> 0 | G86: =SUM(C86:F86) -> 0 | H86: =IF(F86+E86=0,"-",(F86+E86)/G86*100) -> - | I86: =No8休日_流入計!I86+No8休日_流出計!I86 -> 0
A87: 12 | B87: 12:00-13:00 | C87: =No8休日_流入計!C87+No8休日_流出計!C87 -> 0 | D87: =No8休日_流入計!D87+No8休日_流出計!D87 -> 0 | E87: =No8休日_流入計!E87+No8休日_流出計!E87 -> 0 | F87: =No8休日_流入計!F87+No8休日_流出計!F87 -> 0 | G87: =SUM(C87:F87) -> 0 | H87: =IF(F87+E87=0,"-",(F87+E87)/G87*100) -> - | I87: =No8休日_流入計!I87+No8休日_流出計!I87 -> 0
