Workbook

Sheet 運営維持管理経費の推移
A1: 運営維持管理経費の直近3年間の推移
A2: ※対象としている経費には、設備等の更新に係る費用などの臨時的な経費は計上しておらず、経常的な経費のみ計上しています。
A3: ※市職員の人件費は含めていません。
A4: 施設名 | B4: 令和5年度 | C4: 令和6年度 | D4: 令和7年度 | E4: 単位：円
A5: 市庁舎 | B5: =ROUNDUP(SUM(費用内訳_業務一覧!C3:C12),-5) -> 276600000 | C5: =ROUNDUP(SUM(費用内訳_業務一覧!D3:D12),-5) -> 316200000 | D5: =ROUNDUP(SUM(費用内訳_業務一覧!E3:E12),-5) -> 316200000
A6: 末広中央公園 | B6: =ROUNDUP(SUM(費用内訳_業務一覧!C13:C17),-5) -> 34300000 | C6: =ROUNDUP(SUM(費用内訳_業務一覧!D13:D17),-5) -> 34900000 | D6: =ROUNDUP(SUM(費用内訳_業務一覧!E13:E17),-5) -> 36400000
A7: 末広中央公園駐車場 | B7: =ROUNDUP(SUM(費用内訳_業務一覧!C18),-5) -> 3900000 | C7: =ROUNDUP(SUM(費用内訳_業務一覧!D18),-5) -> 4900000 | D7: =ROUNDUP(SUM(費用内訳_業務一覧!E18),-5) -> 4900000
A8: 武庫川河川敷緑地 | B8: =ROUNDUP(SUM(費用内訳_業務一覧!C19:C21),-5) -> 11300000 | C8: =ROUNDUP(SUM(費用内訳_業務一覧!D19:D21),-5) -> 11700000 | D8: =ROUNDUP(SUM(費用内訳_業務一覧!E19:E21),-5) -> 12100000
A9: 市役所前ひろば | B9: =ROUNDUP(SUM(費用内訳_業務一覧!C22:C23),-5) -> 6800000 | C9: =ROUNDUP(SUM(費用内訳_業務一覧!D22:D23),-5) -> 6200000 | D9: =ROUNDUP(SUM(費用内訳_業務一覧!E22:E23),-5) -> 6300000
A10: 市立スポーツセンター | B10: =ROUNDUP(SUM(費用内訳_業務一覧!C24:C28),-5) -> 90700000 | C10: =ROUNDUP(SUM(費用内訳_業務一覧!D24:D28),-5) -> 130900000 | D10: =ROUNDUP(SUM(費用内訳_業務一覧!E24:E28),-5) -> 127400000
A11: 末広体育館 | B11: =ROUNDUP(SUM(費用内訳_業務一覧!C29:C32),-5) -> 7600000 | C11: =ROUNDUP(SUM(費用内訳_業務一覧!D29:D32),-5) -> 10300000 | D11: =ROUNDUP(SUM(費用内訳_業務一覧!E29:E32),-5) -> 17000000
A12: 中央公民館 | B12: =ROUNDUP(SUM(費用内訳_業務一覧!C33:C35),-5) -> 47000000 | C12: =ROUNDUP(SUM(費用内訳_業務一覧!D33:D35),-5) -> 54000000 | D12: =ROUNDUP(SUM(費用内訳_業務一覧!E33:E35),-5) -> 54300000
A13: 東公民館 | B13: =ROUNDUP(SUM(費用内訳_業務一覧!C36:C38),-5) -> 74100000 | C13: =ROUNDUP(SUM(費用内訳_業務一覧!D36:D38),-5) -> 80600000 | D13: =ROUNDUP(SUM(費用内訳_業務一覧!E36:E38),-5) -> 81300000
A14: 西公民館 | B14: =ROUNDUP(SUM(費用内訳_業務一覧!C39:C42),-5) -> 69100000 | C14: =ROUNDUP(SUM(費用内訳_業務一覧!D39:D42),-5) -> 82800000 | D14: =ROUNDUP(SUM(費用内訳_業務一覧!E39:E42),-5) -> 79600000
A15: 教育総合センター | B15: =ROUNDUP(SUM(費用内訳_業務一覧!C43:C55),-5) -> 40100000 | C15: =ROUNDUP(SUM(費用内訳_業務一覧!D43:D55),-5) -> 40100000 | D15: =ROUNDUP(SUM(費用内訳_業務一覧!E43:E55),-5) -> 39000000
A16: 教育総合センター第1分室 | B16: =ROUNDUP(SUM(費用内訳_業務一覧!C56:C59),-5) -> 1300000 | C16: =ROUNDUP(SUM(費用内訳_業務一覧!D56:D59),-5) -> 1900000 | D16: =ROUNDUP(SUM(費用内訳_業務一覧!E56:E59),-5) -> 2200000
A17: 小中学校プール | B17: =ROUNDUP(SUM(費用内訳_業務一覧!C60:C63),-5) -> 34600000 | C17: =ROUNDUP(SUM(費用内訳_業務一覧!D60:D63),-5) -> 32300000 | D17: =ROUNDUP(SUM(費用内訳_業務一覧!E60:E63),-5) -> 34500000
A18: 合計 | B18: =SUM(B5:B17) -> 697400000 | C18: =SUM(C5:C17) -> 806800000 | D18: =SUM(D5:D17) -> 811200000

Sheet 費用内訳_業務一覧
A1: 費用内訳
A2: 施設名称 | B2: 業務名 | C2: 令和5年度の金額（円） | D2: 令和6年度の金額（円） | E2: 令和7年度の金額（円） | F2: 備考
A3: 市役所本庁舎・第二庁舎、ひろば、ロータリー、駐車場、駐輪場 | B3: 総合管理業務委託 | C3: 169834828 | D3: 198968088 | E3: 198968088
B4: 駐車場運営管理業務 | C4: 5742000 | D4: 6291780 | E4: 6511560
B5: 建築基準法12条第2項点検（本庁舎） | C5: 0 | D5: 0 | E5: 1144000
B6: 建築基準法12条第4項点検（本庁舎） | C6: 0 | D6: 2035000 | E6: 2035000
B7: 建築基準法12条第2項点検（第二庁舎） | C7: 0 | D7: 0 | E7: 0
B8: 建築基準法12条第4項点検（第二庁舎） | C8: 0 | D8: 852500 | E8: 852500
B9: 施設修繕、物品修繕 | C9: 10483000 | D9: 10628216 | E9: 10967721
B10: 備品購入、消耗品 | C10: 3365517 | D10: 3007630 | E10: 2792265
B11: 電話代等（役務費） | C11: 21357460 | D11: 22614971 | E11: 21770925
B12: 光熱水費 | C12: 65774864 | D12: 71706906 | E12: 71146531
A13: 末広中央公園 | B13: 末広中央公園維持管理業務 | C13: 16450500 | D13: 17160000 | E13: 17160000
B14: 末広中央公園電気機械施設維持管理業務 | C14: 12045000 | D14: 12320000 | E14: 10450000
B15: 遊戯施設等定期点検業務 | C15: 0 | D15: 219044.41 | E15: 230000
B16: 施設修繕、物品修繕 | C16: 3301189 | D16: 2618810 | E16: 5809681
B17: 光熱水費 | C17: 2407252 | D17: 2493715 | E17: 2688353
A18: 末広中央公園駐車場 | B18: 末広中央公園駐車場運営管理業務 | C18: 3821000 | D18: 4818000 | E18: 4818000
A19: 武庫川河川敷緑地 | B19: 武庫川河川敷緑地維持管理業務 | C19: 11059686 | D19: 11555200 | E19: 11974657
B20: 施設修繕、物品修繕 | C20: 93500 | D20: 29700 | E20: 0
B21: 光熱水費 | C21: 101416 | D21: 91092 | E21: 93184
A22: 市役所前ひろば | B22: 市役所前ひろば維持管理業務 | C22: 6614520 | D22: 5995440 | E22: 6124800
B23: 光熱水費 | C23: 134948 | D23: 139466 | E23: 163746
A24: 市立スポーツセンター | B24: 指定管理業務（面積案分） | C24: 76470422 | D24: 1.0463441e+08 | E24: 1.1039319e+08
B25: 施設修繕、物品修繕 | C25: 2348500 | D25: 3663000 | E25: 902000
B26: 備品購入、消耗品 | C26: 1001953.2 | D26: 6311998 | E26: 7125822.3
B27: 委託料（ESCO） | C27: 10593760 | D27: 10593760 | E27: 0
B28: 賃借料（LED） | C28: 211657.81 | D28: 5634138.4 | E28: 8891433.4
A29: 末広体育館 | B29: 指定管理業務（面積案分） | C29: 7434499.8 | D29: 10189063 | E29: 10752298
B30: 施設修繕、物品修繕 | C30: 0 | D30: 0 | E30: 0
B31: 備品購入、消耗品 | C31: 53347.753 | D31: 0 | E31: 601722.33
B32: 賃借料（LED） | C32: 20701.075 | D32: 22847.649 | E32: 5617833.4
A33: 中央公民館 | B33: 指定管理業務（面積案分） | C33: 46979027 | D33: 53768664 | E33: 54262661
B34: 施設修繕、物品修繕 | C34: 0 | D34: 157300 | E34: 0
B35: 備品購入、消耗品 | C35: 0 | D35: 0 | E35: 0
A36: 東公民館 | B36: 指定管理業務（面積案分） | C36: 69773228 | D36: 79857192 | E36: 80590877
B37: 施設修繕、物品修繕 | C37: 1023000 | D37: 654500 | E37: 647757
B38: 備品購入、消耗品 | C38: 3204199 | D38: 0 | E38: 0
A39: 西公民館 | B39: 指定管理業務（面積案分） | C39: 66219745 | D39: 75790144 | E39: 76486462
B40: 施設修繕、物品修繕 | C40: 0 | D40: 599500 | E40: 275000
...
